| Back to Multiple platform build/check report for BioC 3.19: simplified long | 
 | 
This page was generated on 2024-06-11 14:42 -0400 (Tue, 11 Jun 2024).
| Hostname | OS | Arch (*) | R version | Installed pkgs | 
|---|---|---|---|---|
| nebbiolo1 | Linux (Ubuntu 22.04.3 LTS) | x86_64 | 4.4.0 (2024-04-24) -- "Puppy Cup" | 4757 | 
| palomino3 | Windows Server 2022 Datacenter | x64 | 4.4.0 (2024-04-24 ucrt) -- "Puppy Cup" | 4491 | 
| lconway | macOS 12.7.1 Monterey | x86_64 | 4.4.0 (2024-04-24) -- "Puppy Cup" | 4522 | 
| kjohnson3 | macOS 13.6.5 Ventura | arm64 | 4.4.0 (2024-04-24) -- "Puppy Cup" | 4468 | 
| Click on any hostname to see more info about the system (e.g. compilers) (*) as reported by 'uname -p', except on Windows and Mac OS X | ||||
| Package 702/2300 | Hostname | OS / Arch | INSTALL | BUILD | CHECK | BUILD BIN | ||||||||
| Djork-Arne Clevert 
 | nebbiolo1 | Linux (Ubuntu 22.04.3 LTS) / x86_64 | OK | OK | ERROR | |||||||||
| palomino3 | Windows Server 2022 Datacenter / x64 | OK | OK | OK | OK |  | ||||||||
| lconway | macOS 12.7.1 Monterey / x86_64 | OK | OK | OK | OK |  | ||||||||
| kjohnson3 | macOS 13.6.5 Ventura / arm64 | OK | OK | OK | OK |  | ||||||||
| To the developers/maintainers of the farms package: - Allow up to 24 hours (and sometimes 48 hours) for your latest push to git@git.bioconductor.org:packages/farms.git to reflect on this report. See Troubleshooting Build Report for more information. - Use the following Renviron settings to reproduce errors and warnings. - If 'R CMD check' started to fail recently on the Linux builder(s) over a missing dependency, add the missing dependency to 'Suggests:' in your DESCRIPTION file. See Renviron.bioc for more information. | 
| Package: farms | 
| Version: 1.56.0 | 
| Command: /Library/Frameworks/R.framework/Resources/bin/R CMD check --install=check:farms.install-out.txt --library=/Library/Frameworks/R.framework/Resources/library --no-vignettes --timings farms_1.56.0.tar.gz | 
| StartedAt: 2024-06-09 20:20:43 -0400 (Sun, 09 Jun 2024) | 
| EndedAt: 2024-06-09 20:21:27 -0400 (Sun, 09 Jun 2024) | 
| EllapsedTime: 44.0 seconds | 
| RetCode: 0 | 
| Status: OK | 
| CheckDir: farms.Rcheck | 
| Warnings: 0 | 
##############################################################################
##############################################################################
###
### Running command:
###
###   /Library/Frameworks/R.framework/Resources/bin/R CMD check --install=check:farms.install-out.txt --library=/Library/Frameworks/R.framework/Resources/library --no-vignettes --timings farms_1.56.0.tar.gz
###
##############################################################################
##############################################################################
* using log directory ‘/Users/biocbuild/bbs-3.19-bioc/meat/farms.Rcheck’
* using R version 4.4.0 (2024-04-24)
* using platform: x86_64-apple-darwin20
* R was compiled by
    Apple clang version 14.0.0 (clang-1400.0.29.202)
    GNU Fortran (GCC) 12.2.0
* running under: macOS Monterey 12.7.1
* using session charset: UTF-8
* using option ‘--no-vignettes’
* checking for file ‘farms/DESCRIPTION’ ... OK
* checking extension type ... Package
* this is package ‘farms’ version ‘1.56.0’
* checking package namespace information ... NOTE
  Namespace with empty importFrom: ‘methods’
* checking package dependencies ... OK
* checking if this is a source package ... OK
* checking if there is a namespace ... OK
* checking for hidden files and directories ... OK
* checking for portable file names ... OK
* checking for sufficient/correct file permissions ... OK
* checking whether package ‘farms’ can be installed ... OK
* checking installed package size ... OK
* checking package directory ... OK
* checking ‘build’ directory ... OK
* checking DESCRIPTION meta-information ... NOTE
Malformed Description field: should contain one or more complete sentences.
Packages listed in more than one of Depends, Imports, Suggests, Enhances:
  ‘affy’ ‘MASS’ ‘methods’ ‘Biobase’
A package should be listed in only one of these fields.
* checking top-level files ... OK
* checking for left-over files ... OK
* checking index information ... OK
* checking package subdirectories ... OK
* checking code files for non-ASCII characters ... OK
* checking R files for syntax errors ... OK
* checking whether the package can be loaded ... OK
* checking whether the package can be loaded with stated dependencies ... OK
* checking whether the package can be unloaded cleanly ... OK
* checking whether the namespace can be loaded with stated dependencies ... OK
* checking whether the namespace can be unloaded cleanly ... OK
* checking whether startup messages can be suppressed ... OK
* checking dependencies in R code ... NOTE
'library' or 'require' calls to packages already attached by Depends:
  ‘affy’ ‘methods’
  Please remove these calls from your code.
'library' or 'require' calls in package code:
  ‘Biobase’ ‘utils’
  Please use :: or requireNamespace() instead.
  See section 'Suggested packages' in the 'Writing R Extensions' manual.
Namespaces in Imports field not imported from:
  ‘Biobase’ ‘MASS’
  All declared Imports should be used.
Package in Depends field not imported from: ‘MASS’
  These packages need to be imported from (in the NAMESPACE file)
  for when this namespace is loaded but not attached.
* checking S3 generic/method consistency ... OK
* checking replacement functions ... OK
* checking foreign function calls ... OK
* checking R code for possible problems ... NOTE
File ‘farms/R/zzz.R’:
  .onLoad calls:
    require("methods", quietly = TRUE)
    packageStartupMessage(" _                             ", "\n",     "| |                            ", "\n", "| |  __,   ,_    _  _  _    ,  ",     "\n", "|/  /  |  /  |  / |/ |/ |  / \\_", "\n", "|__/\\_/|_/   |_/  |  |  |_/ \\/ ",     "\n", "|\\                             ", "\n", "|/   ",     "\n")
    require(utils)
    require(Biobase, quietly = TRUE)
    require(affy, quietly = TRUE)
    packageStartupMessage("Citation: S. Hochreiter et al.,", "\n",     "A new summarization method for affymetrix probe level data,",     "\n", "Bioinformatics, 22, 8, 943-949, 2006", "\n", "\n",     "Citation: W. Talloen et al.,", "\n", "I/NI-calls for the exclusion of non-informative genes: a highly effective filtering tool for microarray data,",     "\n", "Bioinformatics, 23, 21, 2897-2902, 2007", "\n", "BibTex: enter 'toBibtex(citation(\"farms\"))'",     "\n\n", "Homepage: http://www.bioinf.jku.at/software/farms/farms.html",     "\n\n", "FARMS Package Version ", version, "\n")
    packageStartupMessage("\n", "Changes in FARMS:", "\n", "For all changes previous to 1.3.0, see the farms vignette.",     "\n", "Version 1.3.0: Added I/NI-calls for filtering", "\n",     "               Adjusted Hyperparameters for alternative CDFs,",     "\n", "               probes set standardized, weighted mean",     "\n", "               Works now with R >= 2.8 and Bioconductor 2.3,",     "\n", "               Changed termination criterion, initialization values,",     "\n", "               factors and loadings scaled, added argument robust",     "\n", "               Update for R-2.11", "\n", "               Updated I/NI-Call for Laplace-FARMS version,",     "\n", "               Maximum likelihood correlation structure given",     "\n", "               non-negative constraints", "\n", "Version 1.4.0: Default centering changed to median",     "\n", "Version 1.8.x: Suppression of spurious correlation (Laplace-FARMS)",     "\n")
Package startup functions should not change the search path.
See section ‘Good practice’ in '?.onAttach'.
plot,INI_Calls-missing: no visible global function definition for
  ‘truehist’
Undefined global functions or variables:
  truehist
* checking Rd files ... OK
* checking Rd metadata ... OK
* checking Rd cross-references ... OK
* checking for missing documentation entries ... OK
* checking for code/documentation mismatches ... OK
* checking Rd \usage sections ... OK
* checking Rd contents ... OK
* checking for unstated dependencies in examples ... OK
* checking contents of ‘data’ directory ... OK
* checking data for non-ASCII characters ... OK
* checking data for ASCII and uncompressed saves ... OK
* checking sizes of PDF files under ‘inst/doc’ ... OK
* checking files in ‘vignettes’ ... OK
* checking examples ... OK
* checking for unstated dependencies in vignettes ... OK
* checking package vignettes ... OK
* checking running R code from vignettes ... SKIPPED
* checking re-building of vignette outputs ... SKIPPED
* checking PDF version of manual ... OK
* DONE
Status: 4 NOTEs
See
  ‘/Users/biocbuild/bbs-3.19-bioc/meat/farms.Rcheck/00check.log’
for details.
farms.Rcheck/00install.out
############################################################################## ############################################################################## ### ### Running command: ### ### /Library/Frameworks/R.framework/Resources/bin/R CMD INSTALL farms ### ############################################################################## ############################################################################## * installing to library ‘/Library/Frameworks/R.framework/Versions/4.4-x86_64/Resources/library’ * installing *source* package ‘farms’ ... ** using staged installation ** R ** data ** inst ** byte-compile and prepare package for lazy loading ** help *** installing help indices ** building package indices ** installing vignettes ** testing if installed package can be loaded from temporary location Warning in fun(libname, pkgname) : Package 'farms' is deprecated and will be removed from Bioconductor version 3.20 ** testing if installed package can be loaded from final location Warning in fun(libname, pkgname) : Package 'farms' is deprecated and will be removed from Bioconductor version 3.20 ** testing if installed package keeps a record of temporary installation path * DONE (farms)
farms.Rcheck/farms-Ex.timings
| name | user | system | elapsed | |
| INI_Calls-class | 0.121 | 0.018 | 0.139 | |
| INIcalls-methods | 0.173 | 0.004 | 0.178 | |
| expFarms | 0.024 | 0.002 | 0.026 | |
| generateExprVal.method.farms | 0.003 | 0.002 | 0.006 | |
| getI_Eset-methods | 0.043 | 0.003 | 0.047 | |
| getI_ProbeSets-methods | 0.039 | 0.003 | 0.041 | |
| getNI_Eset-methods | 0.043 | 0.004 | 0.048 | |
| getNI_ProbeSets-methods | 0.036 | 0.003 | 0.039 | |
| lFarms | 0.039 | 0.003 | 0.042 | |
| plot-methods | 0.042 | 0.003 | 0.045 | |
| qFarms | 0.020 | 0.001 | 0.021 | |
| summary-methods | 0.038 | 0.003 | 0.041 | |