| Back to Multiple platform build/check report for BioC 3.19: simplified long |
|
This page was generated on 2024-06-11 14:42 -0400 (Tue, 11 Jun 2024).
| Hostname | OS | Arch (*) | R version | Installed pkgs |
|---|---|---|---|---|
| nebbiolo1 | Linux (Ubuntu 22.04.3 LTS) | x86_64 | 4.4.0 (2024-04-24) -- "Puppy Cup" | 4757 |
| palomino3 | Windows Server 2022 Datacenter | x64 | 4.4.0 (2024-04-24 ucrt) -- "Puppy Cup" | 4491 |
| lconway | macOS 12.7.1 Monterey | x86_64 | 4.4.0 (2024-04-24) -- "Puppy Cup" | 4522 |
| kjohnson3 | macOS 13.6.5 Ventura | arm64 | 4.4.0 (2024-04-24) -- "Puppy Cup" | 4468 |
| Click on any hostname to see more info about the system (e.g. compilers) (*) as reported by 'uname -p', except on Windows and Mac OS X | ||||
| Package 695/2300 | Hostname | OS / Arch | INSTALL | BUILD | CHECK | BUILD BIN | ||||||||
| extraChIPs 1.8.1 (landing page) Stevie Pederson
| nebbiolo1 | Linux (Ubuntu 22.04.3 LTS) / x86_64 | OK | OK | OK | |||||||||
| palomino3 | Windows Server 2022 Datacenter / x64 | OK | OK | OK | OK | |||||||||
| lconway | macOS 12.7.1 Monterey / x86_64 | OK | OK | OK | OK | |||||||||
| kjohnson3 | macOS 13.6.5 Ventura / arm64 | OK | OK | OK | OK | |||||||||
|
To the developers/maintainers of the extraChIPs package: - Allow up to 24 hours (and sometimes 48 hours) for your latest push to git@git.bioconductor.org:packages/extraChIPs.git to reflect on this report. See Troubleshooting Build Report for more information. - Use the following Renviron settings to reproduce errors and warnings. - If 'R CMD check' started to fail recently on the Linux builder(s) over a missing dependency, add the missing dependency to 'Suggests:' in your DESCRIPTION file. See Renviron.bioc for more information. |
| Package: extraChIPs |
| Version: 1.8.1 |
| Command: /Library/Frameworks/R.framework/Resources/bin/R CMD check --install=check:extraChIPs.install-out.txt --library=/Library/Frameworks/R.framework/Resources/library --no-vignettes --timings extraChIPs_1.8.1.tar.gz |
| StartedAt: 2024-06-09 20:19:42 -0400 (Sun, 09 Jun 2024) |
| EndedAt: 2024-06-09 20:28:49 -0400 (Sun, 09 Jun 2024) |
| EllapsedTime: 547.1 seconds |
| RetCode: 0 |
| Status: OK |
| CheckDir: extraChIPs.Rcheck |
| Warnings: 0 |
##############################################################################
##############################################################################
###
### Running command:
###
### /Library/Frameworks/R.framework/Resources/bin/R CMD check --install=check:extraChIPs.install-out.txt --library=/Library/Frameworks/R.framework/Resources/library --no-vignettes --timings extraChIPs_1.8.1.tar.gz
###
##############################################################################
##############################################################################
* using log directory ‘/Users/biocbuild/bbs-3.19-bioc/meat/extraChIPs.Rcheck’
* using R version 4.4.0 (2024-04-24)
* using platform: x86_64-apple-darwin20
* R was compiled by
Apple clang version 14.0.0 (clang-1400.0.29.202)
GNU Fortran (GCC) 12.2.0
* running under: macOS Monterey 12.7.1
* using session charset: UTF-8
* using option ‘--no-vignettes’
* checking for file ‘extraChIPs/DESCRIPTION’ ... OK
* this is package ‘extraChIPs’ version ‘1.8.1’
* package encoding: UTF-8
* checking package namespace information ... OK
* checking package dependencies ... NOTE
Depends: includes the non-default packages:
'BiocParallel', 'GenomicRanges', 'ggplot2', 'ggside',
'SummarizedExperiment', 'tibble'
Adding so many packages to the search path is excessive and importing
selectively is preferable.
* checking if this is a source package ... OK
* checking if there is a namespace ... OK
* checking for hidden files and directories ... NOTE
Found the following hidden files and directories:
.BBSoptions
These were most likely included in error. See section ‘Package
structure’ in the ‘Writing R Extensions’ manual.
* checking for portable file names ... OK
* checking for sufficient/correct file permissions ... OK
* checking whether package ‘extraChIPs’ can be installed ... OK
* used C compiler: ‘Apple clang version 14.0.0 (clang-1400.0.29.202)’
* used SDK: ‘MacOSX11.3.sdk’
* checking installed package size ... OK
* checking package directory ... OK
* checking ‘build’ directory ... OK
* checking DESCRIPTION meta-information ... OK
* checking top-level files ... OK
* checking for left-over files ... OK
* checking index information ... OK
* checking package subdirectories ... OK
* checking code files for non-ASCII characters ... OK
* checking R files for syntax errors ... OK
* checking whether the package can be loaded ... OK
* checking whether the package can be loaded with stated dependencies ... OK
* checking whether the package can be unloaded cleanly ... OK
* checking whether the namespace can be loaded with stated dependencies ... OK
* checking whether the namespace can be unloaded cleanly ... OK
* checking dependencies in R code ... OK
* checking S3 generic/method consistency ... OK
* checking replacement functions ... OK
* checking foreign function calls ... OK
* checking R code for possible problems ... OK
* checking Rd files ... OK
* checking Rd metadata ... OK
* checking Rd cross-references ... OK
* checking for missing documentation entries ... OK
* checking for code/documentation mismatches ... OK
* checking Rd \usage sections ... OK
* checking Rd contents ... OK
* checking for unstated dependencies in examples ... OK
* checking contents of ‘data’ directory ... OK
* checking data for non-ASCII characters ... OK
* checking data for ASCII and uncompressed saves ... OK
* checking line endings in C/C++/Fortran sources/headers ... OK
* checking compiled code ... NOTE
Note: information on .o files is not available
* checking files in ‘vignettes’ ... OK
* checking examples ... OK
* checking for unstated dependencies in ‘tests’ ... OK
* checking tests ...
Running ‘testthat.R’
OK
* checking for unstated dependencies in vignettes ... OK
* checking package vignettes ... OK
* checking running R code from vignettes ... SKIPPED
* checking re-building of vignette outputs ... SKIPPED
* checking PDF version of manual ... OK
* DONE
Status: 3 NOTEs
See
‘/Users/biocbuild/bbs-3.19-bioc/meat/extraChIPs.Rcheck/00check.log’
for details.
extraChIPs.Rcheck/00install.out
############################################################################## ############################################################################## ### ### Running command: ### ### /Library/Frameworks/R.framework/Resources/bin/R CMD INSTALL extraChIPs ### ############################################################################## ############################################################################## * installing to library ‘/Library/Frameworks/R.framework/Versions/4.4-x86_64/Resources/library’ * installing *source* package ‘extraChIPs’ ... ** using staged installation ** libs using C compiler: ‘Apple clang version 14.0.0 (clang-1400.0.29.202)’ using SDK: ‘MacOSX11.3.sdk’ clang -arch x86_64 -I"/Library/Frameworks/R.framework/Resources/include" -DNDEBUG -I/opt/R/x86_64/include -fPIC -falign-functions=64 -Wall -g -O2 -c FMStable.c -o FMStable.o clang -arch x86_64 -I"/Library/Frameworks/R.framework/Resources/include" -DNDEBUG -I/opt/R/x86_64/include -fPIC -falign-functions=64 -Wall -g -O2 -c init.c -o init.o clang -arch x86_64 -dynamiclib -Wl,-headerpad_max_install_names -undefined dynamic_lookup -L/Library/Frameworks/R.framework/Resources/lib -L/opt/R/x86_64/lib -o extraChIPs.so FMStable.o init.o -F/Library/Frameworks/R.framework/.. -framework R -Wl,-framework -Wl,CoreFoundation installing to /Library/Frameworks/R.framework/Versions/4.4-x86_64/Resources/library/00LOCK-extraChIPs/00new/extraChIPs/libs ** R ** data ** inst ** byte-compile and prepare package for lazy loading ** help *** installing help indices *** copying figures ** building package indices ** installing vignettes ** testing if installed package can be loaded from temporary location ** checking absolute paths in shared objects and dynamic libraries ** testing if installed package can be loaded from final location ** testing if installed package keeps a record of temporary installation path * DONE (extraChIPs)
extraChIPs.Rcheck/tests/testthat.Rout
R version 4.4.0 (2024-04-24) -- "Puppy Cup"
Copyright (C) 2024 The R Foundation for Statistical Computing
Platform: x86_64-apple-darwin20
R is free software and comes with ABSOLUTELY NO WARRANTY.
You are welcome to redistribute it under certain conditions.
Type 'license()' or 'licence()' for distribution details.
R is a collaborative project with many contributors.
Type 'contributors()' for more information and
'citation()' on how to cite R or R packages in publications.
Type 'demo()' for some demos, 'help()' for on-line help, or
'help.start()' for an HTML browser interface to help.
Type 'q()' to quit R.
> library(testthat)
> library(extraChIPs)
Loading required package: BiocParallel
Loading required package: GenomicRanges
Loading required package: stats4
Loading required package: BiocGenerics
Attaching package: 'BiocGenerics'
The following objects are masked from 'package:stats':
IQR, mad, sd, var, xtabs
The following objects are masked from 'package:base':
Filter, Find, Map, Position, Reduce, anyDuplicated, aperm, append,
as.data.frame, basename, cbind, colnames, dirname, do.call,
duplicated, eval, evalq, get, grep, grepl, intersect, is.unsorted,
lapply, mapply, match, mget, order, paste, pmax, pmax.int, pmin,
pmin.int, rank, rbind, rownames, sapply, setdiff, table, tapply,
union, unique, unsplit, which.max, which.min
Loading required package: S4Vectors
Attaching package: 'S4Vectors'
The following object is masked from 'package:utils':
findMatches
The following objects are masked from 'package:base':
I, expand.grid, unname
Loading required package: IRanges
Loading required package: GenomeInfoDb
Loading required package: ggplot2
Loading required package: ggside
Loading required package: SummarizedExperiment
Loading required package: MatrixGenerics
Loading required package: matrixStats
Attaching package: 'MatrixGenerics'
The following objects are masked from 'package:matrixStats':
colAlls, colAnyNAs, colAnys, colAvgsPerRowSet, colCollapse,
colCounts, colCummaxs, colCummins, colCumprods, colCumsums,
colDiffs, colIQRDiffs, colIQRs, colLogSumExps, colMadDiffs,
colMads, colMaxs, colMeans2, colMedians, colMins, colOrderStats,
colProds, colQuantiles, colRanges, colRanks, colSdDiffs, colSds,
colSums2, colTabulates, colVarDiffs, colVars, colWeightedMads,
colWeightedMeans, colWeightedMedians, colWeightedSds,
colWeightedVars, rowAlls, rowAnyNAs, rowAnys, rowAvgsPerColSet,
rowCollapse, rowCounts, rowCummaxs, rowCummins, rowCumprods,
rowCumsums, rowDiffs, rowIQRDiffs, rowIQRs, rowLogSumExps,
rowMadDiffs, rowMads, rowMaxs, rowMeans2, rowMedians, rowMins,
rowOrderStats, rowProds, rowQuantiles, rowRanges, rowRanks,
rowSdDiffs, rowSds, rowSums2, rowTabulates, rowVarDiffs, rowVars,
rowWeightedMads, rowWeightedMeans, rowWeightedMedians,
rowWeightedSds, rowWeightedVars
Loading required package: Biobase
Welcome to Bioconductor
Vignettes contain introductory material; view with
'browseVignettes()'. To cite Bioconductor, see
'citation("Biobase")', and for packages 'citation("pkgname")'.
Attaching package: 'Biobase'
The following object is masked from 'package:MatrixGenerics':
rowMedians
The following objects are masked from 'package:matrixStats':
anyMissing, rowMedians
Loading required package: tibble
>
> test_check("extraChIPs")
Creating DESeqDataSet...
converting counts to integer mode
Calculating none normalisation factors...
Estimating dispersions using fitType = local...
gene-wise dispersion estimates
mean-dispersion relationship
final dispersion estimates
Creating DGE list...
Calculating experiment-wide normalisation factors...
Estimating dispersions...
Running glmQLFit...
Creating DGE list...
Calculating experiment-wide normalisation factors...
Estimating dispersions...
Running glmQLFit...
[ FAIL 0 | WARN 0 | SKIP 0 | PASS 581 ]
>
> proc.time()
user system elapsed
81.591 2.430 84.395
extraChIPs.Rcheck/extraChIPs-Ex.timings
| name | user | system | elapsed | |
| addDiffStatus-methods | 0.263 | 0.004 | 0.268 | |
| as_tibble | 1.702 | 0.013 | 1.719 | |
| bestOverlap-methods | 1.038 | 0.048 | 1.089 | |
| chopMC | 0.200 | 0.021 | 0.221 | |
| colToRanges-methods | 0.252 | 0.021 | 0.274 | |
| collapseGenes | 0.003 | 0.000 | 0.003 | |
| cytobands | 0.015 | 0.006 | 0.022 | |
| defineRegions | 4.200 | 0.026 | 4.237 | |
| defineSeqinfo | 0.009 | 0.002 | 0.011 | |
| distinctMC | 0.340 | 0.002 | 0.343 | |
| dualFilter | 0 | 0 | 0 | |
| ex_datasets | 0.019 | 0.004 | 0.023 | |
| fitAssayDiff-methods | 0.256 | 0.010 | 0.267 | |
| fixed_width_datasets | 0.044 | 0.004 | 0.047 | |
| getProfileData-methods | 1.950 | 0.062 | 2.024 | |
| grlToSE-methods | 0.522 | 0.005 | 0.529 | |
| importPeaks | 0.144 | 0.003 | 0.148 | |
| makeConsensus | 0.911 | 0.032 | 0.943 | |
| mapByFeature | 0.694 | 0.004 | 0.699 | |
| mapGrlCols | 1.628 | 0.008 | 1.639 | |
| mergeByCol-methods | 0.278 | 0.002 | 0.279 | |
| mergeByHMP-methods | 0.473 | 0.004 | 0.478 | |
| mergeBySig-methods | 0.413 | 0.006 | 0.421 | |
| partitionRanges-methods | 1.213 | 0.007 | 1.222 | |
| plotAssayDensities-methods | 1.072 | 0.019 | 1.095 | |
| plotAssayHeatmap-methods | 0.393 | 0.005 | 0.399 | |
| plotAssayPCA-methods | 0.834 | 0.011 | 0.850 | |
| plotAssayRle-methods | 0.916 | 0.008 | 0.949 | |
| plotGrlCol | 1.588 | 0.015 | 1.606 | |
| plotHFGC | 0.000 | 0.001 | 0.000 | |
| plotOverlaps-methods | 3.388 | 0.032 | 3.431 | |
| plotPairwise | 2.978 | 0.019 | 3.000 | |
| plotPie-methods | 1.587 | 0.018 | 1.610 | |
| plotProfileHeatmap-methods | 0 | 0 | 0 | |
| plotSplitDonut-methods | 1.367 | 0.008 | 1.378 | |
| propOverlap-methods | 0.285 | 0.001 | 0.286 | |
| reduceMC | 0.298 | 0.001 | 0.299 | |
| setoptsMC-methods | 0.960 | 0.003 | 0.963 | |
| stitchRanges | 0.302 | 0.001 | 0.304 | |
| voomWeightsFromCPM | 0.282 | 0.009 | 0.294 | |