| Back to Multiple platform build/check report for BioC 3.19: simplified long |
|
This page was generated on 2024-05-09 11:40:48 -0400 (Thu, 09 May 2024).
| Hostname | OS | Arch (*) | R version | Installed pkgs |
|---|---|---|---|---|
| nebbiolo1 | Linux (Ubuntu 22.04.3 LTS) | x86_64 | 4.4.0 (2024-04-24) -- "Puppy Cup" | 4748 |
| palomino3 | Windows Server 2022 Datacenter | x64 | 4.4.0 (2024-04-24 ucrt) -- "Puppy Cup" | 4484 |
| lconway | macOS 12.7.1 Monterey | x86_64 | 4.4.0 (2024-04-24) -- "Puppy Cup" | 4514 |
| kunpeng2 | Linux (openEuler 22.03 LTS-SP1) | aarch64 | 4.4.0 beta (2024-04-15 r86425) -- "Puppy Cup" | 4480 |
| Click on any hostname to see more info about the system (e.g. compilers) (*) as reported by 'uname -p', except on Windows and Mac OS X | ||||
| Package 666/2300 | Hostname | OS / Arch | INSTALL | BUILD | CHECK | BUILD BIN | ||||||||
| epiregulon 1.0.0 (landing page) Xiaosai Yao
| nebbiolo1 | Linux (Ubuntu 22.04.3 LTS) / x86_64 | OK | OK | OK | |||||||||
| palomino3 | Windows Server 2022 Datacenter / x64 | OK | OK | OK | OK | |||||||||
| lconway | macOS 12.7.1 Monterey / x86_64 | OK | OK | OK | OK | |||||||||
| kunpeng2 | Linux (openEuler 22.03 LTS-SP1) / aarch64 | OK | OK | OK | ||||||||||
| kjohnson3 | macOS 13.6.5 Ventura / arm64 | see weekly results here | ||||||||||||
|
To the developers/maintainers of the epiregulon package: - Allow up to 24 hours (and sometimes 48 hours) for your latest push to git@git.bioconductor.org:packages/epiregulon.git to reflect on this report. See Troubleshooting Build Report for more information. - Use the following Renviron settings to reproduce errors and warnings. - If 'R CMD check' started to fail recently on the Linux builder(s) over a missing dependency, add the missing dependency to 'Suggests:' in your DESCRIPTION file. See Renviron.bioc for more information. - See Martin Grigorov's blog post for how to debug Linux ARM64 related issues on a x86_64 host. |
| Package: epiregulon |
| Version: 1.0.0 |
| Command: /home/biocbuild/R/R-beta-2024-04-15_r86425/bin/R CMD INSTALL epiregulon |
| StartedAt: 2024-05-08 21:00:51 -0000 (Wed, 08 May 2024) |
| EndedAt: 2024-05-08 21:02:01 -0000 (Wed, 08 May 2024) |
| EllapsedTime: 69.9 seconds |
| RetCode: 0 |
| Status: OK |
##############################################################################
##############################################################################
###
### Running command:
###
### /home/biocbuild/R/R-beta-2024-04-15_r86425/bin/R CMD INSTALL epiregulon
###
##############################################################################
##############################################################################
* installing to library ‘/home/biocbuild/R/R-beta-2024-04-15_r86425/site-library’
* installing *source* package ‘epiregulon’ ...
** using staged installation
** libs
using C compiler: ‘gcc (GCC) 10.3.1’
using C++ compiler: ‘g++ (GCC) 10.3.1’
g++ -std=gnu++17 -I"/home/biocbuild/R/R-beta-2024-04-15_r86425/include" -DNDEBUG -I'/home/biocbuild/R/R-beta-2024-04-15_r86425/site-library/Rcpp/include' -I'/home/biocbuild/R/R-beta-2024-04-15_r86425/site-library/beachmat/include' -I/usr/local/include -fPIC -g -O2 -Wall -c RcppExports.cpp -o RcppExports.o
g++ -std=gnu++17 -I"/home/biocbuild/R/R-beta-2024-04-15_r86425/include" -DNDEBUG -I'/home/biocbuild/R/R-beta-2024-04-15_r86425/site-library/Rcpp/include' -I'/home/biocbuild/R/R-beta-2024-04-15_r86425/site-library/beachmat/include' -I/usr/local/include -fPIC -g -O2 -Wall -c aggregate_across_cells.cpp -o aggregate_across_cells.o
aggregate_across_cells.cpp: In function ‘SEXPREC* aggregate_across_cells(SEXP, Rcpp::List, int)’:
aggregate_across_cells.cpp:19:26: warning: comparison of integer expressions of different signedness: ‘R_xlen_t’ {aka ‘long int’} and ‘size_t’ {aka ‘long unsigned int’} [-Wsign-compare]
19 | if (groups[g].size() != NC) {
| ~~~~~~~~~~~~~~~~~^~~~~
In file included from aggregate_across_cells.cpp:2:
AggregateAcrossCells.h: In instantiation of ‘void scran::AggregateAcrossCells::compute_row(Index_, Index_, const Contents_&, const Factor_*, std::vector<InputIndex_>&, std::vector<Sum_*>&, std::vector<Detected_>&, std::vector<Detected_*>&) [with bool sparse_ = true; Index_ = int; Contents_ = tatami::SparseRange<double, int>; Factor_ = int; Sum_ = double; Detected_ = int]’:
AggregateAcrossCells.h:150:30: required from ‘void scran::AggregateAcrossCells::compute(const tatami::Matrix<Value_, Index_>*, const Factor_*, std::vector<Detected_*>&, std::vector<Detected_*>&) [with bool row_ = true; bool sparse_ = true; Data_ = double; Index_ = int; Factor_ = int; Sum_ = double; Detected_ = int]’
AggregateAcrossCells.h:210:28: required from ‘void scran::AggregateAcrossCells::run(const tatami::Matrix<Value_, Index_>*, const Factor*, std::vector<Sum*>, std::vector<Sum_*>) [with Data = double; Index = int; Factor = int; Sum = double; Detected = int]’
aggregate_across_cells.cpp:52:43: required from here
AggregateAcrossCells.h:109:28: warning: comparison of integer expressions of different signedness: ‘int’ and ‘std::vector<double>::size_type’ {aka ‘long unsigned int’} [-Wsign-compare]
109 | for (Index_ l = 0; l < tmp_sums.size(); ++l) {
| ~~^~~~~~~~~~~~~~~~~
AggregateAcrossCells.h:127:28: warning: comparison of integer expressions of different signedness: ‘int’ and ‘std::vector<int>::size_type’ {aka ‘long unsigned int’} [-Wsign-compare]
127 | for (Index_ l = 0; l < tmp_detected.size(); ++l) {
| ~~^~~~~~~~~~~~~~~~~~~~~
AggregateAcrossCells.h: In instantiation of ‘void scran::AggregateAcrossCells::compute_row(Index_, Index_, const Contents_&, const Factor_*, std::vector<InputIndex_>&, std::vector<Sum_*>&, std::vector<Detected_>&, std::vector<Detected_*>&) [with bool sparse_ = false; Index_ = int; Contents_ = const double*; Factor_ = int; Sum_ = double; Detected_ = int]’:
AggregateAcrossCells.h:152:31: required from ‘void scran::AggregateAcrossCells::compute(const tatami::Matrix<Value_, Index_>*, const Factor_*, std::vector<Detected_*>&, std::vector<Detected_*>&) [with bool row_ = true; bool sparse_ = false; Data_ = double; Index_ = int; Factor_ = int; Sum_ = double; Detected_ = int]’
AggregateAcrossCells.h:212:29: required from ‘void scran::AggregateAcrossCells::run(const tatami::Matrix<Value_, Index_>*, const Factor*, std::vector<Sum*>, std::vector<Sum_*>) [with Data = double; Index = int; Factor = int; Sum = double; Detected = int]’
aggregate_across_cells.cpp:52:43: required from here
AggregateAcrossCells.h:109:28: warning: comparison of integer expressions of different signedness: ‘int’ and ‘std::vector<double>::size_type’ {aka ‘long unsigned int’} [-Wsign-compare]
109 | for (Index_ l = 0; l < tmp_sums.size(); ++l) {
| ~~^~~~~~~~~~~~~~~~~
AggregateAcrossCells.h:127:28: warning: comparison of integer expressions of different signedness: ‘int’ and ‘std::vector<int>::size_type’ {aka ‘long unsigned int’} [-Wsign-compare]
127 | for (Index_ l = 0; l < tmp_detected.size(); ++l) {
| ~~^~~~~~~~~~~~~~~~~~~~~
gcc -I"/home/biocbuild/R/R-beta-2024-04-15_r86425/include" -DNDEBUG -I'/home/biocbuild/R/R-beta-2024-04-15_r86425/site-library/Rcpp/include' -I'/home/biocbuild/R/R-beta-2024-04-15_r86425/site-library/beachmat/include' -I/usr/local/include -fPIC -g -O2 -Wall -c binom.c -o binom.o
g++ -std=gnu++17 -I"/home/biocbuild/R/R-beta-2024-04-15_r86425/include" -DNDEBUG -I'/home/biocbuild/R/R-beta-2024-04-15_r86425/site-library/Rcpp/include' -I'/home/biocbuild/R/R-beta-2024-04-15_r86425/site-library/beachmat/include' -I/usr/local/include -fPIC -g -O2 -Wall -c fast_chisq.cpp -o fast_chisq.o
fast_chisq.cpp: In function ‘Rcpp::List fast_chisq(Rcpp::IntegerVector, Rcpp::IntegerVector, Rcpp::IntegerVector, Rcpp::IntegerVector, int, Rcpp::NumericVector, Rcpp::IntegerVector, Rcpp::IntegerVector, Rcpp::NumericMatrix, int, Rcpp::NumericVector, Rcpp::IntegerVector, Rcpp::IntegerVector, Rcpp::NumericMatrix, int, Rcpp::IntegerVector)’:
fast_chisq.cpp:27:15: warning: comparison of integer expressions of different signedness: ‘size_t’ {aka ‘long unsigned int’} and ‘R_xlen_t’ {aka ‘long int’} [-Wsign-compare]
27 | if (nrows != tf_by_peak.size()) {
| ~~~~~~^~~~~~~~~~~~~~~~~~~~
fast_chisq.cpp:30:15: warning: comparison of integer expressions of different signedness: ‘size_t’ {aka ‘long unsigned int’} and ‘R_xlen_t’ {aka ‘long int’} [-Wsign-compare]
30 | if (nrows != target_by_peak.size()) {
| ~~~~~~^~~~~~~~~~~~~~~~~~~~~~~~
fast_chisq.cpp:33:15: warning: comparison of integer expressions of different signedness: ‘size_t’ {aka ‘long unsigned int’} and ‘R_xlen_t’ {aka ‘long int’} [-Wsign-compare]
33 | if (nrows != target_ordered.size()) {
| ~~~~~~^~~~~~~~~~~~~~~~~~~~~~~~
g++ -std=gnu++17 -I"/home/biocbuild/R/R-beta-2024-04-15_r86425/include" -DNDEBUG -I'/home/biocbuild/R/R-beta-2024-04-15_r86425/site-library/Rcpp/include' -I'/home/biocbuild/R/R-beta-2024-04-15_r86425/site-library/beachmat/include' -I/usr/local/include -fPIC -g -O2 -Wall -c fast_wilcox.cpp -o fast_wilcox.o
g++ -std=gnu++17 -shared -L/home/biocbuild/R/R-beta-2024-04-15_r86425/lib -L/usr/local/lib -o epiregulon.so RcppExports.o aggregate_across_cells.o binom.o fast_chisq.o fast_wilcox.o -L/home/biocbuild/R/R-beta-2024-04-15_r86425/lib -lR
installing to /home/biocbuild/R/R-beta-2024-04-15_r86425/site-library/00LOCK-epiregulon/00new/epiregulon/libs
** R
** inst
** byte-compile and prepare package for lazy loading
** help
*** installing help indices
** building package indices
** installing vignettes
** testing if installed package can be loaded from temporary location
** checking absolute paths in shared objects and dynamic libraries
** testing if installed package can be loaded from final location
** testing if installed package keeps a record of temporary installation path
* DONE (epiregulon)