| Back to Multiple platform build/check report for BioC 3.19: simplified long |
|
This page was generated on 2024-10-18 20:40 -0400 (Fri, 18 Oct 2024).
| Hostname | OS | Arch (*) | R version | Installed pkgs |
|---|---|---|---|---|
| nebbiolo1 | Linux (Ubuntu 22.04.3 LTS) | x86_64 | 4.4.1 (2024-06-14) -- "Race for Your Life" | 4763 |
| palomino7 | Windows Server 2022 Datacenter | x64 | 4.4.1 (2024-06-14 ucrt) -- "Race for Your Life" | 4500 |
| merida1 | macOS 12.7.5 Monterey | x86_64 | 4.4.1 (2024-06-14) -- "Race for Your Life" | 4530 |
| kjohnson1 | macOS 13.6.6 Ventura | arm64 | 4.4.1 (2024-06-14) -- "Race for Your Life" | 4480 |
| Click on any hostname to see more info about the system (e.g. compilers) (*) as reported by 'uname -p', except on Windows and Mac OS X | ||||
| Package 661/2300 | Hostname | OS / Arch | INSTALL | BUILD | CHECK | BUILD BIN | ||||||||
| epigenomix 1.44.0 (landing page) Hans-Ulrich Klein
| nebbiolo1 | Linux (Ubuntu 22.04.3 LTS) / x86_64 | OK | OK | OK | |||||||||
| palomino7 | Windows Server 2022 Datacenter / x64 | OK | OK | OK | OK | |||||||||
| merida1 | macOS 12.7.5 Monterey / x86_64 | OK | OK | OK | OK | |||||||||
| kjohnson1 | macOS 13.6.6 Ventura / arm64 | OK | OK | OK | OK | |||||||||
|
To the developers/maintainers of the epigenomix package: - Allow up to 24 hours (and sometimes 48 hours) for your latest push to git@git.bioconductor.org:packages/epigenomix.git to reflect on this report. See Troubleshooting Build Report for more information. - Use the following Renviron settings to reproduce errors and warnings. - If 'R CMD check' started to fail recently on the Linux builder(s) over a missing dependency, add the missing dependency to 'Suggests:' in your DESCRIPTION file. See Renviron.bioc for more information. |
| Package: epigenomix |
| Version: 1.44.0 |
| Command: /Library/Frameworks/R.framework/Resources/bin/R CMD check --install=check:epigenomix.install-out.txt --library=/Library/Frameworks/R.framework/Resources/library --no-vignettes --timings epigenomix_1.44.0.tar.gz |
| StartedAt: 2024-10-17 04:51:49 -0400 (Thu, 17 Oct 2024) |
| EndedAt: 2024-10-17 05:03:56 -0400 (Thu, 17 Oct 2024) |
| EllapsedTime: 726.8 seconds |
| RetCode: 0 |
| Status: OK |
| CheckDir: epigenomix.Rcheck |
| Warnings: 0 |
##############################################################################
##############################################################################
###
### Running command:
###
### /Library/Frameworks/R.framework/Resources/bin/R CMD check --install=check:epigenomix.install-out.txt --library=/Library/Frameworks/R.framework/Resources/library --no-vignettes --timings epigenomix_1.44.0.tar.gz
###
##############################################################################
##############################################################################
* using log directory ‘/Users/biocbuild/bbs-3.19-bioc/meat/epigenomix.Rcheck’
* using R version 4.4.1 (2024-06-14)
* using platform: x86_64-apple-darwin20
* R was compiled by
Apple clang version 14.0.0 (clang-1400.0.29.202)
GNU Fortran (GCC) 12.2.0
* running under: macOS Monterey 12.7.6
* using session charset: UTF-8
* using option ‘--no-vignettes’
* checking for file ‘epigenomix/DESCRIPTION’ ... OK
* checking extension type ... Package
* this is package ‘epigenomix’ version ‘1.44.0’
* checking package namespace information ... OK
* checking package dependencies ... OK
* checking if this is a source package ... OK
* checking if there is a namespace ... OK
* checking for hidden files and directories ... OK
* checking for portable file names ... OK
* checking for sufficient/correct file permissions ... OK
* checking whether package ‘epigenomix’ can be installed ... OK
* checking installed package size ... OK
* checking package directory ... OK
* checking ‘build’ directory ... OK
* checking DESCRIPTION meta-information ... OK
* checking top-level files ... OK
* checking for left-over files ... OK
* checking index information ... OK
* checking package subdirectories ... OK
* checking code files for non-ASCII characters ... OK
* checking R files for syntax errors ... OK
* checking whether the package can be loaded ... OK
* checking whether the package can be loaded with stated dependencies ... OK
* checking whether the package can be unloaded cleanly ... OK
* checking whether the namespace can be loaded with stated dependencies ... OK
* checking whether the namespace can be unloaded cleanly ... OK
* checking dependencies in R code ... OK
* checking S3 generic/method consistency ... OK
* checking replacement functions ... OK
* checking foreign function calls ... OK
* checking R code for possible problems ... OK
* checking Rd files ... NOTE
checkRd: (-1) MixModel-class.Rd:77-81: Lost braces in \enumerate; meant \describe ?
checkRd: (-1) MixModel-class.Rd:85-86: Lost braces in \enumerate; meant \describe ?
checkRd: (-1) MixModel-class.Rd:87: Lost braces in \enumerate; meant \describe ?
checkRd: (-1) MixModel-class.Rd:88-89: Lost braces in \enumerate; meant \describe ?
checkRd: (-1) MixModelBayes-class.Rd:55: Lost braces in \enumerate; meant \describe ?
checkRd: (-1) MixModelBayes-class.Rd:56-58: Lost braces in \enumerate; meant \describe ?
checkRd: (-1) MixModelBayes-class.Rd:59-60: Lost braces in \enumerate; meant \describe ?
checkRd: (-1) MixModelBayes-class.Rd:65-66: Lost braces in \enumerate; meant \describe ?
checkRd: (-1) MixModelBayes-class.Rd:67-68: Lost braces in \enumerate; meant \describe ?
checkRd: (-1) MixModelBayes-class.Rd:69-70: Lost braces in \enumerate; meant \describe ?
checkRd: (-1) MixModelBayes-class.Rd:71-72: Lost braces in \enumerate; meant \describe ?
checkRd: (-1) MixModelML-class.Rd:51-53: Lost braces in \enumerate; meant \describe ?
checkRd: (-1) MixModelML-class.Rd:58: Lost braces in \enumerate; meant \describe ?
checkRd: (-1) MixModelML-class.Rd:59-60: Lost braces in \enumerate; meant \describe ?
checkRd: (-1) MixModelML-class.Rd:61: Lost braces in \enumerate; meant \describe ?
checkRd: (-1) normalize.Rd:50-55: Lost braces in \enumerate; meant \describe ?
checkRd: (-1) normalize.Rd:56-60: Lost braces in \enumerate; meant \describe ?
checkRd: (-1) normalize.Rd:61-63: Lost braces in \enumerate; meant \describe ?
checkRd: (-1) normalize.Rd:64-72: Lost braces in \enumerate; meant \describe ?
checkRd: (-1) normalizeChIP.Rd:35-38: Lost braces in \enumerate; meant \describe ?
checkRd: (-1) normalizeChIP.Rd:39-46: Lost braces in \enumerate; meant \describe ?
checkRd: (-1) normalizeChIP.Rd:47-51: Lost braces in \enumerate; meant \describe ?
checkRd: (-1) normalizeChIP.Rd:52-53: Lost braces in \enumerate; meant \describe ?
* checking Rd metadata ... OK
* checking Rd cross-references ... OK
* checking for missing documentation entries ... OK
* checking for code/documentation mismatches ... OK
* checking Rd \usage sections ... OK
* checking Rd contents ... OK
* checking for unstated dependencies in examples ... OK
* checking contents of ‘data’ directory ... OK
* checking data for non-ASCII characters ... OK
* checking data for ASCII and uncompressed saves ... OK
* checking sizes of PDF files under ‘inst/doc’ ... OK
* checking files in ‘vignettes’ ... OK
* checking examples ... OK
Examples with CPU (user + system) or elapsed time > 5s
user system elapsed
plotChains 57.724 0.681 72.367
bayesMixModel 45.630 0.786 57.661
mlMixModel 24.320 0.417 30.679
* checking for unstated dependencies in vignettes ... OK
* checking package vignettes ... OK
* checking running R code from vignettes ... SKIPPED
* checking re-building of vignette outputs ... SKIPPED
* checking PDF version of manual ... OK
* DONE
Status: 1 NOTE
See
‘/Users/biocbuild/bbs-3.19-bioc/meat/epigenomix.Rcheck/00check.log’
for details.
epigenomix.Rcheck/00install.out
############################################################################## ############################################################################## ### ### Running command: ### ### /Library/Frameworks/R.framework/Resources/bin/R CMD INSTALL epigenomix ### ############################################################################## ############################################################################## * installing to library ‘/Library/Frameworks/R.framework/Versions/4.4-x86_64/Resources/library’ * installing *source* package ‘epigenomix’ ... ** using staged installation ** R ** data ** inst ** byte-compile and prepare package for lazy loading ** help *** installing help indices ** building package indices ** installing vignettes ** testing if installed package can be loaded from temporary location ** testing if installed package can be loaded from final location ** testing if installed package keeps a record of temporary installation path * DONE (epigenomix)
epigenomix.Rcheck/epigenomix-Ex.timings
| name | user | system | elapsed | |
| ChIPseqSet-class | 0.004 | 0.001 | 0.006 | |
| MixModel-class | 0.001 | 0.001 | 0.002 | |
| MixModelBayes-class | 0.000 | 0.000 | 0.001 | |
| MixModelML-class | 0.001 | 0.001 | 0.001 | |
| MixtureComponent-class | 0.001 | 0.001 | 0.002 | |
| bayesMixModel | 45.630 | 0.786 | 57.661 | |
| calculateCrossCorrelation | 1.647 | 0.021 | 2.037 | |
| eSet | 0.022 | 0.005 | 0.032 | |
| fpkm | 0.054 | 0.007 | 0.077 | |
| getAlignmentQuality | 0.000 | 0.000 | 0.001 | |
| integrateData | 0.394 | 0.012 | 0.486 | |
| mappedReads | 0.067 | 0.009 | 0.104 | |
| matchProbeToPromoter | 0.748 | 0.053 | 1.030 | |
| mlMixModel | 24.320 | 0.417 | 30.679 | |
| normalize | 0.443 | 0.005 | 0.546 | |
| normalizeChIP | 0.261 | 0.005 | 0.334 | |
| plotChains | 57.724 | 0.681 | 72.367 | |
| plotClassification | 0.064 | 0.006 | 0.089 | |
| plotComponents | 0.092 | 0.005 | 0.124 | |
| summarizeReads | 0.729 | 0.007 | 0.912 | |
| transToTSS | 0.005 | 0.005 | 0.011 | |