| Back to Multiple platform build/check report for BioC 3.19: simplified long |
|
This page was generated on 2024-06-11 14:42 -0400 (Tue, 11 Jun 2024).
| Hostname | OS | Arch (*) | R version | Installed pkgs |
|---|---|---|---|---|
| nebbiolo1 | Linux (Ubuntu 22.04.3 LTS) | x86_64 | 4.4.0 (2024-04-24) -- "Puppy Cup" | 4757 |
| palomino3 | Windows Server 2022 Datacenter | x64 | 4.4.0 (2024-04-24 ucrt) -- "Puppy Cup" | 4491 |
| lconway | macOS 12.7.1 Monterey | x86_64 | 4.4.0 (2024-04-24) -- "Puppy Cup" | 4522 |
| kjohnson3 | macOS 13.6.5 Ventura | arm64 | 4.4.0 (2024-04-24) -- "Puppy Cup" | 4468 |
| Click on any hostname to see more info about the system (e.g. compilers) (*) as reported by 'uname -p', except on Windows and Mac OS X | ||||
| Package 665/2300 | Hostname | OS / Arch | INSTALL | BUILD | CHECK | BUILD BIN | ||||||||
| epiNEM 1.28.0 (landing page) Martin Pirkl
| nebbiolo1 | Linux (Ubuntu 22.04.3 LTS) / x86_64 | OK | OK | OK | |||||||||
| palomino3 | Windows Server 2022 Datacenter / x64 | OK | OK | OK | OK | |||||||||
| lconway | macOS 12.7.1 Monterey / x86_64 | OK | OK | OK | OK | |||||||||
| kjohnson3 | macOS 13.6.5 Ventura / arm64 | OK | OK | OK | OK | |||||||||
|
To the developers/maintainers of the epiNEM package: - Allow up to 24 hours (and sometimes 48 hours) for your latest push to git@git.bioconductor.org:packages/epiNEM.git to reflect on this report. See Troubleshooting Build Report for more information. - Use the following Renviron settings to reproduce errors and warnings. - If 'R CMD check' started to fail recently on the Linux builder(s) over a missing dependency, add the missing dependency to 'Suggests:' in your DESCRIPTION file. See Renviron.bioc for more information. |
| Package: epiNEM |
| Version: 1.28.0 |
| Command: /Library/Frameworks/R.framework/Resources/bin/R CMD check --install=check:epiNEM.install-out.txt --library=/Library/Frameworks/R.framework/Resources/library --no-vignettes --timings epiNEM_1.28.0.tar.gz |
| StartedAt: 2024-06-09 20:13:08 -0400 (Sun, 09 Jun 2024) |
| EndedAt: 2024-06-09 20:16:05 -0400 (Sun, 09 Jun 2024) |
| EllapsedTime: 176.7 seconds |
| RetCode: 0 |
| Status: OK |
| CheckDir: epiNEM.Rcheck |
| Warnings: 0 |
##############################################################################
##############################################################################
###
### Running command:
###
### /Library/Frameworks/R.framework/Resources/bin/R CMD check --install=check:epiNEM.install-out.txt --library=/Library/Frameworks/R.framework/Resources/library --no-vignettes --timings epiNEM_1.28.0.tar.gz
###
##############################################################################
##############################################################################
* using log directory ‘/Users/biocbuild/bbs-3.19-bioc/meat/epiNEM.Rcheck’
* using R version 4.4.0 (2024-04-24)
* using platform: x86_64-apple-darwin20
* R was compiled by
Apple clang version 14.0.0 (clang-1400.0.29.202)
GNU Fortran (GCC) 12.2.0
* running under: macOS Monterey 12.7.1
* using session charset: UTF-8
* using option ‘--no-vignettes’
* checking for file ‘epiNEM/DESCRIPTION’ ... OK
* checking extension type ... Package
* this is package ‘epiNEM’ version ‘1.28.0’
* package encoding: UTF-8
* checking package namespace information ... OK
* checking package dependencies ... OK
* checking if this is a source package ... OK
* checking if there is a namespace ... OK
* checking for hidden files and directories ... OK
* checking for portable file names ... OK
* checking for sufficient/correct file permissions ... OK
* checking whether package ‘epiNEM’ can be installed ... OK
* checking installed package size ... OK
* checking package directory ... OK
* checking ‘build’ directory ... OK
* checking DESCRIPTION meta-information ... OK
* checking top-level files ... OK
* checking for left-over files ... OK
* checking index information ... OK
* checking package subdirectories ... OK
* checking code files for non-ASCII characters ... OK
* checking R files for syntax errors ... OK
* checking whether the package can be loaded ... OK
* checking whether the package can be loaded with stated dependencies ... OK
* checking whether the package can be unloaded cleanly ... OK
* checking whether the namespace can be loaded with stated dependencies ... OK
* checking whether the namespace can be unloaded cleanly ... OK
* checking dependencies in R code ... OK
* checking S3 generic/method consistency ... OK
* checking replacement functions ... OK
* checking foreign function calls ... NOTE
Foreign function call to a different package:
.Call("getTruthTable_R", ..., PACKAGE = "BoolNet")
See chapter ‘System and foreign language interfaces’ in the ‘Writing R
Extensions’ manual.
* checking R code for possible problems ... NOTE
SimEpiNEM: no visible global function definition for ‘epiNEM2Bg’
SimEpiNEM: no visible global function definition for ‘dummyCNOlist’
SimEpiNEM: no visible global function definition for ‘readSIF’
SimEpiNEM: no visible global function definition for ‘preprocessing’
SimEpiNEM: no visible global function definition for ‘absorption’
SimEpiNEM: no visible global function definition for ‘bnem’
SimEpiNEM: no visible binding for global variable ‘popSize’
SimEpiNEM: no visible global function definition for ‘computeFc’
SimEpiNEM: no visible global function definition for
‘simulateStatesRecursive’
SimEpiNEM: no visible global function definition for ‘dnf2adj’
epiNEM: no visible binding for global variable ‘inference’
plot.epiSim: no visible binding for global variable ‘sim’
plot.epiSim: no visible global function definition for ‘layout’
plot.epiSim: no visible global function definition for ‘boxplot’
plot.epiSim: no visible global function definition for ‘abline’
plot.epiSim: no visible global function definition for ‘axis’
Undefined global functions or variables:
abline absorption axis bnem boxplot computeFc dnf2adj dummyCNOlist
epiNEM2Bg inference layout popSize preprocessing readSIF sim
simulateStatesRecursive
Consider adding
importFrom("graphics", "abline", "axis", "boxplot", "layout")
to your NAMESPACE file.
* checking Rd files ... OK
* checking Rd metadata ... OK
* checking Rd cross-references ... OK
* checking for missing documentation entries ... OK
* checking for code/documentation mismatches ... OK
* checking Rd \usage sections ... OK
* checking Rd contents ... OK
* checking for unstated dependencies in examples ... OK
* checking contents of ‘data’ directory ... OK
* checking data for non-ASCII characters ... OK
* checking LazyData ... OK
* checking data for ASCII and uncompressed saves ... OK
* checking files in ‘vignettes’ ... OK
* checking examples ... OK
Examples with CPU (user + system) or elapsed time > 5s
user system elapsed
epiScreen 10.861 0.071 10.948
plot.epiScreen 10.528 0.063 10.610
SimEpiNEM 7.409 0.020 7.439
plot.epiSim 6.977 0.023 7.012
* checking for unstated dependencies in ‘tests’ ... OK
* checking tests ...
Running ‘runTests.R’
OK
* checking for unstated dependencies in vignettes ... OK
* checking package vignettes ... OK
* checking running R code from vignettes ... SKIPPED
* checking re-building of vignette outputs ... SKIPPED
* checking PDF version of manual ... OK
* DONE
Status: 2 NOTEs
See
‘/Users/biocbuild/bbs-3.19-bioc/meat/epiNEM.Rcheck/00check.log’
for details.
epiNEM.Rcheck/00install.out
############################################################################## ############################################################################## ### ### Running command: ### ### /Library/Frameworks/R.framework/Resources/bin/R CMD INSTALL epiNEM ### ############################################################################## ############################################################################## * installing to library ‘/Library/Frameworks/R.framework/Versions/4.4-x86_64/Resources/library’ * installing *source* package ‘epiNEM’ ... ** using staged installation ** R ** data *** moving datasets to lazyload DB ** inst ** byte-compile and prepare package for lazy loading ** help *** installing help indices ** building package indices ** installing vignettes ** testing if installed package can be loaded from temporary location ** testing if installed package can be loaded from final location ** testing if installed package keeps a record of temporary installation path * DONE (epiNEM)
epiNEM.Rcheck/tests/runTests.Rout
R version 4.4.0 (2024-04-24) -- "Puppy Cup"
Copyright (C) 2024 The R Foundation for Statistical Computing
Platform: x86_64-apple-darwin20
R is free software and comes with ABSOLUTELY NO WARRANTY.
You are welcome to redistribute it under certain conditions.
Type 'license()' or 'licence()' for distribution details.
R is a collaborative project with many contributors.
Type 'contributors()' for more information and
'citation()' on how to cite R or R packages in publications.
Type 'demo()' for some demos, 'help()' for on-line help, or
'help.start()' for an HTML browser interface to help.
Type 'q()' to quit R.
> BiocGenerics:::testPackage("epiNEM")
[1] "Progress (of 1 iterations):"
1...
RUNIT TEST PROTOCOL -- Sun Jun 9 20:15:54 2024
***********************************************
Number of test functions: 0
Number of errors: 0
Number of failures: 0
1 Test Suite :
epiNEM RUnit Tests - 0 test functions, 0 errors, 0 failures
Number of test functions: 0
Number of errors: 0
Number of failures: 0
>
> proc.time()
user system elapsed
6.530 0.438 6.976
epiNEM.Rcheck/epiNEM-Ex.timings
| name | user | system | elapsed | |
| AddLogicGates | 0.000 | 0.000 | 0.002 | |
| CreateExtendedAdjacency | 0.083 | 0.003 | 0.087 | |
| CreateRandomGraph | 0.000 | 0.000 | 0.001 | |
| CreateTopology | 0.060 | 0.001 | 0.061 | |
| ExtendTopology | 0.047 | 0.001 | 0.048 | |
| GenerateData | 0.041 | 0.001 | 0.043 | |
| HeatmapOP | 0.101 | 0.003 | 0.103 | |
| Mll | 0.001 | 0.001 | 0.001 | |
| SimEpiNEM | 7.409 | 0.020 | 7.439 | |
| epiAnno | 0.287 | 0.002 | 0.290 | |
| epiNEM | 0.764 | 0.004 | 0.768 | |
| epiScreen | 10.861 | 0.071 | 10.948 | |
| perm.rank.test | 0.302 | 0.002 | 0.305 | |
| plot.epiNEM | 0.848 | 0.004 | 0.853 | |
| plot.epiScreen | 10.528 | 0.063 | 10.610 | |
| plot.epiSim | 6.977 | 0.023 | 7.012 | |
| rank.enrichment | 0.411 | 0.007 | 0.420 | |
| sameith_GO | 0.001 | 0.002 | 0.002 | |
| sameith_string | 0.000 | 0.002 | 0.002 | |
| samscreen | 0.001 | 0.001 | 0.001 | |
| sim | 0.001 | 0.001 | 0.001 | |
| wageningen_GO | 0.001 | 0.001 | 0.001 | |
| wageningen_string | 0.001 | 0.001 | 0.001 | |
| wagscreen | 0.001 | 0.002 | 0.002 | |