| Back to Multiple platform build/check report for BioC 3.19: simplified long |
|
This page was generated on 2024-05-09 11:40:48 -0400 (Thu, 09 May 2024).
| Hostname | OS | Arch (*) | R version | Installed pkgs |
|---|---|---|---|---|
| nebbiolo1 | Linux (Ubuntu 22.04.3 LTS) | x86_64 | 4.4.0 (2024-04-24) -- "Puppy Cup" | 4748 |
| palomino3 | Windows Server 2022 Datacenter | x64 | 4.4.0 (2024-04-24 ucrt) -- "Puppy Cup" | 4484 |
| lconway | macOS 12.7.1 Monterey | x86_64 | 4.4.0 (2024-04-24) -- "Puppy Cup" | 4514 |
| kunpeng2 | Linux (openEuler 22.03 LTS-SP1) | aarch64 | 4.4.0 beta (2024-04-15 r86425) -- "Puppy Cup" | 4480 |
| Click on any hostname to see more info about the system (e.g. compilers) (*) as reported by 'uname -p', except on Windows and Mac OS X | ||||
| Package 654/2300 | Hostname | OS / Arch | INSTALL | BUILD | CHECK | BUILD BIN | ||||||||
| enrichViewNet 1.2.0 (landing page) Astrid Deschênes
| nebbiolo1 | Linux (Ubuntu 22.04.3 LTS) / x86_64 | OK | OK | OK | |||||||||
| palomino3 | Windows Server 2022 Datacenter / x64 | OK | OK | OK | OK | |||||||||
| lconway | macOS 12.7.1 Monterey / x86_64 | OK | OK | OK | OK | |||||||||
| kunpeng2 | Linux (openEuler 22.03 LTS-SP1) / aarch64 | OK | OK | OK | ||||||||||
| kjohnson3 | macOS 13.6.5 Ventura / arm64 | see weekly results here | ||||||||||||
|
To the developers/maintainers of the enrichViewNet package: - Allow up to 24 hours (and sometimes 48 hours) for your latest push to git@git.bioconductor.org:packages/enrichViewNet.git to reflect on this report. See Troubleshooting Build Report for more information. - Use the following Renviron settings to reproduce errors and warnings. - If 'R CMD check' started to fail recently on the Linux builder(s) over a missing dependency, add the missing dependency to 'Suggests:' in your DESCRIPTION file. See Renviron.bioc for more information. - See Martin Grigorov's blog post for how to debug Linux ARM64 related issues on a x86_64 host. |
| Package: enrichViewNet |
| Version: 1.2.0 |
| Command: /home/biocbuild/R/R-beta-2024-04-15_r86425/bin/R CMD check --install=check:enrichViewNet.install-out.txt --library=/home/biocbuild/R/R-beta-2024-04-15_r86425/site-library --no-vignettes --timings enrichViewNet_1.2.0.tar.gz |
| StartedAt: 2024-05-09 07:07:14 -0000 (Thu, 09 May 2024) |
| EndedAt: 2024-05-09 07:11:32 -0000 (Thu, 09 May 2024) |
| EllapsedTime: 258.4 seconds |
| RetCode: 0 |
| Status: OK |
| CheckDir: enrichViewNet.Rcheck |
| Warnings: 0 |
##############################################################################
##############################################################################
###
### Running command:
###
### /home/biocbuild/R/R-beta-2024-04-15_r86425/bin/R CMD check --install=check:enrichViewNet.install-out.txt --library=/home/biocbuild/R/R-beta-2024-04-15_r86425/site-library --no-vignettes --timings enrichViewNet_1.2.0.tar.gz
###
##############################################################################
##############################################################################
* using log directory ‘/home/biocbuild/bbs-3.19-bioc/meat/enrichViewNet.Rcheck’
* using R version 4.4.0 beta (2024-04-15 r86425)
* using platform: aarch64-unknown-linux-gnu
* R was compiled by
gcc (GCC) 10.3.1
GNU Fortran (GCC) 10.3.1
* running under: openEuler 22.03 (LTS-SP1)
* using session charset: UTF-8
* using option ‘--no-vignettes’
* checking for file ‘enrichViewNet/DESCRIPTION’ ... OK
* checking extension type ... Package
* this is package ‘enrichViewNet’ version ‘1.2.0’
* package encoding: UTF-8
* checking package namespace information ... OK
* checking package dependencies ... OK
* checking if this is a source package ... OK
* checking if there is a namespace ... OK
* checking for hidden files and directories ... OK
* checking for portable file names ... OK
* checking for sufficient/correct file permissions ... OK
* checking whether package ‘enrichViewNet’ can be installed ... OK
* checking installed package size ... OK
* checking package directory ... OK
* checking ‘build’ directory ... OK
* checking DESCRIPTION meta-information ... OK
* checking top-level files ... OK
* checking for left-over files ... OK
* checking index information ... OK
* checking package subdirectories ... OK
* checking code files for non-ASCII characters ... OK
* checking R files for syntax errors ... OK
* checking whether the package can be loaded ... OK
* checking whether the package can be loaded with stated dependencies ... OK
* checking whether the package can be unloaded cleanly ... OK
* checking whether the namespace can be loaded with stated dependencies ... OK
* checking whether the namespace can be unloaded cleanly ... OK
* checking loading without being on the library search path ... OK
* checking dependencies in R code ... OK
* checking S3 generic/method consistency ... OK
* checking replacement functions ... OK
* checking foreign function calls ... OK
* checking R code for possible problems ... OK
* checking Rd files ... OK
* checking Rd metadata ... OK
* checking Rd cross-references ... OK
* checking for missing documentation entries ... OK
* checking for code/documentation mismatches ... OK
* checking Rd \usage sections ... OK
* checking Rd contents ... OK
* checking for unstated dependencies in examples ... OK
* checking contents of ‘data’ directory ... OK
* checking data for non-ASCII characters ... OK
* checking data for ASCII and uncompressed saves ... OK
* checking files in ‘vignettes’ ... OK
* checking examples ... OK
Examples with CPU (user + system) or elapsed time > 5s
user system elapsed
rosaNapaVsDMSODEG 0.162 0.024 6.158
* checking for unstated dependencies in ‘tests’ ... OK
* checking tests ...
Running ‘testthat.R’
OK
* checking for unstated dependencies in vignettes ... OK
* checking package vignettes ... OK
* checking running R code from vignettes ... SKIPPED
* checking re-building of vignette outputs ... SKIPPED
* checking PDF version of manual ... OK
* DONE
Status: OK
enrichViewNet.Rcheck/00install.out
############################################################################## ############################################################################## ### ### Running command: ### ### /home/biocbuild/R/R-beta-2024-04-15_r86425/bin/R CMD INSTALL enrichViewNet ### ############################################################################## ############################################################################## * installing to library ‘/home/biocbuild/R/R-beta-2024-04-15_r86425/site-library’ * installing *source* package ‘enrichViewNet’ ... ** using staged installation ** R ** data ** byte-compile and prepare package for lazy loading ** help *** installing help indices ** building package indices ** installing vignettes ** testing if installed package can be loaded from temporary location ** testing if installed package can be loaded from final location ** testing if installed package keeps a record of temporary installation path * DONE (enrichViewNet)
enrichViewNet.Rcheck/tests/testthat.Rout
R version 4.4.0 beta (2024-04-15 r86425) -- "Puppy Cup"
Copyright (C) 2024 The R Foundation for Statistical Computing
Platform: aarch64-unknown-linux-gnu
R is free software and comes with ABSOLUTELY NO WARRANTY.
You are welcome to redistribute it under certain conditions.
Type 'license()' or 'licence()' for distribution details.
R is a collaborative project with many contributors.
Type 'contributors()' for more information and
'citation()' on how to cite R or R packages in publications.
Type 'demo()' for some demos, 'help()' for on-line help, or
'help.start()' for an HTML browser interface to help.
Type 'q()' to quit R.
> library(testthat)
> library(enrichViewNet)
>
> ## Run all unit tests
> test_check("enrichViewNet")
[ FAIL 0 | WARN 0 | SKIP 0 | PASS 107 ]
>
> proc.time()
user system elapsed
13.644 0.860 18.856
enrichViewNet.Rcheck/enrichViewNet-Ex.timings
| name | user | system | elapsed | |
| createBasicEmap | 2.615 | 0.087 | 2.709 | |
| createCXJSONForCytoscape | 0.124 | 0.008 | 0.132 | |
| createEnrichMap | 0.930 | 0.024 | 0.958 | |
| createEnrichMapMultiBasic | 1.189 | 0.004 | 1.195 | |
| createEnrichMapMultiComplex | 2.980 | 0.032 | 3.018 | |
| createMetaDataSectionCXJSON | 0.000 | 0.002 | 0.001 | |
| createMultiEmap | 1.930 | 0.018 | 1.952 | |
| createNetwork | 0.055 | 0.008 | 0.062 | |
| createNetworkForCytoscape | 0.037 | 0.000 | 0.037 | |
| demoGOST | 0.048 | 0.024 | 2.869 | |
| extractInformationWhenIntersection | 0.035 | 0.004 | 0.039 | |
| extractInformationWhenNoIntersection | 0.233 | 0.176 | 2.404 | |
| extractNodesAndEdgesInformation | 0.018 | 0.032 | 0.050 | |
| filterResults | 0.003 | 0.000 | 0.003 | |
| formatInformationForCXJSON | 0.044 | 0.024 | 0.068 | |
| isCytoscapeRunning | 0.000 | 0.007 | 0.007 | |
| manageNameDuplicationInEmap | 0.004 | 0.004 | 0.008 | |
| manageQueryDuplicationInEmap | 0.001 | 0.000 | 0.001 | |
| parentalNapaVsDMSODEG | 0.209 | 0.271 | 3.695 | |
| parentalNapaVsDMSOEnrichment | 0.909 | 0.076 | 0.987 | |
| removeRootTerm | 0.004 | 0.004 | 0.008 | |
| rosaNapaVsDMSODEG | 0.162 | 0.024 | 6.158 | |
| rosaNapaVsDMSOEnrichment | 1.464 | 0.431 | 1.899 | |
| validateCreateEnrichMapArguments | 0.003 | 0.000 | 0.003 | |
| validateCreateEnrichMapMultiArguments | 0.011 | 0.000 | 0.010 | |
| validateCreateEnrichMapMultiComplexArg | 0.008 | 0.004 | 0.012 | |
| validateCreateEnrichMapSubSectionArguments | 0 | 0 | 0 | |
| validateCreateNetworkArguments | 0.002 | 0.000 | 0.003 | |