| Back to Multiple platform build/check report for BioC 3.19: simplified long | 
 | 
This page was generated on 2024-06-28 17:41 -0400 (Fri, 28 Jun 2024).
| Hostname | OS | Arch (*) | R version | Installed pkgs | 
|---|---|---|---|---|
| nebbiolo1 | Linux (Ubuntu 22.04.3 LTS) | x86_64 | 4.4.0 (2024-04-24) -- "Puppy Cup" | 4760 | 
| palomino3 | Windows Server 2022 Datacenter | x64 | 4.4.0 (2024-04-24 ucrt) -- "Puppy Cup" | 4494 | 
| merida1 | macOS 12.7.4 Monterey | x86_64 | 4.4.0 (2024-04-24) -- "Puppy Cup" | 4508 | 
| kjohnson1 | macOS 13.6.6 Ventura | arm64 | 4.4.0 (2024-04-24) -- "Puppy Cup" | 4466 | 
| palomino7 | Windows Server 2022 Datacenter | x64 | 4.4.1 (2024-06-14 ucrt) -- "Race for Your Life" | 4362 | 
| Click on any hostname to see more info about the system (e.g. compilers) (*) as reported by 'uname -p', except on Windows and Mac OS X | ||||
| Package 586/2300 | Hostname | OS / Arch | INSTALL | BUILD | CHECK | BUILD BIN | ||||||||
| dittoSeq 1.16.0  (landing page) Daniel Bunis 
 | nebbiolo1 | Linux (Ubuntu 22.04.3 LTS) / x86_64 | OK | OK | OK |  | ||||||||
| palomino3 | Windows Server 2022 Datacenter / x64 | OK | OK | OK | OK |  | ||||||||
| merida1 | macOS 12.7.4 Monterey / x86_64 | OK | OK | OK | OK |  | ||||||||
| kjohnson1 | macOS 13.6.6 Ventura / arm64 | OK | OK | OK | OK |  | ||||||||
| palomino7 | Windows Server 2022 Datacenter / x64 | OK | OK | OK | OK | |||||||||
| To the developers/maintainers of the dittoSeq package: - Allow up to 24 hours (and sometimes 48 hours) for your latest push to git@git.bioconductor.org:packages/dittoSeq.git to reflect on this report. See Troubleshooting Build Report for more information. - Use the following Renviron settings to reproduce errors and warnings. - If 'R CMD check' started to fail recently on the Linux builder(s) over a missing dependency, add the missing dependency to 'Suggests:' in your DESCRIPTION file. See Renviron.bioc for more information. | 
| Package: dittoSeq | 
| Version: 1.16.0 | 
| Command: F:\biocbuild\bbs-3.19-bioc\R\bin\R.exe CMD check --no-multiarch --install=check:dittoSeq.install-out.txt --library=F:\biocbuild\bbs-3.19-bioc\R\library --no-vignettes --timings dittoSeq_1.16.0.tar.gz | 
| StartedAt: 2024-06-27 01:06:32 -0400 (Thu, 27 Jun 2024) | 
| EndedAt: 2024-06-27 01:15:51 -0400 (Thu, 27 Jun 2024) | 
| EllapsedTime: 559.3 seconds | 
| RetCode: 0 | 
| Status: OK | 
| CheckDir: dittoSeq.Rcheck | 
| Warnings: 0 | 
##############################################################################
##############################################################################
###
### Running command:
###
###   F:\biocbuild\bbs-3.19-bioc\R\bin\R.exe CMD check --no-multiarch --install=check:dittoSeq.install-out.txt --library=F:\biocbuild\bbs-3.19-bioc\R\library --no-vignettes --timings dittoSeq_1.16.0.tar.gz
###
##############################################################################
##############################################################################
* using log directory 'F:/biocbuild/bbs-3.19-bioc/meat/dittoSeq.Rcheck'
* using R version 4.4.0 (2024-04-24 ucrt)
* using platform: x86_64-w64-mingw32
* R was compiled by
    gcc.exe (GCC) 13.2.0
    GNU Fortran (GCC) 13.2.0
* running under: Windows Server 2022 x64 (build 20348)
* using session charset: UTF-8
* using option '--no-vignettes'
* checking for file 'dittoSeq/DESCRIPTION' ... OK
* checking extension type ... Package
* this is package 'dittoSeq' version '1.16.0'
* package encoding: UTF-8
* checking package namespace information ... OK
* checking package dependencies ... OK
* checking if this is a source package ... OK
* checking if there is a namespace ... OK
* checking for hidden files and directories ... OK
* checking for portable file names ... OK
* checking whether package 'dittoSeq' can be installed ... OK
* checking installed package size ... OK
* checking package directory ... OK
* checking 'build' directory ... OK
* checking DESCRIPTION meta-information ... NOTE
License stub is invalid DCF.
* checking top-level files ... OK
* checking for left-over files ... OK
* checking index information ... OK
* checking package subdirectories ... OK
* checking code files for non-ASCII characters ... OK
* checking R files for syntax errors ... OK
* checking whether the package can be loaded ... OK
* checking whether the package can be loaded with stated dependencies ... OK
* checking whether the package can be unloaded cleanly ... OK
* checking whether the namespace can be loaded with stated dependencies ... OK
* checking whether the namespace can be unloaded cleanly ... OK
* checking dependencies in R code ... OK
* checking S3 generic/method consistency ... OK
* checking replacement functions ... OK
* checking foreign function calls ... OK
* checking R code for possible problems ... OK
* checking Rd files ... NOTE
checkRd: (-1) Darken.Rd:10: Lost braces
    10 | \item{colors}{the color(s) input. Can be a list of colors, for example, /code{dittoColors()}.}
       |                                                                              ^
checkRd: (-1) Lighten.Rd:10: Lost braces
    10 | \item{colors}{the color(s) input. Can be a list of colors, for example, /code{dittoColors()}.}
       |                                                                              ^
* checking Rd metadata ... OK
* checking Rd cross-references ... OK
* checking for missing documentation entries ... OK
* checking for code/documentation mismatches ... OK
* checking Rd \usage sections ... OK
* checking Rd contents ... OK
* checking for unstated dependencies in examples ... OK
* checking contents of 'data' directory ... OK
* checking data for non-ASCII characters ... OK
* checking LazyData ... OK
* checking data for ASCII and uncompressed saves ... OK
* checking files in 'vignettes' ... OK
* checking examples ... OK
Examples with CPU (user + system) or elapsed time > 5s
                             user system elapsed
dittoPlot                   11.26   0.22   11.48
dittoHex                    10.74   0.20   11.07
multi_dittoDimPlotVaryCells  9.23   0.13    9.36
dittoDimPlot                 8.02   0.14    8.25
dittoFreqPlot                7.34   0.20    7.64
dittoScatterPlot             7.14   0.09    7.24
multi_dittoPlot              6.61   0.15    6.75
dittoHeatmap                 5.56   1.08    5.75
dittoDotPlot                 6.19   0.22    6.41
* checking for unstated dependencies in 'tests' ... OK
* checking tests ...
  Running 'testthat.R'
 OK
* checking for unstated dependencies in vignettes ... OK
* checking package vignettes ... OK
* checking running R code from vignettes ... SKIPPED
* checking re-building of vignette outputs ... SKIPPED
* checking PDF version of manual ... OK
* DONE
Status: 2 NOTEs
See
  'F:/biocbuild/bbs-3.19-bioc/meat/dittoSeq.Rcheck/00check.log'
for details.
dittoSeq.Rcheck/00install.out
############################################################################## ############################################################################## ### ### Running command: ### ### F:\biocbuild\bbs-3.19-bioc\R\bin\R.exe CMD INSTALL dittoSeq ### ############################################################################## ############################################################################## * installing to library 'F:/biocbuild/bbs-3.19-bioc/R/library' * installing *source* package 'dittoSeq' ... ** using staged installation ** R ** data *** moving datasets to lazyload DB ** inst ** byte-compile and prepare package for lazy loading ** help *** installing help indices ** building package indices ** installing vignettes ** testing if installed package can be loaded from temporary location ** testing if installed package can be loaded from final location ** testing if installed package keeps a record of temporary installation path * DONE (dittoSeq)
dittoSeq.Rcheck/tests/testthat.Rout
R version 4.4.0 (2024-04-24 ucrt) -- "Puppy Cup"
Copyright (C) 2024 The R Foundation for Statistical Computing
Platform: x86_64-w64-mingw32/x64
R is free software and comes with ABSOLUTELY NO WARRANTY.
You are welcome to redistribute it under certain conditions.
Type 'license()' or 'licence()' for distribution details.
R is a collaborative project with many contributors.
Type 'contributors()' for more information and
'citation()' on how to cite R or R packages in publications.
Type 'demo()' for some demos, 'help()' for on-line help, or
'help.start()' for an HTML browser interface to help.
Type 'q()' to quit R.
> library(testthat)
> test_check("dittoSeq")
Loading required package: dittoSeq
Loading required package: ggplot2
Loading required package: SummarizedExperiment
Loading required package: MatrixGenerics
Loading required package: matrixStats
Attaching package: 'MatrixGenerics'
The following objects are masked from 'package:matrixStats':
    colAlls, colAnyNAs, colAnys, colAvgsPerRowSet, colCollapse,
    colCounts, colCummaxs, colCummins, colCumprods, colCumsums,
    colDiffs, colIQRDiffs, colIQRs, colLogSumExps, colMadDiffs,
    colMads, colMaxs, colMeans2, colMedians, colMins, colOrderStats,
    colProds, colQuantiles, colRanges, colRanks, colSdDiffs, colSds,
    colSums2, colTabulates, colVarDiffs, colVars, colWeightedMads,
    colWeightedMeans, colWeightedMedians, colWeightedSds,
    colWeightedVars, rowAlls, rowAnyNAs, rowAnys, rowAvgsPerColSet,
    rowCollapse, rowCounts, rowCummaxs, rowCummins, rowCumprods,
    rowCumsums, rowDiffs, rowIQRDiffs, rowIQRs, rowLogSumExps,
    rowMadDiffs, rowMads, rowMaxs, rowMeans2, rowMedians, rowMins,
    rowOrderStats, rowProds, rowQuantiles, rowRanges, rowRanks,
    rowSdDiffs, rowSds, rowSums2, rowTabulates, rowVarDiffs, rowVars,
    rowWeightedMads, rowWeightedMeans, rowWeightedMedians,
    rowWeightedSds, rowWeightedVars
Loading required package: GenomicRanges
Loading required package: stats4
Loading required package: BiocGenerics
Attaching package: 'BiocGenerics'
The following objects are masked from 'package:stats':
    IQR, mad, sd, var, xtabs
The following objects are masked from 'package:base':
    Filter, Find, Map, Position, Reduce, anyDuplicated, aperm, append,
    as.data.frame, basename, cbind, colnames, dirname, do.call,
    duplicated, eval, evalq, get, grep, grepl, intersect, is.unsorted,
    lapply, mapply, match, mget, order, paste, pmax, pmax.int, pmin,
    pmin.int, rank, rbind, rownames, sapply, setdiff, table, tapply,
    union, unique, unsplit, which.max, which.min
Loading required package: S4Vectors
Attaching package: 'S4Vectors'
The following object is masked from 'package:utils':
    findMatches
The following objects are masked from 'package:base':
    I, expand.grid, unname
Loading required package: IRanges
Attaching package: 'IRanges'
The following object is masked from 'package:grDevices':
    windows
Loading required package: GenomeInfoDb
Loading required package: Biobase
Welcome to Bioconductor
    Vignettes contain introductory material; view with
    'browseVignettes()'. To cite Bioconductor, see
    'citation("Biobase")', and for packages 'citation("pkgname")'.
Attaching package: 'Biobase'
The following object is masked from 'package:MatrixGenerics':
    rowMedians
The following objects are masked from 'package:matrixStats':
    anyMissing, rowMedians
[ FAIL 0 | WARN 106 | SKIP 0 | PASS 846 ]
[ FAIL 0 | WARN 106 | SKIP 0 | PASS 846 ]
> 
> proc.time()
   user  system elapsed 
 221.46    5.93  226.39 
dittoSeq.Rcheck/dittoSeq-Ex.timings
| name | user | system | elapsed | |
| Darken | 0 | 0 | 0 | |
| Lighten | 0 | 0 | 0 | |
| Simulate | 2.61 | 0.16 | 2.78 | |
| addDimReduction | 1.35 | 0.08 | 1.42 | |
| addPrcomp | 1.54 | 0.06 | 1.61 | |
| demux.SNP.summary | 1.66 | 0.06 | 1.75 | |
| demux.calls.summary | 2.54 | 0.08 | 2.63 | |
| dittoBarPlot | 3.77 | 0.11 | 4.22 | |
| dittoColors | 0.03 | 0.05 | 0.08 | |
| dittoDimPlot | 8.02 | 0.14 | 8.25 | |
| dittoDotPlot | 6.19 | 0.22 | 6.41 | |
| dittoFreqPlot | 7.34 | 0.20 | 7.64 | |
| dittoHeatmap | 5.56 | 1.08 | 5.75 | |
| dittoHex | 10.74 | 0.20 | 11.07 | |
| dittoPlot | 11.26 | 0.22 | 11.48 | |
| dittoPlotVarsAcrossGroups | 3.55 | 0.11 | 3.66 | |
| dittoScatterPlot | 7.14 | 0.09 | 7.24 | |
| gene | 4.35 | 0.56 | 4.90 | |
| getGenes | 1.23 | 0.07 | 1.30 | |
| getMetas | 1.22 | 0.01 | 1.23 | |
| getReductions | 1.64 | 0.03 | 1.67 | |
| importDemux | 3.22 | 0.08 | 3.30 | |
| importDittoBulk | 0.81 | 0.13 | 0.94 | |
| isBulk | 0.80 | 0.17 | 0.97 | |
| isGene | 1.31 | 0.01 | 1.32 | |
| isMeta | 0.92 | 0.08 | 1.00 | |
| meta | 1.23 | 0.00 | 1.24 | |
| metaLevels | 1.00 | 0.06 | 1.06 | |
| multi_dittoDimPlot | 3.77 | 0.11 | 3.87 | |
| multi_dittoDimPlotVaryCells | 9.23 | 0.13 | 9.36 | |
| multi_dittoPlot | 6.61 | 0.15 | 6.75 | |
| setBulk | 1.21 | 0.03 | 1.25 | |