| Back to Multiple platform build/check report for BioC 3.19: simplified long | 
 | 
This page was generated on 2024-10-18 20:42 -0400 (Fri, 18 Oct 2024).
| Hostname | OS | Arch (*) | R version | Installed pkgs | 
|---|---|---|---|---|
| nebbiolo1 | Linux (Ubuntu 22.04.3 LTS) | x86_64 | 4.4.1 (2024-06-14) -- "Race for Your Life" | 4763 | 
| palomino7 | Windows Server 2022 Datacenter | x64 | 4.4.1 (2024-06-14 ucrt) -- "Race for Your Life" | 4500 | 
| merida1 | macOS 12.7.5 Monterey | x86_64 | 4.4.1 (2024-06-14) -- "Race for Your Life" | 4530 | 
| kjohnson1 | macOS 13.6.6 Ventura | arm64 | 4.4.1 (2024-06-14) -- "Race for Your Life" | 4480 | 
| Click on any hostname to see more info about the system (e.g. compilers) (*) as reported by 'uname -p', except on Windows and Mac OS X | ||||
| Package 570/2300 | Hostname | OS / Arch | INSTALL | BUILD | CHECK | BUILD BIN | ||||||||
| diffcyt 1.24.0  (landing page) Lukas M. Weber 
 | nebbiolo1 | Linux (Ubuntu 22.04.3 LTS) / x86_64 | OK | OK | OK |  | ||||||||
| palomino7 | Windows Server 2022 Datacenter / x64 | OK | OK | OK | OK |  | ||||||||
| merida1 | macOS 12.7.5 Monterey / x86_64 | OK | OK | OK | OK |  | ||||||||
| kjohnson1 | macOS 13.6.6 Ventura / arm64 | OK | OK | OK | OK |  | ||||||||
| To the developers/maintainers of the diffcyt package: - Allow up to 24 hours (and sometimes 48 hours) for your latest push to git@git.bioconductor.org:packages/diffcyt.git to reflect on this report. See Troubleshooting Build Report for more information. - Use the following Renviron settings to reproduce errors and warnings. - If 'R CMD check' started to fail recently on the Linux builder(s) over a missing dependency, add the missing dependency to 'Suggests:' in your DESCRIPTION file. See Renviron.bioc for more information. | 
| Package: diffcyt | 
| Version: 1.24.0 | 
| Command: /Library/Frameworks/R.framework/Resources/bin/R CMD check --install=check:diffcyt.install-out.txt --library=/Library/Frameworks/R.framework/Resources/library --no-vignettes --timings diffcyt_1.24.0.tar.gz | 
| StartedAt: 2024-10-17 19:43:04 -0400 (Thu, 17 Oct 2024) | 
| EndedAt: 2024-10-17 19:48:07 -0400 (Thu, 17 Oct 2024) | 
| EllapsedTime: 303.3 seconds | 
| RetCode: 0 | 
| Status: OK | 
| CheckDir: diffcyt.Rcheck | 
| Warnings: 0 | 
##############################################################################
##############################################################################
###
### Running command:
###
###   /Library/Frameworks/R.framework/Resources/bin/R CMD check --install=check:diffcyt.install-out.txt --library=/Library/Frameworks/R.framework/Resources/library --no-vignettes --timings diffcyt_1.24.0.tar.gz
###
##############################################################################
##############################################################################
* using log directory ‘/Users/biocbuild/bbs-3.19-bioc/meat/diffcyt.Rcheck’
* using R version 4.4.1 (2024-06-14)
* using platform: aarch64-apple-darwin20
* R was compiled by
    Apple clang version 14.0.0 (clang-1400.0.29.202)
    GNU Fortran (GCC) 12.2.0
* running under: macOS Ventura 13.6.6
* using session charset: UTF-8
* using option ‘--no-vignettes’
* checking for file ‘diffcyt/DESCRIPTION’ ... OK
* this is package ‘diffcyt’ version ‘1.24.0’
* checking package namespace information ... OK
* checking package dependencies ... OK
* checking if this is a source package ... OK
* checking if there is a namespace ... OK
* checking for hidden files and directories ... OK
* checking for portable file names ... OK
* checking for sufficient/correct file permissions ... OK
* checking whether package ‘diffcyt’ can be installed ... OK
* checking installed package size ... OK
* checking package directory ... OK
* checking ‘build’ directory ... OK
* checking DESCRIPTION meta-information ... NOTE
License stub is invalid DCF.
* checking top-level files ... OK
* checking for left-over files ... OK
* checking index information ... OK
* checking package subdirectories ... OK
* checking code files for non-ASCII characters ... OK
* checking R files for syntax errors ... OK
* checking whether the package can be loaded ... OK
* checking whether the package can be loaded with stated dependencies ... OK
* checking whether the package can be unloaded cleanly ... OK
* checking whether the namespace can be loaded with stated dependencies ... OK
* checking whether the namespace can be unloaded cleanly ... OK
* checking dependencies in R code ... OK
* checking S3 generic/method consistency ... OK
* checking replacement functions ... OK
* checking foreign function calls ... OK
* checking R code for possible problems ... NOTE
calcCounts: no visible binding for global variable ‘cluster_id’
calcCounts: no visible binding for global variable ‘sample_id’
calcMedians: no visible binding for global variable ‘cluster_id’
calcMedians: no visible binding for global variable ‘sample_id’
calcMedians: no visible binding for global variable ‘value’
calcMediansByClusterMarker: no visible binding for global variable
  ‘cluster_id’
calcMediansByClusterMarker: no visible binding for global variable
  ‘marker_id’
calcMediansByClusterMarker: no visible binding for global variable
  ‘value’
calcMediansBySampleMarker: no visible binding for global variable
  ‘sample_id’
calcMediansBySampleMarker: no visible binding for global variable
  ‘marker_id’
calcMediansBySampleMarker: no visible binding for global variable
  ‘value’
Undefined global functions or variables:
  cluster_id marker_id sample_id value
* checking Rd files ... OK
* checking Rd metadata ... OK
* checking Rd cross-references ... OK
* checking for missing documentation entries ... OK
* checking for code/documentation mismatches ... OK
* checking Rd \usage sections ... OK
* checking Rd contents ... OK
* checking for unstated dependencies in examples ... OK
* checking files in ‘vignettes’ ... OK
* checking examples ... OK
Examples with CPU (user + system) or elapsed time > 5s
              user system elapsed
diffcyt     10.086  0.104  10.342
testDA_GLMM  8.408  0.078   8.723
plotHeatmap  6.524  0.117   6.879
topTable     5.077  0.050   5.632
testDS_LMM   4.805  0.039   5.043
* checking for unstated dependencies in ‘tests’ ... OK
* checking tests ...
  Running ‘testthat.R’
 OK
* checking for unstated dependencies in vignettes ... OK
* checking package vignettes ... OK
* checking running R code from vignettes ... SKIPPED
* checking re-building of vignette outputs ... SKIPPED
* checking PDF version of manual ... OK
* DONE
Status: 2 NOTEs
See
  ‘/Users/biocbuild/bbs-3.19-bioc/meat/diffcyt.Rcheck/00check.log’
for details.
diffcyt.Rcheck/00install.out
############################################################################## ############################################################################## ### ### Running command: ### ### /Library/Frameworks/R.framework/Resources/bin/R CMD INSTALL diffcyt ### ############################################################################## ############################################################################## * installing to library ‘/Library/Frameworks/R.framework/Versions/4.4-arm64/Resources/library’ * installing *source* package ‘diffcyt’ ... ** using staged installation ** R ** inst ** byte-compile and prepare package for lazy loading ** help *** installing help indices ** building package indices ** installing vignettes ** testing if installed package can be loaded from temporary location ** testing if installed package can be loaded from final location ** testing if installed package keeps a record of temporary installation path * DONE (diffcyt)
diffcyt.Rcheck/tests/testthat.Rout
R version 4.4.1 (2024-06-14) -- "Race for Your Life"
Copyright (C) 2024 The R Foundation for Statistical Computing
Platform: aarch64-apple-darwin20
R is free software and comes with ABSOLUTELY NO WARRANTY.
You are welcome to redistribute it under certain conditions.
Type 'license()' or 'licence()' for distribution details.
R is a collaborative project with many contributors.
Type 'contributors()' for more information and
'citation()' on how to cite R or R packages in publications.
Type 'demo()' for some demos, 'help()' for on-line help, or
'help.start()' for an HTML browser interface to help.
Type 'q()' to quit R.
> library(testthat)
> library(diffcyt)
> 
> test_check("diffcyt")
[ FAIL 0 | WARN 0 | SKIP 0 | PASS 8 ]
> 
> proc.time()
   user  system elapsed 
 12.077   0.703  13.509 
diffcyt.Rcheck/diffcyt-Ex.timings
| name | user | system | elapsed | |
| calcCounts | 3.014 | 0.074 | 3.118 | |
| calcMedians | 2.149 | 0.041 | 2.228 | |
| calcMediansByClusterMarker | 1.686 | 0.053 | 1.781 | |
| calcMediansBySampleMarker | 1.613 | 0.029 | 1.698 | |
| createContrast | 0.001 | 0.000 | 0.000 | |
| createDesignMatrix | 0.009 | 0.002 | 0.011 | |
| createFormula | 0.003 | 0.001 | 0.004 | |
| diffcyt | 10.086 | 0.104 | 10.342 | |
| generateClusters | 1.587 | 0.027 | 1.660 | |
| plotHeatmap | 6.524 | 0.117 | 6.879 | |
| prepareData | 0.023 | 0.001 | 0.024 | |
| testDA_GLMM | 8.408 | 0.078 | 8.723 | |
| testDA_edgeR | 2.134 | 0.037 | 2.383 | |
| testDA_voom | 2.080 | 0.021 | 2.197 | |
| testDS_LMM | 4.805 | 0.039 | 5.043 | |
| testDS_limma | 2.837 | 0.024 | 2.995 | |
| topTable | 5.077 | 0.050 | 5.632 | |
| transformData | 0.048 | 0.001 | 0.050 | |