| Back to Multiple platform build/check report for BioC 3.19: simplified long |
|
This page was generated on 2024-05-09 11:40:46 -0400 (Thu, 09 May 2024).
| Hostname | OS | Arch (*) | R version | Installed pkgs |
|---|---|---|---|---|
| nebbiolo1 | Linux (Ubuntu 22.04.3 LTS) | x86_64 | 4.4.0 (2024-04-24) -- "Puppy Cup" | 4748 |
| palomino3 | Windows Server 2022 Datacenter | x64 | 4.4.0 (2024-04-24 ucrt) -- "Puppy Cup" | 4484 |
| lconway | macOS 12.7.1 Monterey | x86_64 | 4.4.0 (2024-04-24) -- "Puppy Cup" | 4514 |
| kunpeng2 | Linux (openEuler 22.03 LTS-SP1) | aarch64 | 4.4.0 beta (2024-04-15 r86425) -- "Puppy Cup" | 4480 |
| Click on any hostname to see more info about the system (e.g. compilers) (*) as reported by 'uname -p', except on Windows and Mac OS X | ||||
| Package 561/2300 | Hostname | OS / Arch | INSTALL | BUILD | CHECK | BUILD BIN | ||||||||
| destiny 3.18.0 (landing page) Philipp Angerer
| nebbiolo1 | Linux (Ubuntu 22.04.3 LTS) / x86_64 | OK | OK | OK | |||||||||
| palomino3 | Windows Server 2022 Datacenter / x64 | OK | OK | OK | OK | |||||||||
| lconway | macOS 12.7.1 Monterey / x86_64 | OK | OK | OK | OK | |||||||||
| kunpeng2 | Linux (openEuler 22.03 LTS-SP1) / aarch64 | OK | OK | OK | ||||||||||
| kjohnson3 | macOS 13.6.5 Ventura / arm64 | see weekly results here | ||||||||||||
|
To the developers/maintainers of the destiny package: - Allow up to 24 hours (and sometimes 48 hours) for your latest push to git@git.bioconductor.org:packages/destiny.git to reflect on this report. See Troubleshooting Build Report for more information. - Use the following Renviron settings to reproduce errors and warnings. - If 'R CMD check' started to fail recently on the Linux builder(s) over a missing dependency, add the missing dependency to 'Suggests:' in your DESCRIPTION file. See Renviron.bioc for more information. - See Martin Grigorov's blog post for how to debug Linux ARM64 related issues on a x86_64 host. |
| Package: destiny |
| Version: 3.18.0 |
| Command: /home/biocbuild/R/R-beta-2024-04-15_r86425/bin/R CMD check --install=check:destiny.install-out.txt --library=/home/biocbuild/R/R-beta-2024-04-15_r86425/site-library --no-vignettes --timings destiny_3.18.0.tar.gz |
| StartedAt: 2024-05-09 06:45:39 -0000 (Thu, 09 May 2024) |
| EndedAt: 2024-05-09 06:50:55 -0000 (Thu, 09 May 2024) |
| EllapsedTime: 315.6 seconds |
| RetCode: 0 |
| Status: OK |
| CheckDir: destiny.Rcheck |
| Warnings: 0 |
##############################################################################
##############################################################################
###
### Running command:
###
### /home/biocbuild/R/R-beta-2024-04-15_r86425/bin/R CMD check --install=check:destiny.install-out.txt --library=/home/biocbuild/R/R-beta-2024-04-15_r86425/site-library --no-vignettes --timings destiny_3.18.0.tar.gz
###
##############################################################################
##############################################################################
* using log directory ‘/home/biocbuild/bbs-3.19-bioc/meat/destiny.Rcheck’
* using R version 4.4.0 beta (2024-04-15 r86425)
* using platform: aarch64-unknown-linux-gnu
* R was compiled by
gcc (GCC) 10.3.1
GNU Fortran (GCC) 10.3.1
* running under: openEuler 22.03 (LTS-SP1)
* using session charset: UTF-8
* using option ‘--no-vignettes’
* checking for file ‘destiny/DESCRIPTION’ ... OK
* checking extension type ... Package
* this is package ‘destiny’ version ‘3.18.0’
* package encoding: UTF-8
* checking package namespace information ... OK
* checking package dependencies ... OK
* checking if this is a source package ... OK
* checking if there is a namespace ... OK
* checking for hidden files and directories ... OK
* checking for portable file names ... OK
* checking for sufficient/correct file permissions ... OK
* checking whether package ‘destiny’ can be installed ... OK
* used C++ compiler: ‘g++ (GCC) 10.3.1’
* checking C++ specification ... NOTE
Specified C++11: please drop specification unless essential
* checking installed package size ... OK
* checking package directory ... OK
* checking DESCRIPTION meta-information ... NOTE
Packages listed in more than one of Depends, Imports, Suggests, Enhances:
‘rgl’ ‘SingleCellExperiment’
A package should be listed in only one of these fields.
'LinkingTo' for ‘grDevices’ is unused as it has no 'include' directory
* checking top-level files ... OK
* checking for left-over files ... OK
* checking index information ... OK
* checking package subdirectories ... OK
* checking code files for non-ASCII characters ... OK
* checking R files for syntax errors ... OK
* checking whether the package can be loaded ... OK
* checking whether the package can be loaded with stated dependencies ... OK
* checking whether the package can be unloaded cleanly ... OK
* checking whether the namespace can be loaded with stated dependencies ... OK
* checking whether the namespace can be unloaded cleanly ... OK
* checking loading without being on the library search path ... OK
* checking whether startup messages can be suppressed ... OK
* checking dependencies in R code ... OK
* checking S3 generic/method consistency ... OK
* checking replacement functions ... OK
* checking foreign function calls ... OK
* checking R code for possible problems ... OK
* checking Rd files ... NOTE
checkRd: (-1) Gene-Relevance.Rd:94: Escaped LaTeX specials: \_
* checking Rd metadata ... OK
* checking Rd cross-references ... OK
* checking for missing documentation entries ... OK
* checking for code/documentation mismatches ... OK
* checking Rd \usage sections ... NOTE
S3 methods shown with full name in Rd file 'coercions.Rd':
‘fortify.DiffusionMap’ ‘fortify.DPT’
S3 methods shown with full name in Rd file 'plot.DPT.Rd':
‘plot.DPT’
S3 methods shown with full name in Rd file 'plot.DiffusionMap.Rd':
‘plot.DiffusionMap’
The \usage entries for S3 methods should use the \method markup and not
their full name.
See chapter ‘Writing R documentation files’ in the ‘Writing R
Extensions’ manual.
* checking Rd contents ... OK
* checking for unstated dependencies in examples ... OK
* checking contents of ‘data’ directory ... OK
* checking data for non-ASCII characters ... OK
* checking data for ASCII and uncompressed saves ... OK
* checking line endings in C/C++/Fortran sources/headers ... OK
* checking line endings in Makefiles ... OK
* checking compilation flags in Makevars ... OK
* checking for GNU extensions in Makefiles ... OK
* checking for portable use of $(BLAS_LIBS) and $(LAPACK_LIBS) ... OK
* checking use of PKG_*FLAGS in Makefiles ... OK
* checking compiled code ... NOTE
Note: information on .o files is not available
* checking files in ‘vignettes’ ... OK
* checking examples ... OK
Examples with CPU (user + system) or elapsed time > 5s
user system elapsed
Gene-Relevance-plotting 7.381 0.016 7.410
destiny 5.123 0.012 5.145
* checking for unstated dependencies in ‘tests’ ... OK
* checking tests ...
Running ‘testthat.R’
OK
* checking for unstated dependencies in vignettes ... OK
* checking package vignettes ... OK
* checking running R code from vignettes ... SKIPPED
* checking re-building of vignette outputs ... SKIPPED
* checking PDF version of manual ... OK
* DONE
Status: 5 NOTEs
See
‘/home/biocbuild/bbs-3.19-bioc/meat/destiny.Rcheck/00check.log’
for details.
destiny.Rcheck/00install.out
############################################################################## ############################################################################## ### ### Running command: ### ### /home/biocbuild/R/R-beta-2024-04-15_r86425/bin/R CMD INSTALL destiny ### ############################################################################## ############################################################################## * installing to library ‘/home/biocbuild/R/R-beta-2024-04-15_r86425/site-library’ * installing *source* package ‘destiny’ ... ** using staged installation ** libs using C++ compiler: ‘g++ (GCC) 10.3.1’ using C++11 g++ -std=gnu++11 -I"/home/biocbuild/R/R-beta-2024-04-15_r86425/include" -DNDEBUG -I'/home/biocbuild/R/R-beta-2024-04-15_r86425/site-library/Rcpp/include' -I'/home/biocbuild/R/R-beta-2024-04-15_r86425/site-library/RcppEigen/include' -I'/home/biocbuild/R/R-beta-2024-04-15_r86425/library/grDevices/include' -I/usr/local/include -ggdb -fPIC -g -O2 -Wall -c RcppExports.cpp -o RcppExports.o g++ -std=gnu++11 -I"/home/biocbuild/R/R-beta-2024-04-15_r86425/include" -DNDEBUG -I'/home/biocbuild/R/R-beta-2024-04-15_r86425/site-library/Rcpp/include' -I'/home/biocbuild/R/R-beta-2024-04-15_r86425/site-library/RcppEigen/include' -I'/home/biocbuild/R/R-beta-2024-04-15_r86425/library/grDevices/include' -I/usr/local/include -ggdb -fPIC -g -O2 -Wall -c censoring.cpp -o censoring.o g++ -std=gnu++11 -I"/home/biocbuild/R/R-beta-2024-04-15_r86425/include" -DNDEBUG -I'/home/biocbuild/R/R-beta-2024-04-15_r86425/site-library/Rcpp/include' -I'/home/biocbuild/R/R-beta-2024-04-15_r86425/site-library/RcppEigen/include' -I'/home/biocbuild/R/R-beta-2024-04-15_r86425/library/grDevices/include' -I/usr/local/include -ggdb -fPIC -g -O2 -Wall -c utils.cpp -o utils.o g++ -std=gnu++11 -shared -L/home/biocbuild/R/R-beta-2024-04-15_r86425/lib -L/usr/local/lib -o destiny.so RcppExports.o censoring.o utils.o -L/home/biocbuild/R/R-beta-2024-04-15_r86425/lib -lR installing to /home/biocbuild/R/R-beta-2024-04-15_r86425/site-library/00LOCK-destiny/00new/destiny/libs ** R ** data ** demo ** inst ** byte-compile and prepare package for lazy loading ** help *** installing help indices ** building package indices ** installing vignettes ** testing if installed package can be loaded from temporary location ** checking absolute paths in shared objects and dynamic libraries ** testing if installed package can be loaded from final location ** testing if installed package keeps a record of temporary installation path * DONE (destiny)
destiny.Rcheck/tests/testthat.Rout
R version 4.4.0 beta (2024-04-15 r86425) -- "Puppy Cup"
Copyright (C) 2024 The R Foundation for Statistical Computing
Platform: aarch64-unknown-linux-gnu
R is free software and comes with ABSOLUTELY NO WARRANTY.
You are welcome to redistribute it under certain conditions.
Type 'license()' or 'licence()' for distribution details.
R is a collaborative project with many contributors.
Type 'contributors()' for more information and
'citation()' on how to cite R or R packages in publications.
Type 'demo()' for some demos, 'help()' for on-line help, or
'help.start()' for an HTML browser interface to help.
Type 'q()' to quit R.
> library(testthat)
> library(destiny)
>
> test_check('destiny')
[ FAIL 0 | WARN 0 | SKIP 1 | PASS 67 ]
══ Skipped tests (1) ═══════════════════════════════════════════════════════════
• Not yet stable (1): 'test_gr.r:23:2'
[ FAIL 0 | WARN 0 | SKIP 1 | PASS 67 ]
>
> proc.time()
user system elapsed
16.948 0.484 17.446
destiny.Rcheck/destiny-Ex.timings
| name | user | system | elapsed | |
| DPT-matrix-methods | 1.996 | 0.040 | 2.038 | |
| DPT-methods | 1.689 | 0.020 | 1.712 | |
| DPT | 1.813 | 0.044 | 1.860 | |
| DiffusionMap-accessors | 0.491 | 0.020 | 0.512 | |
| DiffusionMap-class | 3.386 | 0.040 | 3.431 | |
| DiffusionMap-methods | 0.461 | 0.000 | 0.462 | |
| ExpressionSet-helpers | 0.117 | 0.000 | 0.117 | |
| Gene-Relevance-methods | 1.861 | 0.032 | 1.899 | |
| Gene-Relevance-plotting | 7.381 | 0.016 | 7.410 | |
| Gene-Relevance | 3.298 | 0.031 | 3.336 | |
| Sigmas-class | 0.189 | 0.004 | 0.194 | |
| coercions | 1.278 | 0.024 | 1.305 | |
| colorlegend | 0.007 | 0.004 | 0.012 | |
| cube_helix | 0.008 | 0.000 | 0.007 | |
| destiny-generics | 0.534 | 0.012 | 0.548 | |
| destiny | 5.123 | 0.012 | 5.145 | |
| dm_predict | 0.52 | 0.00 | 0.52 | |
| eig_decomp | 0.002 | 0.000 | 0.001 | |
| extractions | 0.964 | 0.008 | 0.974 | |
| find_dm_k | 0.005 | 0.004 | 0.009 | |
| find_sigmas | 0.714 | 0.000 | 0.715 | |
| find_tips | 0.507 | 0.012 | 0.520 | |
| l_which | 0 | 0 | 0 | |
| plot.DPT | 2.267 | 0.048 | 2.320 | |
| plot.DiffusionMap | 0.665 | 0.016 | 0.682 | |
| plot.Sigmas | 0.171 | 0.012 | 0.183 | |
| projection_dist | 0.235 | 0.000 | 0.237 | |
| random_root | 0.451 | 0.004 | 0.456 | |