| Back to Multiple platform build/check report for BioC 3.19: simplified long |
|
This page was generated on 2024-06-11 14:43 -0400 (Tue, 11 Jun 2024).
| Hostname | OS | Arch (*) | R version | Installed pkgs |
|---|---|---|---|---|
| nebbiolo1 | Linux (Ubuntu 22.04.3 LTS) | x86_64 | 4.4.0 (2024-04-24) -- "Puppy Cup" | 4757 |
| palomino3 | Windows Server 2022 Datacenter | x64 | 4.4.0 (2024-04-24 ucrt) -- "Puppy Cup" | 4491 |
| lconway | macOS 12.7.1 Monterey | x86_64 | 4.4.0 (2024-04-24) -- "Puppy Cup" | 4522 |
| kjohnson3 | macOS 13.6.5 Ventura | arm64 | 4.4.0 (2024-04-24) -- "Puppy Cup" | 4468 |
| Click on any hostname to see more info about the system (e.g. compilers) (*) as reported by 'uname -p', except on Windows and Mac OS X | ||||
| Package 548/2300 | Hostname | OS / Arch | INSTALL | BUILD | CHECK | BUILD BIN | ||||||||
| densvis 1.14.0 (landing page) Alan O'Callaghan
| nebbiolo1 | Linux (Ubuntu 22.04.3 LTS) / x86_64 | OK | OK | OK | |||||||||
| palomino3 | Windows Server 2022 Datacenter / x64 | OK | OK | ERROR | OK | |||||||||
| lconway | macOS 12.7.1 Monterey / x86_64 | OK | OK | OK | OK | |||||||||
| kjohnson3 | macOS 13.6.5 Ventura / arm64 | OK | OK | OK | OK | |||||||||
|
To the developers/maintainers of the densvis package: - Allow up to 24 hours (and sometimes 48 hours) for your latest push to git@git.bioconductor.org:packages/densvis.git to reflect on this report. See Troubleshooting Build Report for more information. - Use the following Renviron settings to reproduce errors and warnings. - If 'R CMD check' started to fail recently on the Linux builder(s) over a missing dependency, add the missing dependency to 'Suggests:' in your DESCRIPTION file. See Renviron.bioc for more information. |
| Package: densvis |
| Version: 1.14.0 |
| Command: /Library/Frameworks/R.framework/Resources/bin/R CMD INSTALL densvis |
| StartedAt: 2024-06-09 15:11:36 -0400 (Sun, 09 Jun 2024) |
| EndedAt: 2024-06-09 15:12:07 -0400 (Sun, 09 Jun 2024) |
| EllapsedTime: 31.7 seconds |
| RetCode: 0 |
| Status: OK |
##############################################################################
##############################################################################
###
### Running command:
###
### /Library/Frameworks/R.framework/Resources/bin/R CMD INSTALL densvis
###
##############################################################################
##############################################################################
* installing to library ‘/Library/Frameworks/R.framework/Versions/4.4-arm64/Resources/library’
* installing *source* package ‘densvis’ ...
** using non-staged installation via StagedInstall field
** libs
using C++ compiler: ‘Apple clang version 15.0.0 (clang-1500.1.0.2.5)’
using SDK: ‘MacOSX11.3.sdk’
clang++ -arch arm64 -std=gnu++17 -I"/Library/Frameworks/R.framework/Resources/include" -DNDEBUG -I'/Library/Frameworks/R.framework/Versions/4.4-arm64/Resources/library/Rcpp/include' -I/opt/R/arm64/include -fPIC -falign-functions=64 -Wall -g -O2 -c RcppExports.cpp -o RcppExports.o
clang++ -arch arm64 -std=gnu++17 -I"/Library/Frameworks/R.framework/Resources/include" -DNDEBUG -I'/Library/Frameworks/R.framework/Versions/4.4-arm64/Resources/library/Rcpp/include' -I/opt/R/arm64/include -fPIC -falign-functions=64 -Wall -g -O2 -c densne.cpp -o densne.o
densne.cpp:181:24: warning: variable 'row_P' is used uninitialized whenever 'for' loop exits because its condition is false [-Wsometimes-uninitialized]
for(int i = 0; i < N * N; i++) P[i] /= sum_P;
^~~~~~~~~
densne.cpp:201:33: note: uninitialized use occurs here
computeExpectedLogDist(&ro, row_P, col_P, val_P, val_D, N, logdist_shift);
^~~~~
densne.cpp:181:24: note: remove the condition if it is always true
for(int i = 0; i < N * N; i++) P[i] /= sum_P;
^~~~~~~~~
densne.cpp:154:35: note: initialize the variable 'row_P' to silence this warning
double* P; unsigned int* row_P; unsigned int* col_P; double* val_P; double* val_D;
^
= nullptr
densne.cpp:181:24: warning: variable 'col_P' is used uninitialized whenever 'for' loop exits because its condition is false [-Wsometimes-uninitialized]
for(int i = 0; i < N * N; i++) P[i] /= sum_P;
^~~~~~~~~
densne.cpp:201:40: note: uninitialized use occurs here
computeExpectedLogDist(&ro, row_P, col_P, val_P, val_D, N, logdist_shift);
^~~~~
densne.cpp:181:24: note: remove the condition if it is always true
for(int i = 0; i < N * N; i++) P[i] /= sum_P;
^~~~~~~~~
densne.cpp:154:56: note: initialize the variable 'col_P' to silence this warning
double* P; unsigned int* row_P; unsigned int* col_P; double* val_P; double* val_D;
^
= nullptr
densne.cpp:181:24: warning: variable 'val_P' is used uninitialized whenever 'for' loop exits because its condition is false [-Wsometimes-uninitialized]
for(int i = 0; i < N * N; i++) P[i] /= sum_P;
^~~~~~~~~
densne.cpp:201:47: note: uninitialized use occurs here
computeExpectedLogDist(&ro, row_P, col_P, val_P, val_D, N, logdist_shift);
^~~~~
densne.cpp:181:24: note: remove the condition if it is always true
for(int i = 0; i < N * N; i++) P[i] /= sum_P;
^~~~~~~~~
densne.cpp:154:71: note: initialize the variable 'val_P' to silence this warning
double* P; unsigned int* row_P; unsigned int* col_P; double* val_P; double* val_D;
^
= nullptr
densne.cpp:181:24: warning: variable 'val_D' is used uninitialized whenever 'for' loop exits because its condition is false [-Wsometimes-uninitialized]
for(int i = 0; i < N * N; i++) P[i] /= sum_P;
^~~~~~~~~
densne.cpp:201:54: note: uninitialized use occurs here
computeExpectedLogDist(&ro, row_P, col_P, val_P, val_D, N, logdist_shift);
^~~~~
densne.cpp:181:24: note: remove the condition if it is always true
for(int i = 0; i < N * N; i++) P[i] /= sum_P;
^~~~~~~~~
densne.cpp:154:86: note: initialize the variable 'val_D' to silence this warning
double* P; unsigned int* row_P; unsigned int* col_P; double* val_P; double* val_D;
^
= nullptr
4 warnings generated.
clang++ -arch arm64 -std=gnu++17 -I"/Library/Frameworks/R.framework/Resources/include" -DNDEBUG -I'/Library/Frameworks/R.framework/Versions/4.4-arm64/Resources/library/Rcpp/include' -I/opt/R/arm64/include -fPIC -falign-functions=64 -Wall -g -O2 -c densvis.cpp -o densvis.o
clang++ -arch arm64 -std=gnu++17 -I"/Library/Frameworks/R.framework/Resources/include" -DNDEBUG -I'/Library/Frameworks/R.framework/Versions/4.4-arm64/Resources/library/Rcpp/include' -I/opt/R/arm64/include -fPIC -falign-functions=64 -Wall -g -O2 -c sptree.cpp -o sptree.o
clang++ -arch arm64 -std=gnu++17 -dynamiclib -Wl,-headerpad_max_install_names -undefined dynamic_lookup -L/Library/Frameworks/R.framework/Resources/lib -L/opt/R/arm64/lib -o densvis.so RcppExports.o densne.o densvis.o sptree.o -L/Library/Frameworks/R.framework/Resources/lib -lRlapack -L/Library/Frameworks/R.framework/Resources/lib -lRblas -L/opt/gfortran/lib/gcc/aarch64-apple-darwin20.0/12.2.0 -L/opt/gfortran/lib -lgfortran -lemutls_w -lquadmath -F/Library/Frameworks/R.framework/.. -framework R -Wl,-framework -Wl,CoreFoundation
installing to /Library/Frameworks/R.framework/Versions/4.4-arm64/Resources/library/densvis/libs
** R
** inst
** byte-compile and prepare package for lazy loading
** help
*** installing help indices
** building package indices
** installing vignettes
** testing if installed package can be loaded
* DONE (densvis)