| Back to Multiple platform build/check report for BioC 3.19: simplified long | 
 | 
This page was generated on 2024-06-11 14:43 -0400 (Tue, 11 Jun 2024).
| Hostname | OS | Arch (*) | R version | Installed pkgs | 
|---|---|---|---|---|
| nebbiolo1 | Linux (Ubuntu 22.04.3 LTS) | x86_64 | 4.4.0 (2024-04-24) -- "Puppy Cup" | 4757 | 
| palomino3 | Windows Server 2022 Datacenter | x64 | 4.4.0 (2024-04-24 ucrt) -- "Puppy Cup" | 4491 | 
| lconway | macOS 12.7.1 Monterey | x86_64 | 4.4.0 (2024-04-24) -- "Puppy Cup" | 4522 | 
| kjohnson3 | macOS 13.6.5 Ventura | arm64 | 4.4.0 (2024-04-24) -- "Puppy Cup" | 4468 | 
| Click on any hostname to see more info about the system (e.g. compilers) (*) as reported by 'uname -p', except on Windows and Mac OS X | ||||
| Package 518/2300 | Hostname | OS / Arch | INSTALL | BUILD | CHECK | BUILD BIN | ||||||||
| dearseq 1.16.0  (landing page) Boris P. Hejblum 
 | nebbiolo1 | Linux (Ubuntu 22.04.3 LTS) / x86_64 | OK | OK | OK |  | ||||||||
| palomino3 | Windows Server 2022 Datacenter / x64 | OK | OK | OK | OK |  | ||||||||
| lconway | macOS 12.7.1 Monterey / x86_64 | OK | OK | OK | OK |  | ||||||||
| kjohnson3 | macOS 13.6.5 Ventura / arm64 | OK | OK | OK | OK |  | ||||||||
| To the developers/maintainers of the dearseq package: - Allow up to 24 hours (and sometimes 48 hours) for your latest push to git@git.bioconductor.org:packages/dearseq.git to reflect on this report. See Troubleshooting Build Report for more information. - Use the following Renviron settings to reproduce errors and warnings. - If 'R CMD check' started to fail recently on the Linux builder(s) over a missing dependency, add the missing dependency to 'Suggests:' in your DESCRIPTION file. See Renviron.bioc for more information. | 
| Package: dearseq | 
| Version: 1.16.0 | 
| Command: /Library/Frameworks/R.framework/Resources/bin/R CMD check --install=check:dearseq.install-out.txt --library=/Library/Frameworks/R.framework/Resources/library --no-vignettes --timings dearseq_1.16.0.tar.gz | 
| StartedAt: 2024-06-10 12:59:33 -0400 (Mon, 10 Jun 2024) | 
| EndedAt: 2024-06-10 13:02:11 -0400 (Mon, 10 Jun 2024) | 
| EllapsedTime: 158.1 seconds | 
| RetCode: 0 | 
| Status: OK | 
| CheckDir: dearseq.Rcheck | 
| Warnings: 0 | 
##############################################################################
##############################################################################
###
### Running command:
###
###   /Library/Frameworks/R.framework/Resources/bin/R CMD check --install=check:dearseq.install-out.txt --library=/Library/Frameworks/R.framework/Resources/library --no-vignettes --timings dearseq_1.16.0.tar.gz
###
##############################################################################
##############################################################################
* using log directory ‘/Users/biocbuild/bbs-3.19-bioc/meat/dearseq.Rcheck’
* using R version 4.4.0 (2024-04-24)
* using platform: aarch64-apple-darwin20
* R was compiled by
    Apple clang version 14.0.0 (clang-1400.0.29.202)
    GNU Fortran (GCC) 12.2.0
* running under: macOS Ventura 13.6.5
* using session charset: UTF-8
* using option ‘--no-vignettes’
* checking for file ‘dearseq/DESCRIPTION’ ... OK
* checking extension type ... Package
* this is package ‘dearseq’ version ‘1.16.0’
* package encoding: UTF-8
* checking package namespace information ... OK
* checking package dependencies ... OK
* checking if this is a source package ... OK
* checking if there is a namespace ... OK
* checking for hidden files and directories ... OK
* checking for portable file names ... OK
* checking for sufficient/correct file permissions ... OK
* checking whether package ‘dearseq’ can be installed ... OK
* checking installed package size ... OK
* checking package directory ... OK
* checking ‘build’ directory ... OK
* checking DESCRIPTION meta-information ... OK
* checking top-level files ... OK
* checking for left-over files ... OK
* checking index information ... OK
* checking package subdirectories ... OK
* checking code files for non-ASCII characters ... OK
* checking R files for syntax errors ... OK
* checking whether the package can be loaded ... OK
* checking whether the package can be loaded with stated dependencies ... OK
* checking whether the package can be unloaded cleanly ... OK
* checking whether the namespace can be loaded with stated dependencies ... OK
* checking whether the namespace can be unloaded cleanly ... OK
* checking dependencies in R code ... OK
* checking S3 generic/method consistency ... OK
* checking replacement functions ... OK
* checking foreign function calls ... OK
* checking R code for possible problems ... OK
* checking Rd files ... NOTE
checkRd: (-1) plot.dearseq.Rd:12: Lost braces; missing escapes or markup?
    12 | \item{signif_threshold}{a value between \code{0} and {1} specifying the 
       |                                                      ^
checkRd: (-1) plot_ord_pvals.Rd:13: Lost braces; missing escapes or markup?
    13 | \item{signif_threshold}{a value between \code{0} and {1} specifying the 
       |                                                      ^
checkRd: (-1) summary.dearseq.Rd:15: Lost braces; missing escapes or markup?
    15 | \item{signif_threshold}{a value between \code{0} and {1} specifying the 
       |                                                      ^
* checking Rd metadata ... OK
* checking Rd cross-references ... OK
* checking for missing documentation entries ... OK
* checking for code/documentation mismatches ... OK
* checking Rd \usage sections ... OK
* checking Rd contents ... OK
* checking for unstated dependencies in examples ... OK
* checking contents of ‘data’ directory ... OK
* checking data for non-ASCII characters ... OK
* checking data for ASCII and uncompressed saves ... OK
* checking files in ‘vignettes’ ... OK
* checking examples ... OK
* checking for unstated dependencies in ‘tests’ ... OK
* checking tests ...
  Running ‘testthat.R’
 OK
* checking for unstated dependencies in vignettes ... OK
* checking package vignettes ... OK
* checking running R code from vignettes ... SKIPPED
* checking re-building of vignette outputs ... SKIPPED
* checking PDF version of manual ... OK
* DONE
Status: 1 NOTE
See
  ‘/Users/biocbuild/bbs-3.19-bioc/meat/dearseq.Rcheck/00check.log’
for details.
dearseq.Rcheck/00install.out
############################################################################## ############################################################################## ### ### Running command: ### ### /Library/Frameworks/R.framework/Resources/bin/R CMD INSTALL dearseq ### ############################################################################## ############################################################################## * installing to library ‘/Library/Frameworks/R.framework/Versions/4.4-arm64/Resources/library’ * installing *source* package ‘dearseq’ ... ** using staged installation ** R ** data ** inst ** byte-compile and prepare package for lazy loading ** help *** installing help indices *** copying figures ** building package indices ** installing vignettes ** testing if installed package can be loaded from temporary location ** testing if installed package can be loaded from final location ** testing if installed package keeps a record of temporary installation path * DONE (dearseq)
dearseq.Rcheck/tests/testthat.Rout
R version 4.4.0 (2024-04-24) -- "Puppy Cup"
Copyright (C) 2024 The R Foundation for Statistical Computing
Platform: aarch64-apple-darwin20
R is free software and comes with ABSOLUTELY NO WARRANTY.
You are welcome to redistribute it under certain conditions.
Type 'license()' or 'licence()' for distribution details.
R is a collaborative project with many contributors.
Type 'contributors()' for more information and
'citation()' on how to cite R or R packages in publications.
Type 'demo()' for some demos, 'help()' for on-line help, or
'help.start()' for an HTML browser interface to help.
Type 'q()' to quit R.
> library(testthat)
> library(dearseq)
> 
> test_check("dearseq")
[ FAIL 0 | WARN 0 | SKIP 0 | PASS 5 ]
> 
> proc.time()
   user  system elapsed 
  3.608   0.334   6.230 
dearseq.Rcheck/dearseq-Ex.timings
| name | user | system | elapsed | |
| PBT_gmt | 0.004 | 0.006 | 0.011 | |
| baduel_5gs | 0.001 | 0.000 | 0.001 | |
| dear_seq | 0.700 | 0.029 | 1.122 | |
| dgsa_seq | 0.182 | 0.013 | 0.313 | |
| permPvals | 0.001 | 0.001 | 0.005 | |
| plot_hist_pvals | 0.357 | 0.031 | 0.605 | |
| plot_ord_pvals | 0.956 | 0.049 | 1.483 | |
| plot_weights | 0.023 | 0.001 | 0.040 | |
| sp_weights | 0.059 | 0.005 | 0.094 | |
| spaghettiPlot1GS | 1.213 | 0.038 | 2.036 | |
| vc_score | 0.004 | 0.001 | 0.008 | |
| vc_score_h | 0.035 | 0.002 | 0.061 | |
| vc_score_h_perm | 0.107 | 0.008 | 0.172 | |
| vc_score_perm | 0.254 | 0.024 | 0.377 | |
| vc_test_asym | 0.059 | 0.004 | 0.112 | |
| vc_test_perm | 0.016 | 0.001 | 0.030 | |
| voom_weights | 1.402 | 0.063 | 2.410 | |