| Back to Multiple platform build/check report for BioC 3.19: simplified long | 
 | 
This page was generated on 2024-06-11 14:43 -0400 (Tue, 11 Jun 2024).
| Hostname | OS | Arch (*) | R version | Installed pkgs | 
|---|---|---|---|---|
| nebbiolo1 | Linux (Ubuntu 22.04.3 LTS) | x86_64 | 4.4.0 (2024-04-24) -- "Puppy Cup" | 4757 | 
| palomino3 | Windows Server 2022 Datacenter | x64 | 4.4.0 (2024-04-24 ucrt) -- "Puppy Cup" | 4491 | 
| lconway | macOS 12.7.1 Monterey | x86_64 | 4.4.0 (2024-04-24) -- "Puppy Cup" | 4522 | 
| kjohnson3 | macOS 13.6.5 Ventura | arm64 | 4.4.0 (2024-04-24) -- "Puppy Cup" | 4468 | 
| Click on any hostname to see more info about the system (e.g. compilers) (*) as reported by 'uname -p', except on Windows and Mac OS X | ||||
| Package 411/2300 | Hostname | OS / Arch | INSTALL | BUILD | CHECK | BUILD BIN | ||||||||
| comapr 1.8.0  (landing page) Ruqian Lyu 
 | nebbiolo1 | Linux (Ubuntu 22.04.3 LTS) / x86_64 | OK | OK | OK |  | ||||||||
| palomino3 | Windows Server 2022 Datacenter / x64 | OK | OK | OK | OK |  | ||||||||
| lconway | macOS 12.7.1 Monterey / x86_64 | OK | OK | OK | OK |  | ||||||||
| kjohnson3 | macOS 13.6.5 Ventura / arm64 | OK | OK | OK | OK |  | ||||||||
| To the developers/maintainers of the comapr package: - Allow up to 24 hours (and sometimes 48 hours) for your latest push to git@git.bioconductor.org:packages/comapr.git to reflect on this report. See Troubleshooting Build Report for more information. - Use the following Renviron settings to reproduce errors and warnings. - If 'R CMD check' started to fail recently on the Linux builder(s) over a missing dependency, add the missing dependency to 'Suggests:' in your DESCRIPTION file. See Renviron.bioc for more information. | 
| Package: comapr | 
| Version: 1.8.0 | 
| Command: /Library/Frameworks/R.framework/Resources/bin/R CMD check --install=check:comapr.install-out.txt --library=/Library/Frameworks/R.framework/Resources/library --no-vignettes --timings comapr_1.8.0.tar.gz | 
| StartedAt: 2024-06-10 11:26:15 -0400 (Mon, 10 Jun 2024) | 
| EndedAt: 2024-06-10 11:38:50 -0400 (Mon, 10 Jun 2024) | 
| EllapsedTime: 754.5 seconds | 
| RetCode: 0 | 
| Status: OK | 
| CheckDir: comapr.Rcheck | 
| Warnings: 0 | 
##############################################################################
##############################################################################
###
### Running command:
###
###   /Library/Frameworks/R.framework/Resources/bin/R CMD check --install=check:comapr.install-out.txt --library=/Library/Frameworks/R.framework/Resources/library --no-vignettes --timings comapr_1.8.0.tar.gz
###
##############################################################################
##############################################################################
* using log directory ‘/Users/biocbuild/bbs-3.19-bioc/meat/comapr.Rcheck’
* using R version 4.4.0 (2024-04-24)
* using platform: aarch64-apple-darwin20
* R was compiled by
    Apple clang version 14.0.0 (clang-1400.0.29.202)
    GNU Fortran (GCC) 12.2.0
* running under: macOS Ventura 13.6.5
* using session charset: UTF-8
* using option ‘--no-vignettes’
* checking for file ‘comapr/DESCRIPTION’ ... OK
* this is package ‘comapr’ version ‘1.8.0’
* package encoding: UTF-8
* checking package namespace information ... OK
* checking package dependencies ... OK
* checking if this is a source package ... OK
* checking if there is a namespace ... OK
* checking for hidden files and directories ... OK
* checking for portable file names ... OK
* checking for sufficient/correct file permissions ... OK
* checking whether package ‘comapr’ can be installed ... OK
* checking installed package size ... OK
* checking package directory ... OK
* checking ‘build’ directory ... OK
* checking DESCRIPTION meta-information ... OK
* checking top-level files ... OK
* checking for left-over files ... OK
* checking index information ... OK
* checking package subdirectories ... OK
* checking code files for non-ASCII characters ... OK
* checking R files for syntax errors ... OK
* checking whether the package can be loaded ... OK
* checking whether the package can be loaded with stated dependencies ... OK
* checking whether the package can be unloaded cleanly ... OK
* checking whether the namespace can be loaded with stated dependencies ... OK
* checking whether the namespace can be unloaded cleanly ... OK
* checking dependencies in R code ... OK
* checking S3 generic/method consistency ... OK
* checking replacement functions ... OK
* checking foreign function calls ... OK
* checking R code for possible problems ... OK
* checking Rd files ... NOTE
checkRd: (-1) perCellChrQC.Rd:22: Lost braces; missing escapes or markup?
    22 | \item{path, }{the path to the files, with name patterns *{chrom}_vi.mtx,
       |                                                          ^
checkRd: (-1) perCellChrQC.Rd:23: Lost braces; missing escapes or markup?
    23 | *{chrom}_viSegInfo.txt, end with slash}
       |  ^
checkRd: (-1) perSegChrQC.Rd:21: Lost braces; missing escapes or markup?
    21 | \item{path, }{the path to the files, with name patterns *{chrom}_vi.mtx,
       |                                                          ^
checkRd: (-1) perSegChrQC.Rd:22: Lost braces; missing escapes or markup?
    22 | *{chrom}_viSegInfo.txt, end with slash}
       |  ^
checkRd: (-1) readHapState.Rd:28: Lost braces; missing escapes or markup?
    28 | \item{path, }{the path to the files, with name patterns *{chrom}_vi.mtx,
       |                                                          ^
checkRd: (-1) readHapState.Rd:29: Lost braces; missing escapes or markup?
    29 | *{chrom}_viSegInfo.txt, end with slash}
       |  ^
* checking Rd metadata ... OK
* checking Rd cross-references ... OK
* checking for missing documentation entries ... OK
* checking for code/documentation mismatches ... OK
* checking Rd \usage sections ... OK
* checking Rd contents ... OK
* checking for unstated dependencies in examples ... OK
* checking contents of ‘data’ directory ... OK
* checking data for non-ASCII characters ... OK
* checking data for ASCII and uncompressed saves ... OK
* checking files in ‘vignettes’ ... OK
* checking examples ... OK
Examples with CPU (user + system) or elapsed time > 5s
               user system elapsed
bootstrapDist 7.456  0.222  11.341
* checking for unstated dependencies in ‘tests’ ... OK
* checking tests ...
  Running ‘testthat.R’
 OK
* checking for unstated dependencies in vignettes ... OK
* checking package vignettes ... OK
* checking running R code from vignettes ... SKIPPED
* checking re-building of vignette outputs ... SKIPPED
* checking PDF version of manual ... OK
* DONE
Status: 1 NOTE
See
  ‘/Users/biocbuild/bbs-3.19-bioc/meat/comapr.Rcheck/00check.log’
for details.
comapr.Rcheck/00install.out
############################################################################## ############################################################################## ### ### Running command: ### ### /Library/Frameworks/R.framework/Resources/bin/R CMD INSTALL comapr ### ############################################################################## ############################################################################## * installing to library ‘/Library/Frameworks/R.framework/Versions/4.4-arm64/Resources/library’ * installing *source* package ‘comapr’ ... ** using staged installation ** R ** data ** inst ** byte-compile and prepare package for lazy loading ** help *** installing help indices ** building package indices ** installing vignettes ** testing if installed package can be loaded from temporary location ** testing if installed package can be loaded from final location ** testing if installed package keeps a record of temporary installation path * DONE (comapr)
comapr.Rcheck/tests/testthat.Rout
R version 4.4.0 (2024-04-24) -- "Puppy Cup"
Copyright (C) 2024 The R Foundation for Statistical Computing
Platform: aarch64-apple-darwin20
R is free software and comes with ABSOLUTELY NO WARRANTY.
You are welcome to redistribute it under certain conditions.
Type 'license()' or 'licence()' for distribution details.
R is a collaborative project with many contributors.
Type 'contributors()' for more information and
'citation()' on how to cite R or R packages in publications.
Type 'demo()' for some demos, 'help()' for on-line help, or
'help.start()' for an HTML browser interface to help.
Type 'q()' to quit R.
> library(testthat)
> library(comapr)
> 
> test_check("comapr")
[ FAIL 0 | WARN 3 | SKIP 0 | PASS 91 ]
[ FAIL 0 | WARN 3 | SKIP 0 | PASS 91 ]
> 
> proc.time()
   user  system elapsed 
 55.414   5.100  85.429 
comapr.Rcheck/comapr-Ex.timings
| name | user | system | elapsed | |
| bootstrapDist | 7.456 | 0.222 | 11.341 | |
| calGeneticDist | 0.171 | 0.048 | 0.311 | |
| combineHapState | 2.590 | 0.206 | 4.150 | |
| correctGT | 0.008 | 0.005 | 0.017 | |
| countBinState | 0.430 | 0.051 | 1.207 | |
| countCOs | 0.758 | 0.058 | 1.251 | |
| countGT | 0.119 | 0.003 | 0.195 | |
| filterGT | 0.085 | 0.003 | 0.117 | |
| findDupSamples | 0.008 | 0.003 | 0.020 | |
| getAFTracks | 1.449 | 0.038 | 2.231 | |
| getCellAFTrack | 1.244 | 0.020 | 1.895 | |
| getCellCORange | 0.435 | 0.006 | 0.644 | |
| getCellDPTrack | 0.496 | 0.008 | 0.755 | |
| getDistortedMarkers | 0.400 | 0.009 | 0.614 | |
| getMeanDPTrack | 0.057 | 0.002 | 0.088 | |
| getSNPDensityTrack | 0.050 | 0.002 | 0.071 | |
| perCellChrQC | 0.050 | 0.002 | 0.073 | |
| perSegChrQC | 0.073 | 0.008 | 0.123 | |
| permuteDist | 0.029 | 0.003 | 0.046 | |
| plotCount | 0.789 | 0.017 | 1.208 | |
| plotGTFreq | 0.535 | 0.012 | 0.841 | |
| plotGeneticDist | 0.321 | 0.008 | 0.508 | |
| plotWholeGenome | 0.409 | 0.009 | 0.652 | |
| readColMM | 0.009 | 0.002 | 0.012 | |
| readHapState | 0.115 | 0.004 | 0.199 | |