| Back to Multiple platform build/check report for BioC 3.19: simplified long |
|
This page was generated on 2024-06-11 14:42 -0400 (Tue, 11 Jun 2024).
| Hostname | OS | Arch (*) | R version | Installed pkgs |
|---|---|---|---|---|
| nebbiolo1 | Linux (Ubuntu 22.04.3 LTS) | x86_64 | 4.4.0 (2024-04-24) -- "Puppy Cup" | 4757 |
| palomino3 | Windows Server 2022 Datacenter | x64 | 4.4.0 (2024-04-24 ucrt) -- "Puppy Cup" | 4491 |
| lconway | macOS 12.7.1 Monterey | x86_64 | 4.4.0 (2024-04-24) -- "Puppy Cup" | 4522 |
| kjohnson3 | macOS 13.6.5 Ventura | arm64 | 4.4.0 (2024-04-24) -- "Puppy Cup" | 4468 |
| Click on any hostname to see more info about the system (e.g. compilers) (*) as reported by 'uname -p', except on Windows and Mac OS X | ||||
| Package 410/2300 | Hostname | OS / Arch | INSTALL | BUILD | CHECK | BUILD BIN | ||||||||
| cola 2.10.0 (landing page) Zuguang Gu
| nebbiolo1 | Linux (Ubuntu 22.04.3 LTS) / x86_64 | OK | OK | OK | |||||||||
| palomino3 | Windows Server 2022 Datacenter / x64 | OK | OK | OK | OK | |||||||||
| lconway | macOS 12.7.1 Monterey / x86_64 | OK | OK | OK | OK | |||||||||
| kjohnson3 | macOS 13.6.5 Ventura / arm64 | OK | OK | OK | OK | |||||||||
|
To the developers/maintainers of the cola package: - Allow up to 24 hours (and sometimes 48 hours) for your latest push to git@git.bioconductor.org:packages/cola.git to reflect on this report. See Troubleshooting Build Report for more information. - Use the following Renviron settings to reproduce errors and warnings. - If 'R CMD check' started to fail recently on the Linux builder(s) over a missing dependency, add the missing dependency to 'Suggests:' in your DESCRIPTION file. See Renviron.bioc for more information. |
| Package: cola |
| Version: 2.10.0 |
| Command: /Library/Frameworks/R.framework/Resources/bin/R CMD check --install=check:cola.install-out.txt --library=/Library/Frameworks/R.framework/Resources/library --no-vignettes --timings cola_2.10.0.tar.gz |
| StartedAt: 2024-06-09 19:33:44 -0400 (Sun, 09 Jun 2024) |
| EndedAt: 2024-06-09 19:37:12 -0400 (Sun, 09 Jun 2024) |
| EllapsedTime: 208.1 seconds |
| RetCode: 0 |
| Status: OK |
| CheckDir: cola.Rcheck |
| Warnings: 0 |
##############################################################################
##############################################################################
###
### Running command:
###
### /Library/Frameworks/R.framework/Resources/bin/R CMD check --install=check:cola.install-out.txt --library=/Library/Frameworks/R.framework/Resources/library --no-vignettes --timings cola_2.10.0.tar.gz
###
##############################################################################
##############################################################################
* using log directory ‘/Users/biocbuild/bbs-3.19-bioc/meat/cola.Rcheck’
* using R version 4.4.0 (2024-04-24)
* using platform: x86_64-apple-darwin20
* R was compiled by
Apple clang version 14.0.0 (clang-1400.0.29.202)
GNU Fortran (GCC) 12.2.0
* running under: macOS Monterey 12.7.1
* using session charset: UTF-8
* using option ‘--no-vignettes’
* checking for file ‘cola/DESCRIPTION’ ... OK
* checking extension type ... Package
* this is package ‘cola’ version ‘2.10.0’
* checking package namespace information ... OK
* checking package dependencies ... OK
* checking if this is a source package ... OK
* checking if there is a namespace ... OK
* checking for hidden files and directories ... OK
* checking for portable file names ... OK
* checking for sufficient/correct file permissions ... OK
* checking whether package ‘cola’ can be installed ... OK
* used C++ compiler: ‘Apple clang version 14.0.0 (clang-1400.0.29.202)’
* used SDK: ‘MacOSX11.3.sdk’
* checking installed package size ... NOTE
installed size is 5.8Mb
sub-directories of 1Mb or more:
data 3.2Mb
extdata 1.0Mb
* checking package directory ... OK
* checking ‘build’ directory ... OK
* checking DESCRIPTION meta-information ... OK
* checking top-level files ... OK
* checking for left-over files ... OK
* checking index information ... OK
* checking package subdirectories ... OK
* checking code files for non-ASCII characters ... OK
* checking R files for syntax errors ... OK
* checking whether the package can be loaded ... OK
* checking whether the package can be loaded with stated dependencies ... OK
* checking whether the package can be unloaded cleanly ... OK
* checking whether the namespace can be loaded with stated dependencies ... OK
* checking whether the namespace can be unloaded cleanly ... OK
* checking whether startup messages can be suppressed ... OK
* checking dependencies in R code ... OK
* checking S3 generic/method consistency ... OK
* checking replacement functions ... OK
* checking foreign function calls ... OK
* checking R code for possible problems ... OK
* checking Rd files ... OK
* checking Rd metadata ... OK
* checking Rd cross-references ... OK
* checking for missing documentation entries ... OK
* checking for code/documentation mismatches ... OK
* checking Rd \usage sections ... OK
* checking Rd contents ... OK
* checking for unstated dependencies in examples ... OK
* checking contents of ‘data’ directory ... OK
* checking data for non-ASCII characters ... OK
* checking data for ASCII and uncompressed saves ... OK
* checking line endings in C/C++/Fortran sources/headers ... OK
* checking compiled code ... NOTE
Note: information on .o files is not available
* checking files in ‘vignettes’ ... OK
* checking examples ... OK
Examples with CPU (user + system) or elapsed time > 5s
user system elapsed
consensus_partition 20.322 0.286 20.814
get_signatures-ConsensusPartition-method 4.911 0.167 5.115
* checking for unstated dependencies in ‘tests’ ... OK
* checking tests ...
Running ‘test-all.R’
OK
* checking for unstated dependencies in vignettes ... OK
* checking package vignettes ... OK
* checking running R code from vignettes ... SKIPPED
* checking re-building of vignette outputs ... SKIPPED
* checking PDF version of manual ... OK
* DONE
Status: 2 NOTEs
See
‘/Users/biocbuild/bbs-3.19-bioc/meat/cola.Rcheck/00check.log’
for details.
cola.Rcheck/00install.out
############################################################################## ############################################################################## ### ### Running command: ### ### /Library/Frameworks/R.framework/Resources/bin/R CMD INSTALL cola ### ############################################################################## ############################################################################## * installing to library ‘/Library/Frameworks/R.framework/Versions/4.4-x86_64/Resources/library’ * installing *source* package ‘cola’ ... ** using staged installation ** libs using C++ compiler: ‘Apple clang version 14.0.0 (clang-1400.0.29.202)’ using SDK: ‘MacOSX11.3.sdk’ clang++ -arch x86_64 -std=gnu++17 -I"/Library/Frameworks/R.framework/Resources/include" -DNDEBUG -I'/Library/Frameworks/R.framework/Versions/4.4-x86_64/Resources/library/Rcpp/include' -I/opt/R/x86_64/include -fPIC -falign-functions=64 -Wall -g -O2 -c RcppExports.cpp -o RcppExports.o clang++ -arch x86_64 -std=gnu++17 -I"/Library/Frameworks/R.framework/Resources/include" -DNDEBUG -I'/Library/Frameworks/R.framework/Versions/4.4-x86_64/Resources/library/Rcpp/include' -I/opt/R/x86_64/include -fPIC -falign-functions=64 -Wall -g -O2 -c atc.cpp -o atc.o clang++ -arch x86_64 -std=gnu++17 -I"/Library/Frameworks/R.framework/Resources/include" -DNDEBUG -I'/Library/Frameworks/R.framework/Versions/4.4-x86_64/Resources/library/Rcpp/include' -I/opt/R/x86_64/include -fPIC -falign-functions=64 -Wall -g -O2 -c cal_consensus_mat.cpp -o cal_consensus_mat.o clang++ -arch x86_64 -std=gnu++17 -I"/Library/Frameworks/R.framework/Resources/include" -DNDEBUG -I'/Library/Frameworks/R.framework/Versions/4.4-x86_64/Resources/library/Rcpp/include' -I/opt/R/x86_64/include -fPIC -falign-functions=64 -Wall -g -O2 -c pdist.cpp -o pdist.o clang++ -arch x86_64 -std=gnu++17 -dynamiclib -Wl,-headerpad_max_install_names -undefined dynamic_lookup -L/Library/Frameworks/R.framework/Resources/lib -L/opt/R/x86_64/lib -o cola.so RcppExports.o atc.o cal_consensus_mat.o pdist.o -F/Library/Frameworks/R.framework/.. -framework R -Wl,-framework -Wl,CoreFoundation installing to /Library/Frameworks/R.framework/Versions/4.4-x86_64/Resources/library/00LOCK-cola/00new/cola/libs ** R ** data ** inst ** byte-compile and prepare package for lazy loading ** help *** installing help indices ** building package indices ** installing vignettes ** testing if installed package can be loaded from temporary location ** checking absolute paths in shared objects and dynamic libraries ** testing if installed package can be loaded from final location ** testing if installed package keeps a record of temporary installation path * DONE (cola)
cola.Rcheck/tests/test-all.Rout
R version 4.4.0 (2024-04-24) -- "Puppy Cup"
Copyright (C) 2024 The R Foundation for Statistical Computing
Platform: x86_64-apple-darwin20
R is free software and comes with ABSOLUTELY NO WARRANTY.
You are welcome to redistribute it under certain conditions.
Type 'license()' or 'licence()' for distribution details.
R is a collaborative project with many contributors.
Type 'contributors()' for more information and
'citation()' on how to cite R or R packages in publications.
Type 'demo()' for some demos, 'help()' for on-line help, or
'help.start()' for an HTML browser interface to help.
Type 'q()' to quit R.
> library(testthat)
> suppressWarnings(suppressPackageStartupMessages(library(cola)))
>
> test_check("cola")
[ FAIL 0 | WARN 0 | SKIP 0 | PASS 18 ]
>
>
> proc.time()
user system elapsed
4.886 0.376 5.299
cola.Rcheck/cola-Ex.timings
| name | user | system | elapsed | |
| ATC | 0.036 | 0.006 | 0.041 | |
| ATC_approx | 0.000 | 0.000 | 0.001 | |
| ConsensusPartition-class | 0.000 | 0.000 | 0.001 | |
| ConsensusPartitionList-class | 0 | 0 | 0 | |
| DownSamplingConsensusPartition-class | 0.000 | 0.001 | 0.000 | |
| Extract.ConsensusPartitionList | 0.445 | 0.018 | 0.468 | |
| Extract.HierarchicalPartition | 0.254 | 0.004 | 0.261 | |
| ExtractExtract.ConsensusPartitionList | 0.194 | 0.005 | 0.205 | |
| ExtractExtract.HierarchicalPartition | 0 | 0 | 0 | |
| FCC | 0.178 | 0.007 | 0.188 | |
| HierarchicalPartition-class | 0 | 0 | 0 | |
| PAC | 0.453 | 0.007 | 0.466 | |
| aPAC | 0.161 | 0.006 | 0.171 | |
| adjust_matrix | 0.005 | 0.001 | 0.007 | |
| adjust_outlier | 0.000 | 0.001 | 0.001 | |
| all_leaves-HierarchicalPartition-method | 0.139 | 0.004 | 0.146 | |
| all_nodes-HierarchicalPartition-method | 0.139 | 0.006 | 0.150 | |
| all_partition_methods | 0.002 | 0.000 | 0.001 | |
| all_top_value_methods | 0.001 | 0.000 | 0.001 | |
| cola | 0.049 | 0.001 | 0.051 | |
| cola_opt | 0.022 | 0.001 | 0.023 | |
| cola_report-ConsensusPartition-method | 0 | 0 | 0 | |
| cola_report-ConsensusPartitionList-method | 0.000 | 0.001 | 0.000 | |
| cola_report-HierarchicalPartition-method | 0.001 | 0.000 | 0.000 | |
| cola_report-dispatch | 0.000 | 0.000 | 0.001 | |
| cola_rl | 0.080 | 0.005 | 0.086 | |
| collect_classes-ConsensusPartition-method | 2.223 | 0.067 | 2.302 | |
| collect_classes-ConsensusPartitionList-method | 3.300 | 0.023 | 3.347 | |
| collect_classes-HierarchicalPartition-method | 1.437 | 0.057 | 1.504 | |
| collect_classes-dispatch | 0.000 | 0.001 | 0.000 | |
| collect_plots-ConsensusPartition-method | 0 | 0 | 0 | |
| collect_plots-ConsensusPartitionList-method | 0 | 0 | 0 | |
| collect_plots-dispatch | 0.000 | 0.000 | 0.001 | |
| collect_stats-ConsensusPartition-method | 0 | 0 | 0 | |
| collect_stats-ConsensusPartitionList-method | 0.504 | 0.009 | 0.519 | |
| collect_stats-dispatch | 0.000 | 0.001 | 0.001 | |
| colnames-ConsensusPartition-method | 0 | 0 | 0 | |
| colnames-ConsensusPartitionList-method | 0.000 | 0.001 | 0.000 | |
| colnames-DownSamplingConsensusPartition-method | 0 | 0 | 0 | |
| colnames-HierarchicalPartition-method | 0 | 0 | 0 | |
| colnames-dispatch | 0 | 0 | 0 | |
| compare_partitions-ConsensusPartition-method | 0.000 | 0.000 | 0.001 | |
| compare_signatures-ConsensusPartition-method | 0.000 | 0.000 | 0.001 | |
| compare_signatures-HierarchicalPartition-method | 4.582 | 0.178 | 4.856 | |
| compare_signatures-dispatch | 0.000 | 0.000 | 0.001 | |
| concordance | 0.193 | 0.013 | 0.321 | |
| config_ATC | 0.001 | 0.000 | 0.001 | |
| consensus_heatmap-ConsensusPartition-method | 0.622 | 0.044 | 0.781 | |
| consensus_partition | 20.322 | 0.286 | 20.814 | |
| consensus_partition_by_down_sampling | 0 | 0 | 0 | |
| correspond_between_rankings | 0.059 | 0.002 | 0.062 | |
| correspond_between_two_rankings | 0.031 | 0.002 | 0.033 | |
| david_enrichment | 0 | 0 | 0 | |
| dim.ConsensusPartition | 0.000 | 0.001 | 0.000 | |
| dim.ConsensusPartitionList | 0.001 | 0.000 | 0.000 | |
| dim.DownSamplingConsensusPartition | 0 | 0 | 0 | |
| dim.HierarchicalPartition | 0 | 0 | 0 | |
| dimension_reduction-ConsensusPartition-method | 0.650 | 0.039 | 0.693 | |
| dimension_reduction-DownSamplingConsensusPartition-method | 1.677 | 0.094 | 1.797 | |
| dimension_reduction-HierarchicalPartition-method | 0.577 | 0.041 | 0.631 | |
| dimension_reduction-dispatch | 0 | 0 | 0 | |
| dimension_reduction-matrix-method | 0.000 | 0.000 | 0.001 | |
| find_best_km | 0.000 | 0.001 | 0.000 | |
| functional_enrichment-ANY-method | 0 | 0 | 0 | |
| functional_enrichment-ConsensusPartition-method | 0.001 | 0.001 | 0.000 | |
| functional_enrichment-ConsensusPartitionList-method | 0 | 0 | 0 | |
| functional_enrichment-HierarchicalPartition-method | 0 | 0 | 0 | |
| functional_enrichment-dispatch | 0 | 0 | 0 | |
| get_anno-ConsensusPartition-method | 0.000 | 0.001 | 0.000 | |
| get_anno-ConsensusPartitionList-method | 0.001 | 0.000 | 0.001 | |
| get_anno-DownSamplingConsensusPartition-method | 0.086 | 0.003 | 0.089 | |
| get_anno-HierarchicalPartition-method | 0 | 0 | 0 | |
| get_anno-dispatch | 0.001 | 0.000 | 0.001 | |
| get_anno_col-ConsensusPartition-method | 0 | 0 | 0 | |
| get_anno_col-ConsensusPartitionList-method | 0 | 0 | 0 | |
| get_anno_col-HierarchicalPartition-method | 0.000 | 0.000 | 0.001 | |
| get_anno_col-dispatch | 0.000 | 0.000 | 0.001 | |
| get_children_nodes-HierarchicalPartition-method | 0.000 | 0.001 | 0.000 | |
| get_classes-ConsensusPartition-method | 0.144 | 0.005 | 0.150 | |
| get_classes-ConsensusPartitionList-method | 0.153 | 0.004 | 0.163 | |
| get_classes-DownSamplingConsensusPartition-method | 0.084 | 0.004 | 0.089 | |
| get_classes-HierarchicalPartition-method | 0.149 | 0.003 | 0.154 | |
| get_classes-dispatch | 0.000 | 0.000 | 0.001 | |
| get_consensus-ConsensusPartition-method | 0.157 | 0.027 | 0.185 | |
| get_matrix-ConsensusPartition-method | 0.353 | 0.504 | 0.862 | |
| get_matrix-ConsensusPartitionList-method | 0.359 | 0.495 | 0.859 | |
| get_matrix-DownSamplingConsensusPartition-method | 0 | 0 | 0 | |
| get_matrix-HierarchicalPartition-method | 0 | 0 | 0 | |
| get_matrix-dispatch | 0.000 | 0.001 | 0.000 | |
| get_membership-ConsensusPartition-method | 0.135 | 0.018 | 0.155 | |
| get_membership-ConsensusPartitionList-method | 0.138 | 0.006 | 0.153 | |
| get_membership-dispatch | 0 | 0 | 0 | |
| get_param-ConsensusPartition-method | 0.160 | 0.009 | 0.172 | |
| get_signatures-ConsensusPartition-method | 4.911 | 0.167 | 5.115 | |
| get_signatures-DownSamplingConsensusPartition-method | 0 | 0 | 0 | |
| get_signatures-HierarchicalPartition-method | 0 | 0 | 0 | |
| get_signatures-dispatch | 0 | 0 | 0 | |
| get_stats-ConsensusPartition-method | 0.148 | 0.003 | 0.153 | |
| get_stats-ConsensusPartitionList-method | 0.174 | 0.007 | 0.182 | |
| get_stats-dispatch | 0 | 0 | 0 | |
| golub_cola | 0.178 | 0.003 | 0.182 | |
| golub_cola_ds | 0.122 | 0.002 | 0.127 | |
| golub_cola_rh | 0.187 | 0.003 | 0.193 | |
| hierarchical_partition | 0.000 | 0.000 | 0.001 | |
| is_best_k-ConsensusPartition-method | 0.217 | 0.029 | 0.248 | |
| is_best_k-ConsensusPartitionList-method | 0.164 | 0.004 | 0.173 | |
| is_best_k-dispatch | 0 | 0 | 0 | |
| is_leaf_node-HierarchicalPartition-method | 0.143 | 0.004 | 0.151 | |
| is_stable_k-ConsensusPartition-method | 0.721 | 0.026 | 0.760 | |
| is_stable_k-ConsensusPartitionList-method | 0.170 | 0.002 | 0.173 | |
| is_stable_k-dispatch | 0 | 0 | 0 | |
| knee_finder2 | 0.025 | 0.005 | 0.031 | |
| knitr_add_tab_item | 0 | 0 | 0 | |
| knitr_insert_tabs | 0.000 | 0.000 | 0.001 | |
| map_to_entrez_id | 0.000 | 0.000 | 0.001 | |
| max_depth-HierarchicalPartition-method | 0.124 | 0.003 | 0.126 | |
| membership_heatmap-ConsensusPartition-method | 0.482 | 0.007 | 0.491 | |
| merge_node-HierarchicalPartition-method | 0 | 0 | 0 | |
| merge_node_param | 0.000 | 0.001 | 0.000 | |
| ncol-ConsensusPartition-method | 0 | 0 | 0 | |
| ncol-ConsensusPartitionList-method | 0 | 0 | 0 | |
| ncol-DownSamplingConsensusPartition-method | 0.000 | 0.000 | 0.001 | |
| ncol-HierarchicalPartition-method | 0 | 0 | 0 | |
| ncol-dispatch | 0.000 | 0.001 | 0.000 | |
| node_info-HierarchicalPartition-method | 0 | 0 | 0 | |
| node_level-HierarchicalPartition-method | 0 | 0 | 0 | |
| nrow-ConsensusPartition-method | 0.001 | 0.000 | 0.001 | |
| nrow-ConsensusPartitionList-method | 0 | 0 | 0 | |
| nrow-HierarchicalPartition-method | 0 | 0 | 0 | |
| nrow-dispatch | 0 | 0 | 0 | |
| plot_ecdf-ConsensusPartition-method | 0.144 | 0.003 | 0.149 | |
| predict_classes-ConsensusPartition-method | 0 | 0 | 0 | |
| predict_classes-dispatch | 0 | 0 | 0 | |
| predict_classes-matrix-method | 0 | 0 | 0 | |
| print.hc_table_suggest_best_k | 0.001 | 0.000 | 0.001 | |
| recalc_stats | 0 | 0 | 0 | |
| register_NMF | 0 | 0 | 0 | |
| register_SOM | 0 | 0 | 0 | |
| register_partition_methods | 0.561 | 0.011 | 0.574 | |
| register_top_value_methods | 0.000 | 0.000 | 0.001 | |
| relabel_class | 0.006 | 0.001 | 0.007 | |
| remove_partition_methods | 0 | 0 | 0 | |
| remove_top_value_methods | 0.000 | 0.000 | 0.001 | |
| rownames-ConsensusPartition-method | 0 | 0 | 0 | |
| rownames-ConsensusPartitionList-method | 0 | 0 | 0 | |
| rownames-HierarchicalPartition-method | 0 | 0 | 0 | |
| rownames-dispatch | 0.000 | 0.001 | 0.000 | |
| run_all_consensus_partition_methods | 0.000 | 0.000 | 0.001 | |
| select_partition_number-ConsensusPartition-method | 0.158 | 0.004 | 0.165 | |
| show-ConsensusPartition-method | 0.000 | 0.001 | 0.000 | |
| show-ConsensusPartitionList-method | 0.001 | 0.000 | 0.000 | |
| show-DownSamplingConsensusPartition-method | 0.117 | 0.002 | 0.120 | |
| show-HierarchicalPartition-method | 0.179 | 0.003 | 0.184 | |
| show-dispatch | 0.000 | 0.000 | 0.001 | |
| split_node-HierarchicalPartition-method | 0 | 0 | 0 | |
| suggest_best_k-ConsensusPartition-method | 0.157 | 0.003 | 0.162 | |
| suggest_best_k-ConsensusPartitionList-method | 0.150 | 0.003 | 0.154 | |
| suggest_best_k-HierarchicalPartition-method | 0.150 | 0.003 | 0.155 | |
| suggest_best_k-dispatch | 0 | 0 | 0 | |
| test_between_factors | 0.012 | 0.001 | 0.011 | |
| test_to_known_factors-ConsensusPartition-method | 0.170 | 0.004 | 0.174 | |
| test_to_known_factors-ConsensusPartitionList-method | 0.286 | 0.006 | 0.297 | |
| test_to_known_factors-DownSamplingConsensusPartition-method | 0.096 | 0.003 | 0.101 | |
| test_to_known_factors-HierarchicalPartition-method | 0.152 | 0.005 | 0.160 | |
| test_to_known_factors-dispatch | 0.000 | 0.000 | 0.001 | |
| top_elements_overlap | 0.244 | 0.023 | 0.273 | |
| top_rows_heatmap-ConsensusPartition-method | 0 | 0 | 0 | |
| top_rows_heatmap-ConsensusPartitionList-method | 0 | 0 | 0 | |
| top_rows_heatmap-HierarchicalPartition-method | 0 | 0 | 0 | |
| top_rows_heatmap-dispatch | 0 | 0 | 0 | |
| top_rows_heatmap-matrix-method | 3.904 | 0.246 | 4.189 | |
| top_rows_overlap-ConsensusPartitionList-method | 0.755 | 0.036 | 0.803 | |
| top_rows_overlap-HierarchicalPartition-method | 0.553 | 0.011 | 0.576 | |
| top_rows_overlap-dispatch | 0.000 | 0.000 | 0.001 | |
| top_rows_overlap-matrix-method | 0.141 | 0.002 | 0.145 | |