| Back to Multiple platform build/check report for BioC 3.19: simplified long |
|
This page was generated on 2024-05-09 11:40:40 -0400 (Thu, 09 May 2024).
| Hostname | OS | Arch (*) | R version | Installed pkgs |
|---|---|---|---|---|
| nebbiolo1 | Linux (Ubuntu 22.04.3 LTS) | x86_64 | 4.4.0 (2024-04-24) -- "Puppy Cup" | 4748 |
| palomino3 | Windows Server 2022 Datacenter | x64 | 4.4.0 (2024-04-24 ucrt) -- "Puppy Cup" | 4484 |
| lconway | macOS 12.7.1 Monterey | x86_64 | 4.4.0 (2024-04-24) -- "Puppy Cup" | 4514 |
| kunpeng2 | Linux (openEuler 22.03 LTS-SP1) | aarch64 | 4.4.0 beta (2024-04-15 r86425) -- "Puppy Cup" | 4480 |
| Click on any hostname to see more info about the system (e.g. compilers) (*) as reported by 'uname -p', except on Windows and Mac OS X | ||||
| Package 350/2300 | Hostname | OS / Arch | INSTALL | BUILD | CHECK | BUILD BIN | ||||||||
| chromVAR 1.26.0 (landing page) Alicia Schep
| nebbiolo1 | Linux (Ubuntu 22.04.3 LTS) / x86_64 | OK | OK | OK | |||||||||
| palomino3 | Windows Server 2022 Datacenter / x64 | OK | OK | OK | OK | |||||||||
| lconway | macOS 12.7.1 Monterey / x86_64 | OK | OK | OK | OK | |||||||||
| kunpeng2 | Linux (openEuler 22.03 LTS-SP1) / aarch64 | OK | OK | OK | ||||||||||
| kjohnson3 | macOS 13.6.5 Ventura / arm64 | see weekly results here | ||||||||||||
|
To the developers/maintainers of the chromVAR package: - Allow up to 24 hours (and sometimes 48 hours) for your latest push to git@git.bioconductor.org:packages/chromVAR.git to reflect on this report. See Troubleshooting Build Report for more information. - Use the following Renviron settings to reproduce errors and warnings. - If 'R CMD check' started to fail recently on the Linux builder(s) over a missing dependency, add the missing dependency to 'Suggests:' in your DESCRIPTION file. See Renviron.bioc for more information. - See Martin Grigorov's blog post for how to debug Linux ARM64 related issues on a x86_64 host. |
| Package: chromVAR |
| Version: 1.26.0 |
| Command: /home/biocbuild/R/R-beta-2024-04-15_r86425/bin/R CMD check --install=check:chromVAR.install-out.txt --library=/home/biocbuild/R/R-beta-2024-04-15_r86425/site-library --no-vignettes --timings chromVAR_1.26.0.tar.gz |
| StartedAt: 2024-05-09 05:49:53 -0000 (Thu, 09 May 2024) |
| EndedAt: 2024-05-09 05:58:34 -0000 (Thu, 09 May 2024) |
| EllapsedTime: 520.9 seconds |
| RetCode: 0 |
| Status: OK |
| CheckDir: chromVAR.Rcheck |
| Warnings: 0 |
##############################################################################
##############################################################################
###
### Running command:
###
### /home/biocbuild/R/R-beta-2024-04-15_r86425/bin/R CMD check --install=check:chromVAR.install-out.txt --library=/home/biocbuild/R/R-beta-2024-04-15_r86425/site-library --no-vignettes --timings chromVAR_1.26.0.tar.gz
###
##############################################################################
##############################################################################
* using log directory ‘/home/biocbuild/bbs-3.19-bioc/meat/chromVAR.Rcheck’
* using R version 4.4.0 beta (2024-04-15 r86425)
* using platform: aarch64-unknown-linux-gnu
* R was compiled by
gcc (GCC) 10.3.1
GNU Fortran (GCC) 10.3.1
* running under: openEuler 22.03 (LTS-SP1)
* using session charset: UTF-8
* using option ‘--no-vignettes’
* checking for file ‘chromVAR/DESCRIPTION’ ... OK
* checking extension type ... Package
* this is package ‘chromVAR’ version ‘1.26.0’
* checking package namespace information ... OK
* checking package dependencies ... OK
* checking if this is a source package ... OK
* checking if there is a namespace ... OK
* checking for hidden files and directories ... OK
* checking for portable file names ... OK
* checking for sufficient/correct file permissions ... OK
* checking whether package ‘chromVAR’ can be installed ... OK
* used C++ compiler: ‘g++ (GCC) 10.3.1’
* checking C++ specification ... NOTE
Specified C++11: please drop specification unless essential
* checking installed package size ... NOTE
installed size is 5.2Mb
sub-directories of 1Mb or more:
libs 3.6Mb
* checking package directory ... OK
* checking ‘build’ directory ... OK
* checking DESCRIPTION meta-information ... NOTE
License stub records with missing/empty fields:
Record: 1 Field(s): COPYRIGHT HOLDER
* checking top-level files ... OK
* checking for left-over files ... OK
* checking index information ... OK
* checking package subdirectories ... OK
* checking code files for non-ASCII characters ... OK
* checking R files for syntax errors ... OK
* checking whether the package can be loaded ... OK
* checking whether the package can be loaded with stated dependencies ... OK
* checking whether the package can be unloaded cleanly ... OK
* checking whether the namespace can be loaded with stated dependencies ... OK
* checking whether the namespace can be unloaded cleanly ... OK
* checking loading without being on the library search path ... OK
* checking dependencies in R code ... OK
* checking S3 generic/method consistency ... OK
* checking replacement functions ... OK
* checking foreign function calls ... OK
* checking R code for possible problems ... NOTE
left_right_to_grglist: no visible global function definition for
‘GenomicRangesList’
Undefined global functions or variables:
GenomicRangesList
* checking Rd files ... OK
* checking Rd metadata ... OK
* checking Rd cross-references ... OK
* checking for missing documentation entries ... OK
* checking for code/documentation mismatches ... OK
* checking Rd \usage sections ... OK
* checking Rd contents ... OK
* checking for unstated dependencies in examples ... OK
* checking contents of ‘data’ directory ... OK
* checking data for non-ASCII characters ... OK
* checking LazyData ... OK
* checking data for ASCII and uncompressed saves ... OK
* checking line endings in C/C++/Fortran sources/headers ... OK
* checking line endings in Makefiles ... OK
* checking compilation flags in Makevars ... OK
* checking for GNU extensions in Makefiles ... OK
* checking for portable use of $(BLAS_LIBS) and $(LAPACK_LIBS) ... OK
* checking use of PKG_*FLAGS in Makefiles ... OK
* checking compiled code ... NOTE
Note: information on .o files is not available
* checking files in ‘vignettes’ ... OK
* checking examples ... OK
Examples with CPU (user + system) or elapsed time > 5s
user system elapsed
deviationsCovariability 44.551 0.542 45.890
getJasparMotifs 7.318 0.463 7.799
pwmDistance 7.163 0.203 7.384
computeDeviations 7.103 0.148 7.267
computeVariability 4.911 0.207 5.130
plotVariability 4.896 0.136 5.041
* checking for unstated dependencies in ‘tests’ ... OK
* checking tests ...
Running ‘testthat.R’
OK
* checking for unstated dependencies in vignettes ... OK
* checking package vignettes ... OK
* checking running R code from vignettes ... SKIPPED
* checking re-building of vignette outputs ... SKIPPED
* checking PDF version of manual ... OK
* DONE
Status: 5 NOTEs
See
‘/home/biocbuild/bbs-3.19-bioc/meat/chromVAR.Rcheck/00check.log’
for details.
chromVAR.Rcheck/00install.out
##############################################################################
##############################################################################
###
### Running command:
###
### /home/biocbuild/R/R-beta-2024-04-15_r86425/bin/R CMD INSTALL chromVAR
###
##############################################################################
##############################################################################
* installing to library ‘/home/biocbuild/R/R-beta-2024-04-15_r86425/site-library’
* installing *source* package ‘chromVAR’ ...
** using staged installation
** libs
using C++ compiler: ‘g++ (GCC) 10.3.1’
using C++11
g++ -std=gnu++11 -I"/home/biocbuild/R/R-beta-2024-04-15_r86425/include" -DNDEBUG -I'/home/biocbuild/R/R-beta-2024-04-15_r86425/site-library/Rcpp/include' -I'/home/biocbuild/R/R-beta-2024-04-15_r86425/site-library/RcppArmadillo/include' -I/usr/local/include -fPIC -g -O2 -Wall -c RcppExports.cpp -o RcppExports.o
g++ -std=gnu++11 -I"/home/biocbuild/R/R-beta-2024-04-15_r86425/include" -DNDEBUG -I'/home/biocbuild/R/R-beta-2024-04-15_r86425/site-library/Rcpp/include' -I'/home/biocbuild/R/R-beta-2024-04-15_r86425/site-library/RcppArmadillo/include' -I/usr/local/include -fPIC -g -O2 -Wall -c pwm_similarity.cpp -o pwm_similarity.o
g++ -std=gnu++11 -I"/home/biocbuild/R/R-beta-2024-04-15_r86425/include" -DNDEBUG -I'/home/biocbuild/R/R-beta-2024-04-15_r86425/site-library/Rcpp/include' -I'/home/biocbuild/R/R-beta-2024-04-15_r86425/site-library/RcppArmadillo/include' -I/usr/local/include -fPIC -g -O2 -Wall -c utils.cpp -o utils.o
utils.cpp: In function ‘Rcpp::NumericVector row_sds(arma::mat&, bool)’:
utils.cpp:12:21: warning: comparison of integer expressions of different signedness: ‘int’ and ‘const uword’ {aka ‘const unsigned int’} [-Wsign-compare]
12 | for( int j=0; j < X.n_rows; j++ ) {
| ~~^~~~~~~~~~
g++ -std=gnu++11 -shared -L/home/biocbuild/R/R-beta-2024-04-15_r86425/lib -L/usr/local/lib -o chromVAR.so RcppExports.o pwm_similarity.o utils.o -lopenblas -lgfortran -lm -L/home/biocbuild/R/R-beta-2024-04-15_r86425/lib -lR
installing to /home/biocbuild/R/R-beta-2024-04-15_r86425/site-library/00LOCK-chromVAR/00new/chromVAR/libs
** R
** data
*** moving datasets to lazyload DB
** inst
** byte-compile and prepare package for lazy loading
** help
*** installing help indices
** building package indices
** installing vignettes
** testing if installed package can be loaded from temporary location
** checking absolute paths in shared objects and dynamic libraries
** testing if installed package can be loaded from final location
** testing if installed package keeps a record of temporary installation path
* DONE (chromVAR)
chromVAR.Rcheck/tests/testthat.Rout
R version 4.4.0 beta (2024-04-15 r86425) -- "Puppy Cup"
Copyright (C) 2024 The R Foundation for Statistical Computing
Platform: aarch64-unknown-linux-gnu
R is free software and comes with ABSOLUTELY NO WARRANTY.
You are welcome to redistribute it under certain conditions.
Type 'license()' or 'licence()' for distribution details.
R is a collaborative project with many contributors.
Type 'contributors()' for more information and
'citation()' on how to cite R or R packages in publications.
Type 'demo()' for some demos, 'help()' for on-line help, or
'help.start()' for an HTML browser interface to help.
Type 'q()' to quit R.
> library(testthat)
> library(chromVAR)
> BiocParallel::register(BiocParallel::SerialParam())
> test_check("chromVAR")
[ FAIL 0 | WARN 0 | SKIP 0 | PASS 65 ]
>
> proc.time()
user system elapsed
29.554 1.965 31.730
chromVAR.Rcheck/chromVAR-Ex.timings
| name | user | system | elapsed | |
| addGCBias | 1.894 | 0.080 | 2.091 | |
| annotationMatches | 0.016 | 0.000 | 0.016 | |
| chromVAR_theme | 0.129 | 0.012 | 0.140 | |
| computeDeviations | 7.103 | 0.148 | 7.267 | |
| computeExpectations | 0.027 | 0.000 | 0.028 | |
| computeVariability | 4.911 | 0.207 | 5.130 | |
| counts | 0.008 | 0.000 | 0.009 | |
| deviationScores | 0.006 | 0.000 | 0.006 | |
| deviations | 0.007 | 0.000 | 0.006 | |
| deviationsCovariability | 44.551 | 0.542 | 45.890 | |
| deviationsTsne | 0.066 | 0.011 | 0.077 | |
| differentialDeviations | 0.014 | 0.000 | 0.014 | |
| differentialVariability | 0.028 | 0.000 | 0.029 | |
| example_counts | 0.001 | 0.000 | 0.001 | |
| filterPeaks | 0.267 | 0.000 | 0.267 | |
| filterSamples | 0.057 | 0.000 | 0.058 | |
| filterSamplesPlot | 0.134 | 0.004 | 0.138 | |
| getAnnotations | 0.415 | 0.004 | 0.420 | |
| getBackgroundPeaks | 0.561 | 0.032 | 0.594 | |
| getCisGroups | 0.125 | 0.000 | 0.125 | |
| getCounts | 2.901 | 0.038 | 2.944 | |
| getFragmentsPerPeak | 0.009 | 0.000 | 0.009 | |
| getFragmentsPerSample | 0.010 | 0.000 | 0.009 | |
| getJasparMotifs | 7.318 | 0.463 | 7.799 | |
| getPeaks | 0.164 | 0.012 | 0.217 | |
| getPermutedData | 1.251 | 0.075 | 1.373 | |
| getSampleCorrelation | 0.013 | 0.004 | 0.018 | |
| getSampleDepths | 0.138 | 0.012 | 0.150 | |
| getSampleDistance | 0.013 | 0.004 | 0.017 | |
| getTotalFragments | 0.01 | 0.00 | 0.01 | |
| makeBiasBins | 0.056 | 0.004 | 0.060 | |
| makePermutedSets | 1.318 | 0.092 | 1.414 | |
| matchKmers | 1.383 | 0.100 | 1.489 | |
| mini_counts | 0.001 | 0.000 | 0.001 | |
| mini_dev | 0.001 | 0.000 | 0.001 | |
| mini_ix | 0.001 | 0.000 | 0.000 | |
| plotVariability | 4.896 | 0.136 | 5.041 | |
| pwmDistance | 7.163 | 0.203 | 7.384 | |
| rbind-chromVARDeviations-method | 0.076 | 0.000 | 0.077 | |