| Back to Multiple platform build/check report for BioC 3.19: simplified long | 
 | 
This page was generated on 2024-10-18 20:40 -0400 (Fri, 18 Oct 2024).
| Hostname | OS | Arch (*) | R version | Installed pkgs | 
|---|---|---|---|---|
| nebbiolo1 | Linux (Ubuntu 22.04.3 LTS) | x86_64 | 4.4.1 (2024-06-14) -- "Race for Your Life" | 4763 | 
| palomino7 | Windows Server 2022 Datacenter | x64 | 4.4.1 (2024-06-14 ucrt) -- "Race for Your Life" | 4500 | 
| merida1 | macOS 12.7.5 Monterey | x86_64 | 4.4.1 (2024-06-14) -- "Race for Your Life" | 4530 | 
| kjohnson1 | macOS 13.6.6 Ventura | arm64 | 4.4.1 (2024-06-14) -- "Race for Your Life" | 4480 | 
| Click on any hostname to see more info about the system (e.g. compilers) (*) as reported by 'uname -p', except on Windows and Mac OS X | ||||
| Package 279/2300 | Hostname | OS / Arch | INSTALL | BUILD | CHECK | BUILD BIN | ||||||||
| categoryCompare 1.48.0  (landing page) Robert M. Flight 
 | nebbiolo1 | Linux (Ubuntu 22.04.3 LTS) / x86_64 | OK | OK | OK |  | ||||||||
| palomino7 | Windows Server 2022 Datacenter / x64 | OK | OK | OK | OK |  | ||||||||
| merida1 | macOS 12.7.5 Monterey / x86_64 | OK | OK | OK | OK |  | ||||||||
| kjohnson1 | macOS 13.6.6 Ventura / arm64 | OK | OK | OK | OK |  | ||||||||
| To the developers/maintainers of the categoryCompare package: - Allow up to 24 hours (and sometimes 48 hours) for your latest push to git@git.bioconductor.org:packages/categoryCompare.git to reflect on this report. See Troubleshooting Build Report for more information. - Use the following Renviron settings to reproduce errors and warnings. - If 'R CMD check' started to fail recently on the Linux builder(s) over a missing dependency, add the missing dependency to 'Suggests:' in your DESCRIPTION file. See Renviron.bioc for more information. | 
| Package: categoryCompare | 
| Version: 1.48.0 | 
| Command: /Library/Frameworks/R.framework/Resources/bin/R CMD check --install=check:categoryCompare.install-out.txt --library=/Library/Frameworks/R.framework/Resources/library --no-vignettes --timings categoryCompare_1.48.0.tar.gz | 
| StartedAt: 2024-10-17 02:17:27 -0400 (Thu, 17 Oct 2024) | 
| EndedAt: 2024-10-17 02:25:01 -0400 (Thu, 17 Oct 2024) | 
| EllapsedTime: 454.0 seconds | 
| RetCode: 0 | 
| Status: OK | 
| CheckDir: categoryCompare.Rcheck | 
| Warnings: 0 | 
##############################################################################
##############################################################################
###
### Running command:
###
###   /Library/Frameworks/R.framework/Resources/bin/R CMD check --install=check:categoryCompare.install-out.txt --library=/Library/Frameworks/R.framework/Resources/library --no-vignettes --timings categoryCompare_1.48.0.tar.gz
###
##############################################################################
##############################################################################
* using log directory ‘/Users/biocbuild/bbs-3.19-bioc/meat/categoryCompare.Rcheck’
* using R version 4.4.1 (2024-06-14)
* using platform: x86_64-apple-darwin20
* R was compiled by
    Apple clang version 14.0.0 (clang-1400.0.29.202)
    GNU Fortran (GCC) 12.2.0
* running under: macOS Monterey 12.7.6
* using session charset: UTF-8
* using option ‘--no-vignettes’
* checking for file ‘categoryCompare/DESCRIPTION’ ... OK
* this is package ‘categoryCompare’ version ‘1.48.0’
* checking package namespace information ... OK
* checking package dependencies ... OK
* checking if this is a source package ... OK
* checking if there is a namespace ... OK
* checking for hidden files and directories ... OK
* checking for portable file names ... OK
* checking for sufficient/correct file permissions ... OK
* checking whether package ‘categoryCompare’ can be installed ... OK
* checking installed package size ... OK
* checking package directory ... OK
* checking ‘build’ directory ... OK
* checking DESCRIPTION meta-information ... OK
* checking top-level files ... OK
* checking for left-over files ... OK
* checking index information ... OK
* checking package subdirectories ... OK
* checking code files for non-ASCII characters ... OK
* checking R files for syntax errors ... OK
* checking whether the package can be loaded ... OK
* checking whether the package can be loaded with stated dependencies ... OK
* checking whether the package can be unloaded cleanly ... OK
* checking whether the namespace can be loaded with stated dependencies ... OK
* checking whether the namespace can be unloaded cleanly ... OK
* checking dependencies in R code ... OK
* checking S3 generic/method consistency ... OK
* checking replacement functions ... OK
* checking foreign function calls ... OK
* checking R code for possible problems ... NOTE
.ccCompareGO: no visible binding for global variable ‘GOBPPARENTS’
.ccCompareGO: no visible binding for global variable ‘GOMFPARENTS’
.ccCompareGO: no visible binding for global variable ‘GOCCPARENTS’
.ccCompareGO: no visible binding for global variable ‘GOTERM’
.ccCompareGO: no visible binding for global variable ‘Term’
.cytOutNodes: ... may be used in an incorrect context:
  exportImage(filename = fileName, type = "png", network = cwObj, ...)
.getDesc : <anonymous>: no visible global function definition for
  ‘Term’
show,HyperGResultCC: no visible global function definition for
  ‘description’
Undefined global functions or variables:
  GOBPPARENTS GOCCPARENTS GOMFPARENTS GOTERM Term description
* checking Rd files ... NOTE
checkRd: (-1) ccData.Rd:21: Lost braces
    21 |   \code{table10}{: Log-ratio output from \pkg{limma} for the comparison of presence-absence of estrogen at 10 hours}
       |                 ^
checkRd: (-1) ccData.Rd:23: Lost braces
    23 |   \code{table48}{: Log-ratio output from \pkg{limma} for the comparison of presence-absence of estrogen at 48 hours}
       |                 ^
checkRd: (-1) ccData.Rd:25: Lost braces
    25 |   \code{gUniverse}{: All of the genes measured on the chip}
       |                   ^
checkRd: (-1) ccData.Rd:27: Lost braces
    27 |         \code{gseaRes}{: Toy results of GSEA analysis of 3 different tissues}
       |                       ^
checkRd: (-1) ccData.Rd:29: Lost braces
    29 |         \code{enrichLists}{: Apply \code{\link{ccEnrich}} to a ccGeneList from \code{table10} and \code{table48}}
       |                           ^
checkRd: (-1) ccData.Rd:31: Lost braces
    31 |         \code{ccResults}{: Apply \code{\link{ccCompare}} to \code{enrichLists}}
       |                         ^
checkRd: (-1) ccData.Rd:33: Lost braces
    33 |         \code{ccResultsBPHier}{: Modify \code{enrichLists$BP} to use a "hierarchical" layout}
       |                               ^
checkRd: (-1) ccData.Rd:35: Lost braces
    35 |         \code{geneLists}{: a \code{ccGeneList} generated from genes in table10 and table48}
       |                         ^
checkRd: (-1) ccData.Rd:37: Lost braces
    37 |         \code{ccOpts}{: a \code{ccOptions} object describing what we are going to do as far as feature list comparisons}
       |                      ^
* checking Rd metadata ... OK
* checking Rd cross-references ... OK
* checking for missing documentation entries ... OK
* checking for code/documentation mismatches ... OK
* checking Rd \usage sections ... OK
* checking Rd contents ... OK
* checking for unstated dependencies in examples ... OK
* checking contents of ‘data’ directory ... OK
* checking data for non-ASCII characters ... OK
* checking data for ASCII and uncompressed saves ... OK
* checking files in ‘vignettes’ ... OK
* checking examples ... OK
Examples with CPU (user + system) or elapsed time > 5s
                      user system elapsed
ccEnrichResult-class 4.369  0.103   5.213
* checking for unstated dependencies in vignettes ... OK
* checking package vignettes ... OK
* checking running R code from vignettes ... SKIPPED
* checking re-building of vignette outputs ... SKIPPED
* checking PDF version of manual ... OK
* DONE
Status: 2 NOTEs
See
  ‘/Users/biocbuild/bbs-3.19-bioc/meat/categoryCompare.Rcheck/00check.log’
for details.
categoryCompare.Rcheck/00install.out
############################################################################## ############################################################################## ### ### Running command: ### ### /Library/Frameworks/R.framework/Resources/bin/R CMD INSTALL categoryCompare ### ############################################################################## ############################################################################## * installing to library ‘/Library/Frameworks/R.framework/Versions/4.4-x86_64/Resources/library’ * installing *source* package ‘categoryCompare’ ... ** using staged installation ** R ** data ** inst ** byte-compile and prepare package for lazy loading Note: ... may be used in an incorrect context ** help *** installing help indices ** building package indices ** installing vignettes ** testing if installed package can be loaded from temporary location ** testing if installed package can be loaded from final location ** testing if installed package keeps a record of temporary installation path * DONE (categoryCompare)
categoryCompare.Rcheck/categoryCompare-Ex.timings
| name | user | system | elapsed | |
| GENccEnrichResult-class | 1.325 | 0.034 | 1.516 | |
| HyperGParamsCC-class | 0.003 | 0.002 | 0.004 | |
| HyperGResultCC-class | 0.001 | 0.001 | 0.004 | |
| breakEdges-methods | 2.091 | 0.030 | 2.395 | |
| ccCompare | 1.312 | 0.018 | 1.494 | |
| ccCompareCollection-class | 0.002 | 0.001 | 0.002 | |
| ccCompareResult-class | 0.001 | 0.001 | 0.003 | |
| ccData | 1.300 | 0.022 | 1.503 | |
| ccEnrich | 1.348 | 0.017 | 1.517 | |
| ccEnrichCollection-class | 3.161 | 0.079 | 3.596 | |
| ccEnrichResult-class | 4.369 | 0.103 | 5.213 | |
| ccGeneList-class | 1.345 | 0.014 | 1.523 | |
| ccOptions-class | 0.037 | 0.004 | 0.042 | |
| ccOutCyt-methods | 0.000 | 0.001 | 0.001 | |
| ccSigList-class | 0.001 | 0.001 | 0.001 | |
| cytOutData-methods | 0.000 | 0.001 | 0.001 | |
| cytOutNodes-methods | 0.001 | 0.001 | 0.001 | |
| hyperGTestCC | 1.894 | 0.046 | 2.115 | |
| mergeLists-methods | 2.030 | 0.053 | 2.307 | |
| mergedData-class | 1.659 | 0.029 | 1.836 | |
| minCount | 3.122 | 0.076 | 3.320 | |
| minNodes | 0.000 | 0.000 | 0.001 | |
| pvalueType | 3.038 | 0.064 | 3.482 | |
| show-methods | 0.000 | 0.000 | 0.001 | |