| Back to Multiple platform build/check report for BioC 3.19: simplified long | 
 | 
This page was generated on 2024-05-09 11:40:36 -0400 (Thu, 09 May 2024).
| Hostname | OS | Arch (*) | R version | Installed pkgs | 
|---|---|---|---|---|
| nebbiolo1 | Linux (Ubuntu 22.04.3 LTS) | x86_64 | 4.4.0 (2024-04-24) -- "Puppy Cup" | 4748 | 
| palomino3 | Windows Server 2022 Datacenter | x64 | 4.4.0 (2024-04-24 ucrt) -- "Puppy Cup" | 4484 | 
| lconway | macOS 12.7.1 Monterey | x86_64 | 4.4.0 (2024-04-24) -- "Puppy Cup" | 4514 | 
| kunpeng2 | Linux (openEuler 22.03 LTS-SP1) | aarch64 | 4.4.0 beta (2024-04-15 r86425) -- "Puppy Cup" | 4480 | 
| Click on any hostname to see more info about the system (e.g. compilers) (*) as reported by 'uname -p', except on Windows and Mac OS X | ||||
| Package 202/2300 | Hostname | OS / Arch | INSTALL | BUILD | CHECK | BUILD BIN | ||||||||
| biodbHmdb 1.10.0  (landing page) Pierrick Roger 
 | nebbiolo1 | Linux (Ubuntu 22.04.3 LTS) / x86_64 | OK | OK | WARNINGS |  | ||||||||
| palomino3 | Windows Server 2022 Datacenter / x64 | OK | ERROR | skipped | skipped | |||||||||
| lconway | macOS 12.7.1 Monterey / x86_64 | OK | OK | ERROR | OK | |||||||||
| kunpeng2 | Linux (openEuler 22.03 LTS-SP1) / aarch64 | OK | OK | WARNINGS | ||||||||||
| kjohnson3 | macOS 13.6.5 Ventura / arm64 | see weekly results here | ||||||||||||
| To the developers/maintainers of the biodbHmdb package: - Allow up to 24 hours (and sometimes 48 hours) for your latest push to git@git.bioconductor.org:packages/biodbHmdb.git to reflect on this report. See Troubleshooting Build Report for more information. - Use the following Renviron settings to reproduce errors and warnings. - If 'R CMD check' started to fail recently on the Linux builder(s) over a missing dependency, add the missing dependency to 'Suggests:' in your DESCRIPTION file. See Renviron.bioc for more information. - See Martin Grigorov's blog post for how to debug Linux ARM64 related issues on a x86_64 host. | 
| Package: biodbHmdb | 
| Version: 1.10.0 | 
| Command: /home/biocbuild/R/R-beta-2024-04-15_r86425/bin/R CMD INSTALL biodbHmdb | 
| StartedAt: 2024-05-08 20:47:05 -0000 (Wed, 08 May 2024) | 
| EndedAt: 2024-05-08 20:48:20 -0000 (Wed, 08 May 2024) | 
| EllapsedTime: 75.6 seconds | 
| RetCode: 0 | 
| Status: OK | 
##############################################################################
##############################################################################
###
### Running command:
###
###   /home/biocbuild/R/R-beta-2024-04-15_r86425/bin/R CMD INSTALL biodbHmdb
###
##############################################################################
##############################################################################
* installing to library ‘/home/biocbuild/R/R-beta-2024-04-15_r86425/site-library’
* installing *source* package ‘biodbHmdb’ ...
** using staged installation
** libs
using C++ compiler: ‘g++ (GCC) 10.3.1’
g++ -std=gnu++17 -I"/home/biocbuild/R/R-beta-2024-04-15_r86425/include" -DNDEBUG  -I'/home/biocbuild/R/R-beta-2024-04-15_r86425/site-library/Rcpp/include' -I'/home/biocbuild/R/R-beta-2024-04-15_r86425/site-library/testthat/include' -I/usr/local/include    -fPIC  -g -O2  -Wall  -c EntryMaker.cpp -o EntryMaker.o
In file included from EntryMaker.cpp:1:
EntryMaker.hpp: In constructor ‘EntryMaker::EntryMaker()’:
EntryMaker.hpp:23:21: warning: ‘EntryMaker::accession_tag’ will be initialized after [-Wreorder]
   23 |         TagDetector accession_tag;
      |                     ^~~~~~~~~~~~~
EntryMaker.hpp:22:14: warning:   ‘bool EntryMaker::closed’ [-Wreorder]
   22 |         bool closed;
      |              ^~~~~~
EntryMaker.cpp:5:1: warning:   when initialized here [-Wreorder]
    5 | EntryMaker::EntryMaker() :
      | ^~~~~~~~~~
g++ -std=gnu++17 -I"/home/biocbuild/R/R-beta-2024-04-15_r86425/include" -DNDEBUG  -I'/home/biocbuild/R/R-beta-2024-04-15_r86425/site-library/Rcpp/include' -I'/home/biocbuild/R/R-beta-2024-04-15_r86425/site-library/testthat/include' -I/usr/local/include    -fPIC  -g -O2  -Wall  -c FileEntryMaker.cpp -o FileEntryMaker.o
g++ -std=gnu++17 -I"/home/biocbuild/R/R-beta-2024-04-15_r86425/include" -DNDEBUG  -I'/home/biocbuild/R/R-beta-2024-04-15_r86425/site-library/Rcpp/include' -I'/home/biocbuild/R/R-beta-2024-04-15_r86425/site-library/testthat/include' -I/usr/local/include    -fPIC  -g -O2  -Wall  -c RcppExports.cpp -o RcppExports.o
g++ -std=gnu++17 -I"/home/biocbuild/R/R-beta-2024-04-15_r86425/include" -DNDEBUG  -I'/home/biocbuild/R/R-beta-2024-04-15_r86425/site-library/Rcpp/include' -I'/home/biocbuild/R/R-beta-2024-04-15_r86425/site-library/testthat/include' -I/usr/local/include    -fPIC  -g -O2  -Wall  -c StringEnrtryMaker.cpp -o StringEnrtryMaker.o
g++ -std=gnu++17 -I"/home/biocbuild/R/R-beta-2024-04-15_r86425/include" -DNDEBUG  -I'/home/biocbuild/R/R-beta-2024-04-15_r86425/site-library/Rcpp/include' -I'/home/biocbuild/R/R-beta-2024-04-15_r86425/site-library/testthat/include' -I/usr/local/include    -fPIC  -g -O2  -Wall  -c TagDetector.cpp -o TagDetector.o
g++ -std=gnu++17 -I"/home/biocbuild/R/R-beta-2024-04-15_r86425/include" -DNDEBUG  -I'/home/biocbuild/R/R-beta-2024-04-15_r86425/site-library/Rcpp/include' -I'/home/biocbuild/R/R-beta-2024-04-15_r86425/site-library/testthat/include' -I/usr/local/include    -fPIC  -g -O2  -Wall  -c XmlSplitter.cpp -o XmlSplitter.o
g++ -std=gnu++17 -I"/home/biocbuild/R/R-beta-2024-04-15_r86425/include" -DNDEBUG  -I'/home/biocbuild/R/R-beta-2024-04-15_r86425/site-library/Rcpp/include' -I'/home/biocbuild/R/R-beta-2024-04-15_r86425/site-library/testthat/include' -I/usr/local/include    -fPIC  -g -O2  -Wall  -c extractXmlEntries.cpp -o extractXmlEntries.o
g++ -std=gnu++17 -I"/home/biocbuild/R/R-beta-2024-04-15_r86425/include" -DNDEBUG  -I'/home/biocbuild/R/R-beta-2024-04-15_r86425/site-library/Rcpp/include' -I'/home/biocbuild/R/R-beta-2024-04-15_r86425/site-library/testthat/include' -I/usr/local/include    -fPIC  -g -O2  -Wall  -c test-100-TagDetector.cpp -o test-100-TagDetector.o
g++ -std=gnu++17 -I"/home/biocbuild/R/R-beta-2024-04-15_r86425/include" -DNDEBUG  -I'/home/biocbuild/R/R-beta-2024-04-15_r86425/site-library/Rcpp/include' -I'/home/biocbuild/R/R-beta-2024-04-15_r86425/site-library/testthat/include' -I/usr/local/include    -fPIC  -g -O2  -Wall  -c test-150-StringEntryMaker.cpp -o test-150-StringEntryMaker.o
g++ -std=gnu++17 -I"/home/biocbuild/R/R-beta-2024-04-15_r86425/include" -DNDEBUG  -I'/home/biocbuild/R/R-beta-2024-04-15_r86425/site-library/Rcpp/include' -I'/home/biocbuild/R/R-beta-2024-04-15_r86425/site-library/testthat/include' -I/usr/local/include    -fPIC  -g -O2  -Wall  -c test-200-XmlSplitter.cpp -o test-200-XmlSplitter.o
g++ -std=gnu++17 -I"/home/biocbuild/R/R-beta-2024-04-15_r86425/include" -DNDEBUG  -I'/home/biocbuild/R/R-beta-2024-04-15_r86425/site-library/Rcpp/include' -I'/home/biocbuild/R/R-beta-2024-04-15_r86425/site-library/testthat/include' -I/usr/local/include    -fPIC  -g -O2  -Wall  -c test-runner.cpp -o test-runner.o
g++ -std=gnu++17 -shared -L/home/biocbuild/R/R-beta-2024-04-15_r86425/lib -L/usr/local/lib -o biodbHmdb.so EntryMaker.o FileEntryMaker.o RcppExports.o StringEnrtryMaker.o TagDetector.o XmlSplitter.o extractXmlEntries.o test-100-TagDetector.o test-150-StringEntryMaker.o test-200-XmlSplitter.o test-runner.o -L/home/biocbuild/R/R-beta-2024-04-15_r86425/lib -lR
installing to /home/biocbuild/R/R-beta-2024-04-15_r86425/site-library/00LOCK-biodbHmdb/00new/biodbHmdb/libs
** R
** inst
** byte-compile and prepare package for lazy loading
** help
No man pages found in package  ‘biodbHmdb’ 
*** installing help indices
** building package indices
** installing vignettes
** testing if installed package can be loaded from temporary location
** checking absolute paths in shared objects and dynamic libraries
** testing if installed package can be loaded from final location
** testing if installed package keeps a record of temporary installation path
* DONE (biodbHmdb)