| Back to Multiple platform build/check report for BioC 3.19: simplified long |
|
This page was generated on 2024-06-11 14:41 -0400 (Tue, 11 Jun 2024).
| Hostname | OS | Arch (*) | R version | Installed pkgs |
|---|---|---|---|---|
| nebbiolo1 | Linux (Ubuntu 22.04.3 LTS) | x86_64 | 4.4.0 (2024-04-24) -- "Puppy Cup" | 4757 |
| palomino3 | Windows Server 2022 Datacenter | x64 | 4.4.0 (2024-04-24 ucrt) -- "Puppy Cup" | 4491 |
| lconway | macOS 12.7.1 Monterey | x86_64 | 4.4.0 (2024-04-24) -- "Puppy Cup" | 4522 |
| kjohnson3 | macOS 13.6.5 Ventura | arm64 | 4.4.0 (2024-04-24) -- "Puppy Cup" | 4468 |
| Click on any hostname to see more info about the system (e.g. compilers) (*) as reported by 'uname -p', except on Windows and Mac OS X | ||||
| Package 155/2300 | Hostname | OS / Arch | INSTALL | BUILD | CHECK | BUILD BIN | ||||||||
| benchdamic 1.10.0 (landing page) Matteo Calgaro
| nebbiolo1 | Linux (Ubuntu 22.04.3 LTS) / x86_64 | OK | OK | OK | |||||||||
| palomino3 | Windows Server 2022 Datacenter / x64 | OK | OK | OK | OK | |||||||||
| lconway | macOS 12.7.1 Monterey / x86_64 | OK | OK | OK | OK | |||||||||
| kjohnson3 | macOS 13.6.5 Ventura / arm64 | OK | OK | OK | OK | |||||||||
|
To the developers/maintainers of the benchdamic package: - Allow up to 24 hours (and sometimes 48 hours) for your latest push to git@git.bioconductor.org:packages/benchdamic.git to reflect on this report. See Troubleshooting Build Report for more information. - Use the following Renviron settings to reproduce errors and warnings. - If 'R CMD check' started to fail recently on the Linux builder(s) over a missing dependency, add the missing dependency to 'Suggests:' in your DESCRIPTION file. See Renviron.bioc for more information. |
| Package: benchdamic |
| Version: 1.10.0 |
| Command: /Library/Frameworks/R.framework/Resources/bin/R CMD check --install=check:benchdamic.install-out.txt --library=/Library/Frameworks/R.framework/Resources/library --no-vignettes --timings benchdamic_1.10.0.tar.gz |
| StartedAt: 2024-06-09 18:55:07 -0400 (Sun, 09 Jun 2024) |
| EndedAt: 2024-06-09 19:10:55 -0400 (Sun, 09 Jun 2024) |
| EllapsedTime: 948.2 seconds |
| RetCode: 0 |
| Status: OK |
| CheckDir: benchdamic.Rcheck |
| Warnings: 0 |
##############################################################################
##############################################################################
###
### Running command:
###
### /Library/Frameworks/R.framework/Resources/bin/R CMD check --install=check:benchdamic.install-out.txt --library=/Library/Frameworks/R.framework/Resources/library --no-vignettes --timings benchdamic_1.10.0.tar.gz
###
##############################################################################
##############################################################################
* using log directory ‘/Users/biocbuild/bbs-3.19-bioc/meat/benchdamic.Rcheck’
* using R version 4.4.0 (2024-04-24)
* using platform: x86_64-apple-darwin20
* R was compiled by
Apple clang version 14.0.0 (clang-1400.0.29.202)
GNU Fortran (GCC) 12.2.0
* running under: macOS Monterey 12.7.1
* using session charset: UTF-8
* using option ‘--no-vignettes’
* checking for file ‘benchdamic/DESCRIPTION’ ... OK
* checking extension type ... Package
* this is package ‘benchdamic’ version ‘1.10.0’
* package encoding: UTF-8
* checking package namespace information ... OK
* checking package dependencies ... OK
* checking if this is a source package ... OK
* checking if there is a namespace ... OK
* checking for hidden files and directories ... OK
* checking for portable file names ... OK
* checking for sufficient/correct file permissions ... OK
* checking whether package ‘benchdamic’ can be installed ... OK
* checking installed package size ... OK
* checking package directory ... OK
* checking ‘build’ directory ... OK
* checking DESCRIPTION meta-information ... OK
* checking top-level files ... OK
* checking for left-over files ... OK
* checking index information ... OK
* checking package subdirectories ... OK
* checking code files for non-ASCII characters ... OK
* checking R files for syntax errors ... OK
* checking whether the package can be loaded ... OK
* checking whether the package can be loaded with stated dependencies ... OK
* checking whether the package can be unloaded cleanly ... OK
* checking whether the namespace can be loaded with stated dependencies ... OK
* checking whether the namespace can be unloaded cleanly ... OK
* checking dependencies in R code ... OK
* checking S3 generic/method consistency ... OK
* checking replacement functions ... OK
* checking foreign function calls ... OK
* checking R code for possible problems ... OK
* checking Rd files ... NOTE
checkRd: (-1) DA_Seurat.Rd:29-31: Lost braces in \itemize; meant \describe ?
checkRd: (-1) DA_Seurat.Rd:32: Lost braces in \itemize; meant \describe ?
checkRd: (-1) DA_Seurat.Rd:33-36: Lost braces in \itemize; meant \describe ?
checkRd: (-1) DA_Seurat.Rd:37: Lost braces in \itemize; meant \describe ?
checkRd: (-1) DA_Seurat.Rd:42-44: Lost braces in \itemize; meant \describe ?
checkRd: (-1) DA_Seurat.Rd:45-46: Lost braces in \itemize; meant \describe ?
checkRd: (-1) DA_Seurat.Rd:47-56: Lost braces in \itemize; meant \describe ?
checkRd: (-1) DA_Seurat.Rd:57-58: Lost braces in \itemize; meant \describe ?
checkRd: (-1) DA_Seurat.Rd:59-61: Lost braces in \itemize; meant \describe ?
checkRd: (-1) DA_Seurat.Rd:62-63: Lost braces in \itemize; meant \describe ?
checkRd: (-1) DA_Seurat.Rd:64-67: Lost braces in \itemize; meant \describe ?
checkRd: (-1) DA_Seurat.Rd:68-70: Lost braces in \itemize; meant \describe ?
checkRd: (-1) DA_Seurat.Rd:71-73: Lost braces in \itemize; meant \describe ?
checkRd: (-1) areaCAT.Rd:18: Lost braces in \itemize; \value handles \item{}{} directly
checkRd: (-1) areaCAT.Rd:19-20: Lost braces in \itemize; \value handles \item{}{} directly
checkRd: (-1) areaCAT.Rd:21: Lost braces in \itemize; \value handles \item{}{} directly
checkRd: (-1) areaCAT.Rd:22: Lost braces in \itemize; \value handles \item{}{} directly
checkRd: (-1) areaCAT.Rd:23: Lost braces in \itemize; \value handles \item{}{} directly
checkRd: (-1) areaCAT.Rd:24-28: Lost braces in \itemize; \value handles \item{}{} directly
checkRd: (-1) areaCAT.Rd:29-30: Lost braces in \itemize; \value handles \item{}{} directly
checkRd: (-1) areaCAT.Rd:31-32: Lost braces in \itemize; \value handles \item{}{} directly
checkRd: (-1) createConcordance.Rd:30: Lost braces in \itemize; \value handles \item{}{} directly
checkRd: (-1) createConcordance.Rd:31-32: Lost braces in \itemize; \value handles \item{}{} directly
checkRd: (-1) createConcordance.Rd:33: Lost braces in \itemize; \value handles \item{}{} directly
checkRd: (-1) createConcordance.Rd:34: Lost braces in \itemize; \value handles \item{}{} directly
checkRd: (-1) createConcordance.Rd:35: Lost braces in \itemize; \value handles \item{}{} directly
checkRd: (-1) createConcordance.Rd:36-40: Lost braces in \itemize; \value handles \item{}{} directly
checkRd: (-1) createEnrichment.Rd:80-81: Lost braces in \itemize; \value handles \item{}{} directly
checkRd: (-1) createEnrichment.Rd:82: Lost braces in \itemize; \value handles \item{}{} directly
checkRd: (-1) createEnrichment.Rd:83-84: Lost braces in \itemize; \value handles \item{}{} directly
checkRd: (-1) createEnrichment.Rd:85-86: Lost braces in \itemize; \value handles \item{}{} directly
checkRd: (-1) createTIEC.Rd:17-19: Lost braces in \itemize; \value handles \item{}{} directly
checkRd: (-1) createTIEC.Rd:20-23: Lost braces in \itemize; \value handles \item{}{} directly
checkRd: (-1) createTIEC.Rd:24-27: Lost braces in \itemize; \value handles \item{}{} directly
checkRd: (-1) createTIEC.Rd:28-30: Lost braces in \itemize; \value handles \item{}{} directly
checkRd: (-1) createTIEC.Rd:31-34: Lost braces in \itemize; \value handles \item{}{} directly
checkRd: (-1) enrichmentTest.Rd:25-26: Lost braces in \itemize; \value handles \item{}{} directly
checkRd: (-1) enrichmentTest.Rd:27: Lost braces in \itemize; \value handles \item{}{} directly
checkRd: (-1) enrichmentTest.Rd:28-29: Lost braces in \itemize; \value handles \item{}{} directly
checkRd: (-1) enrichmentTest.Rd:30-31: Lost braces in \itemize; \value handles \item{}{} directly
checkRd: (-1) extractDA.Rd:62-63: Lost braces in \itemize; \value handles \item{}{} directly
checkRd: (-1) extractDA.Rd:64-66: Lost braces in \itemize; \value handles \item{}{} directly
checkRd: (-1) extractDA.Rd:67-70: Lost braces in \itemize; \value handles \item{}{} directly
checkRd: (-1) getDA.Rd:58-59: Lost braces in \itemize; \value handles \item{}{} directly
checkRd: (-1) getDA.Rd:60-62: Lost braces in \itemize; \value handles \item{}{} directly
checkRd: (-1) getDA.Rd:63-66: Lost braces in \itemize; \value handles \item{}{} directly
checkRd: (-1) get_counts_metadata.Rd:32-33: Lost braces in \itemize; \value handles \item{}{} directly
checkRd: (-1) get_counts_metadata.Rd:34-35: Lost braces in \itemize; \value handles \item{}{} directly
checkRd: (-1) get_counts_metadata.Rd:36-37: Lost braces in \itemize; \value handles \item{}{} directly
checkRd: (-1) plotConcordance.Rd:21-23: Lost braces in \itemize; \value handles \item{}{} directly
checkRd: (-1) plotConcordance.Rd:24-25: Lost braces in \itemize; \value handles \item{}{} directly
checkRd: (-1) set_Seurat.Rd:26-28: Lost braces in \itemize; meant \describe ?
checkRd: (-1) set_Seurat.Rd:29-30: Lost braces in \itemize; meant \describe ?
checkRd: (-1) set_Seurat.Rd:31-40: Lost braces in \itemize; meant \describe ?
checkRd: (-1) set_Seurat.Rd:41-42: Lost braces in \itemize; meant \describe ?
checkRd: (-1) set_Seurat.Rd:43-45: Lost braces in \itemize; meant \describe ?
checkRd: (-1) set_Seurat.Rd:46-47: Lost braces in \itemize; meant \describe ?
checkRd: (-1) set_Seurat.Rd:48-51: Lost braces in \itemize; meant \describe ?
checkRd: (-1) set_Seurat.Rd:52-54: Lost braces in \itemize; meant \describe ?
checkRd: (-1) set_Seurat.Rd:55-57: Lost braces in \itemize; meant \describe ?
checkRd: (-1) set_Seurat.Rd:64-66: Lost braces in \itemize; meant \describe ?
checkRd: (-1) set_Seurat.Rd:67: Lost braces in \itemize; meant \describe ?
checkRd: (-1) set_Seurat.Rd:68-71: Lost braces in \itemize; meant \describe ?
checkRd: (-1) set_Seurat.Rd:72: Lost braces in \itemize; meant \describe ?
* checking Rd metadata ... OK
* checking Rd cross-references ... OK
* checking for missing documentation entries ... OK
* checking for code/documentation mismatches ... OK
* checking Rd \usage sections ... OK
* checking Rd contents ... OK
* checking for unstated dependencies in examples ... OK
* checking contents of ‘data’ directory ... OK
* checking data for non-ASCII characters ... OK
* checking LazyData ... OK
* checking data for ASCII and uncompressed saves ... OK
* checking files in ‘vignettes’ ... OK
* checking examples ... OK
Examples with CPU (user + system) or elapsed time > 5s
user system elapsed
DA_ALDEx2 7.325 9.015 81.277
createConcordance 5.090 0.150 5.398
plotConcordance 4.702 0.153 5.361
* checking for unstated dependencies in ‘tests’ ... OK
* checking tests ...
Running ‘testthat.R’
OK
* checking for unstated dependencies in vignettes ... OK
* checking package vignettes ... OK
* checking running R code from vignettes ... SKIPPED
* checking re-building of vignette outputs ... SKIPPED
* checking PDF version of manual ... OK
* DONE
Status: 1 NOTE
See
‘/Users/biocbuild/bbs-3.19-bioc/meat/benchdamic.Rcheck/00check.log’
for details.
benchdamic.Rcheck/00install.out
############################################################################## ############################################################################## ### ### Running command: ### ### /Library/Frameworks/R.framework/Resources/bin/R CMD INSTALL benchdamic ### ############################################################################## ############################################################################## * installing to library ‘/Library/Frameworks/R.framework/Versions/4.4-x86_64/Resources/library’ * installing *source* package ‘benchdamic’ ... ** using staged installation ** R ** data *** moving datasets to lazyload DB ** inst ** byte-compile and prepare package for lazy loading Found more than one class "dist" in cache; using the first, from namespace 'BiocGenerics' Also defined by ‘spam’ ** help *** installing help indices ** building package indices ** installing vignettes ** testing if installed package can be loaded from temporary location Found more than one class "dist" in cache; using the first, from namespace 'BiocGenerics' Also defined by ‘spam’ ** testing if installed package can be loaded from final location Found more than one class "dist" in cache; using the first, from namespace 'BiocGenerics' Also defined by ‘spam’ ** testing if installed package keeps a record of temporary installation path * DONE (benchdamic)
benchdamic.Rcheck/tests/testthat.Rout
R version 4.4.0 (2024-04-24) -- "Puppy Cup"
Copyright (C) 2024 The R Foundation for Statistical Computing
Platform: x86_64-apple-darwin20
R is free software and comes with ABSOLUTELY NO WARRANTY.
You are welcome to redistribute it under certain conditions.
Type 'license()' or 'licence()' for distribution details.
R is a collaborative project with many contributors.
Type 'contributors()' for more information and
'citation()' on how to cite R or R packages in publications.
Type 'demo()' for some demos, 'help()' for on-line help, or
'help.start()' for an HTML browser interface to help.
Type 'q()' to quit R.
> library(testthat)
> library(benchdamic)
Found more than one class "dist" in cache; using the first, from namespace 'BiocGenerics'
Also defined by 'spam'
>
> test_check("benchdamic")
|------------(25%)----------(50%)----------(75%)----------|
|------------(25%)----------(50%)----------(75%)----------|
|------------(25%)----------(50%)----------(75%)----------|
|------------(25%)----------(50%)----------(75%)----------|
|------------(25%)----------(50%)----------(75%)----------|
[ FAIL 0 | WARN 0 | SKIP 1 | PASS 322 ]
══ Skipped tests (1) ═══════════════════════════════════════════════════════════
• empty test (1): 'test_DA_paired.R:3:1'
[ FAIL 0 | WARN 0 | SKIP 1 | PASS 322 ]
>
> proc.time()
user system elapsed
89.490 6.427 132.485
benchdamic.Rcheck/benchdamic-Ex.timings
| name | user | system | elapsed | |
| CAT | 0.007 | 0.003 | 0.120 | |
| DA_ALDEx2 | 7.325 | 9.015 | 81.277 | |
| DA_ANCOM | 1.625 | 0.154 | 2.811 | |
| DA_DESeq2 | 2.639 | 0.050 | 3.319 | |
| DA_MAST | 1.177 | 0.049 | 2.072 | |
| DA_Maaslin2 | 0.273 | 0.086 | 2.425 | |
| DA_NOISeq | 1.379 | 0.084 | 1.905 | |
| DA_Seurat | 2.020 | 0.094 | 3.198 | |
| DA_ZicoSeq | 0.568 | 0.030 | 1.005 | |
| DA_basic | 0.035 | 0.003 | 0.038 | |
| DA_corncob | 1.186 | 0.112 | 2.955 | |
| DA_dearseq | 0.067 | 0.004 | 0.169 | |
| DA_edgeR | 0.225 | 0.018 | 0.315 | |
| DA_limma | 0.082 | 0.004 | 0.096 | |
| DA_linda | 0.059 | 0.006 | 0.206 | |
| DA_metagenomeSeq | 0.298 | 0.014 | 0.634 | |
| DA_mixMC | 0.359 | 0.035 | 0.944 | |
| RMSE | 0.001 | 0.000 | 0.001 | |
| addKnowledge | 0.188 | 0.011 | 0.305 | |
| areaCAT | 4.180 | 0.117 | 4.790 | |
| checkNormalization | 0.000 | 0.000 | 0.001 | |
| createColors | 0.005 | 0.002 | 0.059 | |
| createConcordance | 5.090 | 0.150 | 5.398 | |
| createEnrichment | 0.323 | 0.013 | 0.355 | |
| createMocks | 0.003 | 0.002 | 0.005 | |
| createPositives | 1.099 | 0.083 | 1.671 | |
| createSplits | 0.034 | 0.003 | 0.040 | |
| createTIEC | 2.271 | 0.084 | 3.461 | |
| enrichmentTest | 0.091 | 0.005 | 0.160 | |
| extractDA | 0.140 | 0.006 | 0.309 | |
| extractStatistics | 0.142 | 0.007 | 0.278 | |
| fitDM | 0.028 | 0.003 | 0.092 | |
| fitHURDLE | 0.675 | 0.021 | 0.813 | |
| fitModels | 2.374 | 0.148 | 3.796 | |
| fitNB | 0.039 | 0.000 | 0.040 | |
| fitZIG | 0.044 | 0.000 | 0.045 | |
| fitZINB | 0.426 | 0.008 | 0.464 | |
| getDA | 0.065 | 0.009 | 0.114 | |
| getPositives | 0.068 | 0.005 | 0.121 | |
| getStatistics | 0.063 | 0.008 | 0.073 | |
| get_counts_metadata | 0.163 | 0.005 | 0.170 | |
| iterative_ordering | 0.013 | 0.005 | 0.064 | |
| meanDifferences | 0.001 | 0.001 | 0.002 | |
| norm_CSS | 0.083 | 0.004 | 0.088 | |
| norm_DESeq2 | 0.469 | 0.010 | 0.485 | |
| norm_TSS | 0.034 | 0.001 | 0.039 | |
| norm_edgeR | 0.040 | 0.002 | 0.042 | |
| plotConcordance | 4.702 | 0.153 | 5.361 | |
| plotContingency | 1.152 | 0.031 | 1.197 | |
| plotEnrichment | 1.065 | 0.015 | 1.089 | |
| plotFDR | 2.209 | 0.040 | 2.268 | |
| plotFPR | 2.444 | 0.109 | 2.603 | |
| plotKS | 2.211 | 0.069 | 2.446 | |
| plotLogP | 1.943 | 0.050 | 2.145 | |
| plotMD | 3.175 | 0.067 | 3.685 | |
| plotMutualFindings | 0.993 | 0.027 | 1.090 | |
| plotPositives | 0.707 | 0.027 | 1.089 | |
| plotQQ | 2.176 | 0.049 | 2.461 | |
| plotRMSE | 2.955 | 0.045 | 3.029 | |
| prepareObserved | 0.001 | 0.000 | 0.002 | |
| runDA | 0.391 | 0.003 | 0.408 | |
| runMocks | 0.584 | 0.010 | 0.634 | |
| runNormalizations | 0.464 | 0.020 | 0.531 | |
| runSplits | 3.433 | 0.078 | 3.602 | |
| setNormalizations | 0.001 | 0.001 | 0.001 | |
| set_ALDEx2 | 0.008 | 0.001 | 0.022 | |
| set_ANCOM | 0.009 | 0.002 | 0.093 | |
| set_DESeq2 | 0.008 | 0.001 | 0.011 | |
| set_MAST | 0.003 | 0.001 | 0.004 | |
| set_Maaslin2 | 0.005 | 0.001 | 0.006 | |
| set_NOISeq | 0.003 | 0.000 | 0.004 | |
| set_Seurat | 0.054 | 0.007 | 0.061 | |
| set_ZicoSeq | 0.006 | 0.000 | 0.007 | |
| set_basic | 0.002 | 0.000 | 0.002 | |
| set_corncob | 0.004 | 0.001 | 0.004 | |
| set_dearseq | 0.001 | 0.001 | 0.002 | |
| set_edgeR | 0.012 | 0.001 | 0.018 | |
| set_limma | 0.008 | 0.000 | 0.009 | |
| set_linda | 0.007 | 0.001 | 0.009 | |
| set_metagenomeSeq | 0.005 | 0.000 | 0.005 | |
| set_mixMC | 0.004 | 0.001 | 0.032 | |
| weights_ZINB | 0.369 | 0.002 | 0.388 | |