| Back to Multiple platform build/check report for BioC 3.19: simplified long | 
 | 
This page was generated on 2024-10-18 20:39 -0400 (Fri, 18 Oct 2024).
| Hostname | OS | Arch (*) | R version | Installed pkgs | 
|---|---|---|---|---|
| nebbiolo1 | Linux (Ubuntu 22.04.3 LTS) | x86_64 | 4.4.1 (2024-06-14) -- "Race for Your Life" | 4763 | 
| palomino7 | Windows Server 2022 Datacenter | x64 | 4.4.1 (2024-06-14 ucrt) -- "Race for Your Life" | 4500 | 
| merida1 | macOS 12.7.5 Monterey | x86_64 | 4.4.1 (2024-06-14) -- "Race for Your Life" | 4530 | 
| kjohnson1 | macOS 13.6.6 Ventura | arm64 | 4.4.1 (2024-06-14) -- "Race for Your Life" | 4480 | 
| Click on any hostname to see more info about the system (e.g. compilers) (*) as reported by 'uname -p', except on Windows and Mac OS X | ||||
| Package 140/2300 | Hostname | OS / Arch | INSTALL | BUILD | CHECK | BUILD BIN | ||||||||
| bayNorm 1.22.0  (landing page) Wenhao Tang 
 | nebbiolo1 | Linux (Ubuntu 22.04.3 LTS) / x86_64 | OK | OK | OK |  | ||||||||
| palomino7 | Windows Server 2022 Datacenter / x64 | OK | OK | OK | OK |  | ||||||||
| merida1 | macOS 12.7.5 Monterey / x86_64 | OK | OK | OK | OK |  | ||||||||
| kjohnson1 | macOS 13.6.6 Ventura / arm64 | OK | OK | OK | OK |  | ||||||||
| To the developers/maintainers of the bayNorm package: - Allow up to 24 hours (and sometimes 48 hours) for your latest push to git@git.bioconductor.org:packages/bayNorm.git to reflect on this report. See Troubleshooting Build Report for more information. - Use the following Renviron settings to reproduce errors and warnings. - If 'R CMD check' started to fail recently on the Linux builder(s) over a missing dependency, add the missing dependency to 'Suggests:' in your DESCRIPTION file. See Renviron.bioc for more information. | 
| Package: bayNorm | 
| Version: 1.22.0 | 
| Command: rm -rf bayNorm.buildbin-libdir && mkdir bayNorm.buildbin-libdir && E:\biocbuild\bbs-3.19-bioc\R\bin\R.exe CMD INSTALL --build --library=bayNorm.buildbin-libdir bayNorm_1.22.0.tar.gz | 
| StartedAt: 2024-10-17 07:22:40 -0400 (Thu, 17 Oct 2024) | 
| EndedAt: 2024-10-17 07:23:36 -0400 (Thu, 17 Oct 2024) | 
| EllapsedTime: 55.7 seconds | 
| RetCode: 0 | 
| Status: OK | 
| PackageFile: bayNorm_1.22.0.zip | 
| PackageFileSize: 851.5 KiB | 
##############################################################################
##############################################################################
###
### Running command:
###
###   rm -rf bayNorm.buildbin-libdir && mkdir bayNorm.buildbin-libdir && E:\biocbuild\bbs-3.19-bioc\R\bin\R.exe CMD INSTALL --build --library=bayNorm.buildbin-libdir bayNorm_1.22.0.tar.gz
###
##############################################################################
##############################################################################
* installing *source* package 'bayNorm' ...
** using staged installation
** libs
using C++ compiler: 'G__~1.EXE (GCC) 13.2.0'
using C++11
g++  -std=gnu++11 -I"E:/biocbuild/bbs-3.19-bioc/R/include" -DNDEBUG -DARMA_64BIT_WORD=1  -I'E:/biocbuild/bbs-3.19-bioc/R/library/Rcpp/include' -I'E:/biocbuild/bbs-3.19-bioc/R/library/RcppArmadillo/include' -I'E:/biocbuild/bbs-3.19-bioc/R/library/RcppProgress/include'   -I"C:/rtools44/x86_64-w64-mingw32.static.posix/include"  -fopenmp    -O2 -Wall  -mfpmath=sse -msse2 -mstackrealign  -c RcppExports.cpp -o RcppExports.o
g++  -std=gnu++11 -I"E:/biocbuild/bbs-3.19-bioc/R/include" -DNDEBUG -DARMA_64BIT_WORD=1  -I'E:/biocbuild/bbs-3.19-bioc/R/library/Rcpp/include' -I'E:/biocbuild/bbs-3.19-bioc/R/library/RcppArmadillo/include' -I'E:/biocbuild/bbs-3.19-bioc/R/library/RcppProgress/include'   -I"C:/rtools44/x86_64-w64-mingw32.static.posix/include"  -fopenmp    -O2 -Wall  -mfpmath=sse -msse2 -mstackrealign  -c bayNorm_main.cpp -o bayNorm_main.o
bayNorm_main.cpp: In function 'Rcpp::List EstPrior_sprcpp(arma::sp_mat)':
bayNorm_main.cpp:1374:7: warning: variable 'Nrows' set but not used [-Wunused-but-set-variable]
 1374 |   int Nrows;
      |       ^~~~~
bayNorm_main.cpp: In function 'Rcpp::List EstPrior_rcpp(Rcpp::NumericMatrix)':
bayNorm_main.cpp:1427:7: warning: variable 'Nrows' set but not used [-Wunused-but-set-variable]
 1427 |   int Nrows;
      |       ^~~~~
g++ -shared -s -static-libgcc -o bayNorm.dll tmp.def RcppExports.o bayNorm_main.o -fopenmp -LE:/biocbuild/bbs-3.19-bioc/R/bin/x64 -lRlapack -LE:/biocbuild/bbs-3.19-bioc/R/bin/x64 -lRblas -lgfortran -lm -lquadmath -LC:/rtools44/x86_64-w64-mingw32.static.posix/lib/x64 -LC:/rtools44/x86_64-w64-mingw32.static.posix/lib -LE:/biocbuild/bbs-3.19-bioc/R/bin/x64 -lR
installing to E:/biocbuild/bbs-3.19-bioc/meat/bayNorm.buildbin-libdir/00LOCK-bayNorm/00new/bayNorm/libs/x64
** R
** data
** inst
** byte-compile and prepare package for lazy loading
** help
*** installing help indices
** building package indices
** installing vignettes
** testing if installed package can be loaded from temporary location
** testing if installed package can be loaded from final location
** testing if installed package keeps a record of temporary installation path
* MD5 sums
packaged installation of 'bayNorm' as bayNorm_1.22.0.zip
* DONE (bayNorm)