| Back to Multiple platform build/check report for BioC 3.19: simplified long |
|
This page was generated on 2024-10-18 20:38 -0400 (Fri, 18 Oct 2024).
| Hostname | OS | Arch (*) | R version | Installed pkgs |
|---|---|---|---|---|
| nebbiolo1 | Linux (Ubuntu 22.04.3 LTS) | x86_64 | 4.4.1 (2024-06-14) -- "Race for Your Life" | 4763 |
| palomino7 | Windows Server 2022 Datacenter | x64 | 4.4.1 (2024-06-14 ucrt) -- "Race for Your Life" | 4500 |
| merida1 | macOS 12.7.5 Monterey | x86_64 | 4.4.1 (2024-06-14) -- "Race for Your Life" | 4530 |
| kjohnson1 | macOS 13.6.6 Ventura | arm64 | 4.4.1 (2024-06-14) -- "Race for Your Life" | 4480 |
| Click on any hostname to see more info about the system (e.g. compilers) (*) as reported by 'uname -p', except on Windows and Mac OS X | ||||
| Package 128/2300 | Hostname | OS / Arch | INSTALL | BUILD | CHECK | BUILD BIN | ||||||||
| basecallQC 1.28.0 (landing page) Thomas Carroll
| nebbiolo1 | Linux (Ubuntu 22.04.3 LTS) / x86_64 | OK | OK | OK | |||||||||
| palomino7 | Windows Server 2022 Datacenter / x64 | OK | OK | OK | OK | |||||||||
| merida1 | macOS 12.7.5 Monterey / x86_64 | OK | OK | OK | OK | |||||||||
| kjohnson1 | macOS 13.6.6 Ventura / arm64 | OK | OK | OK | OK | |||||||||
|
To the developers/maintainers of the basecallQC package: - Allow up to 24 hours (and sometimes 48 hours) for your latest push to git@git.bioconductor.org:packages/basecallQC.git to reflect on this report. See Troubleshooting Build Report for more information. - Use the following Renviron settings to reproduce errors and warnings. - If 'R CMD check' started to fail recently on the Linux builder(s) over a missing dependency, add the missing dependency to 'Suggests:' in your DESCRIPTION file. See Renviron.bioc for more information. |
| Package: basecallQC |
| Version: 1.28.0 |
| Command: /home/biocbuild/bbs-3.19-bioc/R/bin/R CMD check --install=check:basecallQC.install-out.txt --library=/home/biocbuild/bbs-3.19-bioc/R/site-library --timings basecallQC_1.28.0.tar.gz |
| StartedAt: 2024-10-16 21:48:00 -0400 (Wed, 16 Oct 2024) |
| EndedAt: 2024-10-16 21:55:16 -0400 (Wed, 16 Oct 2024) |
| EllapsedTime: 435.8 seconds |
| RetCode: 0 |
| Status: OK |
| CheckDir: basecallQC.Rcheck |
| Warnings: 0 |
##############################################################################
##############################################################################
###
### Running command:
###
### /home/biocbuild/bbs-3.19-bioc/R/bin/R CMD check --install=check:basecallQC.install-out.txt --library=/home/biocbuild/bbs-3.19-bioc/R/site-library --timings basecallQC_1.28.0.tar.gz
###
##############################################################################
##############################################################################
* using log directory ‘/home/biocbuild/bbs-3.19-bioc/meat/basecallQC.Rcheck’
* using R version 4.4.1 (2024-06-14)
* using platform: x86_64-pc-linux-gnu
* R was compiled by
gcc (Ubuntu 11.4.0-1ubuntu1~22.04) 11.4.0
GNU Fortran (Ubuntu 11.4.0-1ubuntu1~22.04) 11.4.0
* running under: Ubuntu 22.04.5 LTS
* using session charset: UTF-8
* checking for file ‘basecallQC/DESCRIPTION’ ... OK
* checking extension type ... Package
* this is package ‘basecallQC’ version ‘1.28.0’
* checking package namespace information ... OK
* checking package dependencies ... OK
* checking if this is a source package ... OK
* checking if there is a namespace ... OK
* checking for hidden files and directories ... OK
* checking for portable file names ... OK
* checking for sufficient/correct file permissions ... OK
* checking whether package ‘basecallQC’ can be installed ... OK
* checking installed package size ... OK
* checking package directory ... OK
* checking ‘build’ directory ... OK
* checking DESCRIPTION meta-information ... OK
* checking top-level files ... OK
* checking for left-over files ... OK
* checking index information ... OK
* checking package subdirectories ... OK
* checking code files for non-ASCII characters ... OK
* checking R files for syntax errors ... OK
* checking whether the package can be loaded ... OK
* checking whether the package can be loaded with stated dependencies ... OK
* checking whether the package can be unloaded cleanly ... OK
* checking whether the namespace can be loaded with stated dependencies ... OK
* checking whether the namespace can be unloaded cleanly ... OK
* checking loading without being on the library search path ... OK
* checking dependencies in R code ... OK
* checking S3 generic/method consistency ... OK
* checking replacement functions ... OK
* checking foreign function calls ... OK
* checking R code for possible problems ... OK
* checking Rd files ... NOTE
checkRd: (-1) BCL2FastQparams.Rd:39: Lost braces in \itemize; meant \describe ?
checkRd: (-1) BCL2FastQparams.Rd:40: Lost braces in \itemize; meant \describe ?
checkRd: (-1) BCL2FastQparams.Rd:41-42: Lost braces in \itemize; meant \describe ?
checkRd: (-1) basecallQC.Rd:39: Lost braces in \itemize; meant \describe ?
checkRd: (-1) basecallQC.Rd:40-42: Lost braces in \itemize; meant \describe ?
checkRd: (-1) basecallQC.Rd:43-44: Lost braces in \itemize; meant \describe ?
checkRd: (-1) basecallQC.Rd:45-46: Lost braces in \itemize; meant \describe ?
checkRd: (-1) basecallQC.Rd:47-48: Lost braces in \itemize; meant \describe ?
checkRd: (-1) basecallQC.Rd:49-50: Lost braces in \itemize; meant \describe ?
checkRd: (-1) basecallQC.Rd:51-52: Lost braces in \itemize; meant \describe ?
checkRd: (-1) interOpsReport.Rd:32-33: Lost braces in \itemize; meant \describe ?
checkRd: (-1) interOpsReport.Rd:34-37: Lost braces in \itemize; meant \describe ?
checkRd: (-1) interOpsReport.Rd:38-41: Lost braces in \itemize; meant \describe ?
* checking Rd metadata ... OK
* checking Rd cross-references ... OK
* checking for missing documentation entries ... OK
* checking for code/documentation mismatches ... OK
* checking Rd \usage sections ... OK
* checking Rd contents ... OK
* checking for unstated dependencies in examples ... OK
* checking files in ‘vignettes’ ... OK
* checking examples ... OK
Examples with CPU (user + system) or elapsed time > 5s
user system elapsed
reportBCL 6.940 0.121 7.154
demuxBarplot 5.143 0.076 5.219
* checking for unstated dependencies in ‘tests’ ... OK
* checking tests ...
Running ‘testthat.R’
OK
* checking for unstated dependencies in vignettes ... OK
* checking package vignettes ... OK
* checking re-building of vignette outputs ... OK
* checking PDF version of manual ... OK
* DONE
Status: 1 NOTE
See
‘/home/biocbuild/bbs-3.19-bioc/meat/basecallQC.Rcheck/00check.log’
for details.
basecallQC.Rcheck/00install.out
############################################################################## ############################################################################## ### ### Running command: ### ### /home/biocbuild/bbs-3.19-bioc/R/bin/R CMD INSTALL basecallQC ### ############################################################################## ############################################################################## * installing to library ‘/home/biocbuild/bbs-3.19-bioc/R/site-library’ * installing *source* package ‘basecallQC’ ... ** using staged installation ** R ** inst ** byte-compile and prepare package for lazy loading ** help *** installing help indices ** building package indices ** installing vignettes ** testing if installed package can be loaded from temporary location ** testing if installed package can be loaded from final location ** testing if installed package keeps a record of temporary installation path * DONE (basecallQC)
basecallQC.Rcheck/tests/testthat.Rout
R version 4.4.1 (2024-06-14) -- "Race for Your Life"
Copyright (C) 2024 The R Foundation for Statistical Computing
Platform: x86_64-pc-linux-gnu
R is free software and comes with ABSOLUTELY NO WARRANTY.
You are welcome to redistribute it under certain conditions.
Type 'license()' or 'licence()' for distribution details.
R is a collaborative project with many contributors.
Type 'contributors()' for more information and
'citation()' on how to cite R or R packages in publications.
Type 'demo()' for some demos, 'help()' for on-line help, or
'help.start()' for an HTML browser interface to help.
Type 'q()' to quit R.
> library(testthat)
> library(basecallQC)
Loading required package: rmarkdown
Loading required package: knitr
Loading required package: prettydoc
Loading required package: yaml
>
> test_check("basecallQC")
[ FAIL 0 | WARN 47 | SKIP 0 | PASS 5 ]
[ FAIL 0 | WARN 47 | SKIP 0 | PASS 5 ]
>
> proc.time()
user system elapsed
23.363 1.012 24.368
basecallQC.Rcheck/basecallQC-Ex.timings
| name | user | system | elapsed | |
| BCL2FastQparams | 1.069 | 0.055 | 1.126 | |
| baseCallMetrics | 4.024 | 0.217 | 4.240 | |
| basecallQC | 4.425 | 0.064 | 4.490 | |
| createBCLcommand | 0.226 | 0.000 | 0.226 | |
| createBasemasks | 0.215 | 0.000 | 0.215 | |
| demultiplexMetrics | 0.048 | 0.000 | 0.048 | |
| demuxBarplot | 5.143 | 0.076 | 5.219 | |
| demuxBoxplot | 3.998 | 0.036 | 4.034 | |
| indexlengths | 0.023 | 0.000 | 0.023 | |
| interOpsReport | 0.018 | 0.000 | 0.018 | |
| makeFQTable | 4.002 | 0.132 | 4.134 | |
| passFilterBar | 4.211 | 0.048 | 4.259 | |
| passFilterBoxplot | 4.100 | 0.024 | 4.124 | |
| passFilterTileplot | 4.192 | 0.016 | 4.208 | |
| readlengths | 0.023 | 0.000 | 0.023 | |
| reportBCL | 6.940 | 0.121 | 7.154 | |
| summaryConvStatsTable | 4.324 | 0.376 | 4.701 | |
| summaryDemuxTable | 4.429 | 0.288 | 4.717 | |
| validateBCLSheet | 0.069 | 0.000 | 0.068 | |