| Back to Multiple platform build/check report for BioC 3.19: simplified long |
|
This page was generated on 2024-05-09 11:40:34 -0400 (Thu, 09 May 2024).
| Hostname | OS | Arch (*) | R version | Installed pkgs |
|---|---|---|---|---|
| nebbiolo1 | Linux (Ubuntu 22.04.3 LTS) | x86_64 | 4.4.0 (2024-04-24) -- "Puppy Cup" | 4748 |
| palomino3 | Windows Server 2022 Datacenter | x64 | 4.4.0 (2024-04-24 ucrt) -- "Puppy Cup" | 4484 |
| lconway | macOS 12.7.1 Monterey | x86_64 | 4.4.0 (2024-04-24) -- "Puppy Cup" | 4514 |
| kunpeng2 | Linux (openEuler 22.03 LTS-SP1) | aarch64 | 4.4.0 beta (2024-04-15 r86425) -- "Puppy Cup" | 4480 |
| Click on any hostname to see more info about the system (e.g. compilers) (*) as reported by 'uname -p', except on Windows and Mac OS X | ||||
| Package 110/2300 | Hostname | OS / Arch | INSTALL | BUILD | CHECK | BUILD BIN | ||||||||
| attract 1.56.0 (landing page) Samuel Zimmerman
| nebbiolo1 | Linux (Ubuntu 22.04.3 LTS) / x86_64 | OK | OK | OK | |||||||||
| palomino3 | Windows Server 2022 Datacenter / x64 | OK | ERROR | skipped | skipped | |||||||||
| lconway | macOS 12.7.1 Monterey / x86_64 | OK | OK | OK | OK | |||||||||
| kunpeng2 | Linux (openEuler 22.03 LTS-SP1) / aarch64 | OK | OK | OK | ||||||||||
| kjohnson3 | macOS 13.6.5 Ventura / arm64 | see weekly results here | ||||||||||||
|
To the developers/maintainers of the attract package: - Allow up to 24 hours (and sometimes 48 hours) for your latest push to git@git.bioconductor.org:packages/attract.git to reflect on this report. See Troubleshooting Build Report for more information. - Use the following Renviron settings to reproduce errors and warnings. - If 'R CMD check' started to fail recently on the Linux builder(s) over a missing dependency, add the missing dependency to 'Suggests:' in your DESCRIPTION file. See Renviron.bioc for more information. - See Martin Grigorov's blog post for how to debug Linux ARM64 related issues on a x86_64 host. |
| Package: attract |
| Version: 1.56.0 |
| Command: /home/biocbuild/R/R-beta-2024-04-15_r86425/bin/R CMD check --install=check:attract.install-out.txt --library=/home/biocbuild/R/R-beta-2024-04-15_r86425/site-library --no-vignettes --timings attract_1.56.0.tar.gz |
| StartedAt: 2024-05-09 04:51:34 -0000 (Thu, 09 May 2024) |
| EndedAt: 2024-05-09 04:57:55 -0000 (Thu, 09 May 2024) |
| EllapsedTime: 380.6 seconds |
| RetCode: 0 |
| Status: OK |
| CheckDir: attract.Rcheck |
| Warnings: 0 |
##############################################################################
##############################################################################
###
### Running command:
###
### /home/biocbuild/R/R-beta-2024-04-15_r86425/bin/R CMD check --install=check:attract.install-out.txt --library=/home/biocbuild/R/R-beta-2024-04-15_r86425/site-library --no-vignettes --timings attract_1.56.0.tar.gz
###
##############################################################################
##############################################################################
* using log directory ‘/home/biocbuild/bbs-3.19-bioc/meat/attract.Rcheck’
* using R version 4.4.0 beta (2024-04-15 r86425)
* using platform: aarch64-unknown-linux-gnu
* R was compiled by
gcc (GCC) 10.3.1
GNU Fortran (GCC) 10.3.1
* running under: openEuler 22.03 (LTS-SP1)
* using session charset: UTF-8
* using option ‘--no-vignettes’
* checking for file ‘attract/DESCRIPTION’ ... OK
* checking extension type ... Package
* this is package ‘attract’ version ‘1.56.0’
* checking package namespace information ... OK
* checking package dependencies ... OK
* checking if this is a source package ... OK
* checking if there is a namespace ... OK
* checking for hidden files and directories ... OK
* checking for portable file names ... OK
* checking for sufficient/correct file permissions ... OK
* checking whether package ‘attract’ can be installed ... OK
* checking installed package size ... OK
* checking package directory ... OK
* checking ‘build’ directory ... OK
* checking DESCRIPTION meta-information ... OK
* checking top-level files ... OK
* checking for left-over files ... OK
* checking index information ... OK
* checking package subdirectories ... OK
* checking code files for non-ASCII characters ... OK
* checking R files for syntax errors ... OK
* checking whether the package can be loaded ... OK
* checking whether the package can be loaded with stated dependencies ... OK
* checking whether the package can be unloaded cleanly ... OK
* checking whether the namespace can be loaded with stated dependencies ... OK
* checking whether the namespace can be unloaded cleanly ... OK
* checking loading without being on the library search path ... OK
* checking dependencies in R code ... OK
* checking S3 generic/method consistency ... OK
* checking replacement functions ... OK
* checking foreign function calls ... OK
* checking R code for possible problems ... NOTE
plotsynexprs: warning in axis(1, at = tickMarks, lab = tickLabels):
partial argument match of 'lab' to 'labels'
removeFlatGenes: warning in topTable(fit2, coef =
(1:(length(my.contrasts))), adjust = "fdr", n = nrow(dat.fr)):
partial argument match of 'n' to 'number'
removeFlatGenes: warning in topTable(fit2, coef =
(1:(length(my.contrasts))), adjust = "fdr", n = nrow(dat.fr)):
partial argument match of 'adjust' to 'adjust.method'
* checking Rd files ... NOTE
checkRd: (-1) attract-package.Rd:34: Lost braces
34 | M\"{u}ller F et al. 2008. Regulatory networks define phenotypic classes of human stem cell lines. Nature. 455(7211): 401.
| ^
checkRd: (-1) exprs.dat.Rd:29: Lost braces
29 | M\"{u}ller F, et al., Regulatory networks define phenotypic classes of human stem cell lines. Nature, 2008. 455(7211): p. 401-405.
| ^
checkRd: (-1) findOnepwaySynexprs.Rd:15: Lost braces
15 | a single character string denoting the KEGG or reactome ID of the pathway module to be analyzed or a character code{vector} of gene names of a pathway.
| ^
checkRd: (-1) findSynexprs.Rd:16: Lost braces
16 | It may also be a character code{vector} of gene names of a pathway if defining a custom pathway.
| ^
checkRd: (-1) loring.eset.Rd:23: Lost braces
23 | M\"{u}ller, F, et al., Regulatory networks define phenotypic classes of human stem cell lines. Nature, 2008. 455(7211): p. 401-405.
| ^
checkRd: (-1) samp.info.Rd:28: Lost braces
28 | M\"{u}ller F, et al., Regulatory networks define phenotypic classes of human stem cell lines. Nature, 2008. 455(7211): p. 401-405.
| ^
checkRd: (-1) subset.loring.eset.Rd:25: Lost braces
25 | M\"{u}ller, F, et al., Regulatory networks define phenotypic classes of human stem cell lines. Nature, 2008. 455(7211): p. 401-405.
| ^
* checking Rd metadata ... OK
* checking Rd cross-references ... OK
* checking for missing documentation entries ... OK
* checking for code/documentation mismatches ... OK
* checking Rd \usage sections ... OK
* checking Rd contents ... OK
* checking for unstated dependencies in examples ... OK
* checking contents of ‘data’ directory ... OK
* checking data for non-ASCII characters ... OK
* checking data for ASCII and uncompressed saves ... OK
* checking files in ‘vignettes’ ... OK
* checking examples ... OK
Examples with CPU (user + system) or elapsed time > 5s
user system elapsed
calcFuncSynexprs 98.367 2.744 103.102
findAttractors 42.981 0.563 44.419
findCorrPartners 15.197 0.088 15.677
findSynexprs 7.285 0.081 7.664
plotsynexprs 6.183 0.012 6.491
* checking for unstated dependencies in vignettes ... OK
* checking package vignettes ... OK
* checking running R code from vignettes ... SKIPPED
* checking re-building of vignette outputs ... SKIPPED
* checking PDF version of manual ... OK
* DONE
Status: 2 NOTEs
See
‘/home/biocbuild/bbs-3.19-bioc/meat/attract.Rcheck/00check.log’
for details.
attract.Rcheck/00install.out
############################################################################## ############################################################################## ### ### Running command: ### ### /home/biocbuild/R/R-beta-2024-04-15_r86425/bin/R CMD INSTALL attract ### ############################################################################## ############################################################################## * installing to library ‘/home/biocbuild/R/R-beta-2024-04-15_r86425/site-library’ * installing *source* package ‘attract’ ... ** using staged installation ** R ** data ** inst ** byte-compile and prepare package for lazy loading ** help *** installing help indices ** building package indices ** installing vignettes ** testing if installed package can be loaded from temporary location ** testing if installed package can be loaded from final location ** testing if installed package keeps a record of temporary installation path * DONE (attract)
attract.Rcheck/attract-Ex.timings
| name | user | system | elapsed | |
| AttractorModuleSet-class | 0 | 0 | 0 | |
| SynExpressionSet-class | 0.001 | 0.000 | 0.001 | |
| attract-package | 0 | 0 | 0 | |
| buildCorMatrix | 0 | 0 | 0 | |
| buildKeggIncidenceMatrix | 0.001 | 0.000 | 0.001 | |
| calcFuncSynexprs | 98.367 | 2.744 | 103.102 | |
| calcInform | 0 | 0 | 0 | |
| calcModfstat | 0.001 | 0.000 | 0.000 | |
| calcRss | 0 | 0 | 0 | |
| exprs.dat | 0.106 | 0.004 | 0.111 | |
| filterDataSet | 0.236 | 0.000 | 0.237 | |
| findAttractors | 42.981 | 0.563 | 44.419 | |
| findCorrPartners | 15.197 | 0.088 | 15.677 | |
| findOnepwaySynexprs | 0 | 0 | 0 | |
| findSynexprs | 7.285 | 0.081 | 7.664 | |
| flagPwayExists | 0 | 0 | 0 | |
| getCustomGenes | 0 | 0 | 0 | |
| getPwayGenes | 0 | 0 | 0 | |
| loring.eset | 0.104 | 0.004 | 0.108 | |
| plotsynexprs | 6.183 | 0.012 | 6.491 | |
| removeFlatGenes | 0.135 | 0.008 | 0.143 | |
| samp.info | 0.001 | 0.000 | 0.001 | |
| subset.loring.eset | 0.056 | 0.004 | 0.060 | |