| Back to Multiple platform build/check report for BioC 3.19: simplified long |
|
This page was generated on 2024-05-09 11:40:32 -0400 (Thu, 09 May 2024).
| Hostname | OS | Arch (*) | R version | Installed pkgs |
|---|---|---|---|---|
| nebbiolo1 | Linux (Ubuntu 22.04.3 LTS) | x86_64 | 4.4.0 (2024-04-24) -- "Puppy Cup" | 4748 |
| palomino3 | Windows Server 2022 Datacenter | x64 | 4.4.0 (2024-04-24 ucrt) -- "Puppy Cup" | 4484 |
| lconway | macOS 12.7.1 Monterey | x86_64 | 4.4.0 (2024-04-24) -- "Puppy Cup" | 4514 |
| kunpeng2 | Linux (openEuler 22.03 LTS-SP1) | aarch64 | 4.4.0 beta (2024-04-15 r86425) -- "Puppy Cup" | 4480 |
| Click on any hostname to see more info about the system (e.g. compilers) (*) as reported by 'uname -p', except on Windows and Mac OS X | ||||
| Package 28/2300 | Hostname | OS / Arch | INSTALL | BUILD | CHECK | BUILD BIN | ||||||||
| affyio 1.74.0 (landing page) Ben Bolstad
| nebbiolo1 | Linux (Ubuntu 22.04.3 LTS) / x86_64 | OK | OK | WARNINGS | |||||||||
| palomino3 | Windows Server 2022 Datacenter / x64 | OK | OK | WARNINGS | OK | |||||||||
| lconway | macOS 12.7.1 Monterey / x86_64 | OK | OK | WARNINGS | OK | |||||||||
| kunpeng2 | Linux (openEuler 22.03 LTS-SP1) / aarch64 | OK | OK | WARNINGS | ||||||||||
| kjohnson3 | macOS 13.6.5 Ventura / arm64 | see weekly results here | ||||||||||||
|
To the developers/maintainers of the affyio package: - Allow up to 24 hours (and sometimes 48 hours) for your latest push to git@git.bioconductor.org:packages/affyio.git to reflect on this report. See Troubleshooting Build Report for more information. - Use the following Renviron settings to reproduce errors and warnings. - If 'R CMD check' started to fail recently on the Linux builder(s) over a missing dependency, add the missing dependency to 'Suggests:' in your DESCRIPTION file. See Renviron.bioc for more information. - See Martin Grigorov's blog post for how to debug Linux ARM64 related issues on a x86_64 host. |
| Package: affyio |
| Version: 1.74.0 |
| Command: /home/biocbuild/R/R-beta-2024-04-15_r86425/bin/R CMD INSTALL affyio |
| StartedAt: 2024-05-08 20:02:25 -0000 (Wed, 08 May 2024) |
| EndedAt: 2024-05-08 20:02:49 -0000 (Wed, 08 May 2024) |
| EllapsedTime: 24.1 seconds |
| RetCode: 0 |
| Status: OK |
##############################################################################
##############################################################################
###
### Running command:
###
### /home/biocbuild/R/R-beta-2024-04-15_r86425/bin/R CMD INSTALL affyio
###
##############################################################################
##############################################################################
* installing to library ‘/home/biocbuild/R/R-beta-2024-04-15_r86425/site-library’
* installing *source* package ‘affyio’ ...
** using staged installation
checking for gcc... gcc
checking whether the C compiler works... yes
checking for C compiler default output file name... a.out
checking for suffix of executables...
checking whether we are cross compiling... no
checking for suffix of object files... o
checking whether we are using the GNU C compiler... yes
checking whether gcc accepts -g... yes
checking for gcc option to accept ISO C89... none needed
checking how to run the C preprocessor... gcc -E
checking for grep that handles long lines and -e... /usr/bin/grep
checking for egrep... /usr/bin/grep -E
checking for ANSI C header files... yes
checking for sys/types.h... yes
checking for sys/stat.h... yes
checking for stdlib.h... yes
checking for string.h... yes
checking for memory.h... yes
checking for strings.h... yes
checking for inttypes.h... yes
checking for stdint.h... yes
checking for unistd.h... yes
checking for main in -lz... yes
checking zlib.h usability... yes
checking zlib.h presence... yes
checking for zlib.h... yes
checking if zlib version >= 1.1.3... yes
checking for pthread_create in -lpthread... yes
checking if we can use pthreads... yes
checking if PTHREAD_STACK_MIN is defined... yes
configure: Enabling threading for affyio
configure: creating ./config.status
config.status: creating src/Makevars
** libs
using C compiler: ‘gcc (GCC) 10.3.1’
gcc -I"/home/biocbuild/R/R-beta-2024-04-15_r86425/include" -DNDEBUG -DPACKAGE_NAME=\"\" -DPACKAGE_TARNAME=\"\" -DPACKAGE_VERSION=\"\" -DPACKAGE_STRING=\"\" -DPACKAGE_BUGREPORT=\"\" -DPACKAGE_URL=\"\" -DSTDC_HEADERS=1 -DHAVE_SYS_TYPES_H=1 -DHAVE_SYS_STAT_H=1 -DHAVE_STDLIB_H=1 -DHAVE_STRING_H=1 -DHAVE_MEMORY_H=1 -DHAVE_STRINGS_H=1 -DHAVE_INTTYPES_H=1 -DHAVE_STDINT_H=1 -DHAVE_UNISTD_H=1 -DHAVE_ZLIB=1 -DHAVE_LIBPTHREAD=1 -DUSE_PTHREADS=1 -I/usr/local/include -g -O2 -Wall -fPIC -g -O2 -Wall -c fread_functions.c -o fread_functions.o
gcc -I"/home/biocbuild/R/R-beta-2024-04-15_r86425/include" -DNDEBUG -DPACKAGE_NAME=\"\" -DPACKAGE_TARNAME=\"\" -DPACKAGE_VERSION=\"\" -DPACKAGE_STRING=\"\" -DPACKAGE_BUGREPORT=\"\" -DPACKAGE_URL=\"\" -DSTDC_HEADERS=1 -DHAVE_SYS_TYPES_H=1 -DHAVE_SYS_STAT_H=1 -DHAVE_STDLIB_H=1 -DHAVE_STRING_H=1 -DHAVE_MEMORY_H=1 -DHAVE_STRINGS_H=1 -DHAVE_INTTYPES_H=1 -DHAVE_STDINT_H=1 -DHAVE_UNISTD_H=1 -DHAVE_ZLIB=1 -DHAVE_LIBPTHREAD=1 -DUSE_PTHREADS=1 -I/usr/local/include -g -O2 -Wall -fPIC -g -O2 -Wall -c init_package.c -o init_package.o
gcc -I"/home/biocbuild/R/R-beta-2024-04-15_r86425/include" -DNDEBUG -DPACKAGE_NAME=\"\" -DPACKAGE_TARNAME=\"\" -DPACKAGE_VERSION=\"\" -DPACKAGE_STRING=\"\" -DPACKAGE_BUGREPORT=\"\" -DPACKAGE_URL=\"\" -DSTDC_HEADERS=1 -DHAVE_SYS_TYPES_H=1 -DHAVE_SYS_STAT_H=1 -DHAVE_STDLIB_H=1 -DHAVE_STRING_H=1 -DHAVE_MEMORY_H=1 -DHAVE_STRINGS_H=1 -DHAVE_INTTYPES_H=1 -DHAVE_STDINT_H=1 -DHAVE_UNISTD_H=1 -DHAVE_ZLIB=1 -DHAVE_LIBPTHREAD=1 -DUSE_PTHREADS=1 -I/usr/local/include -g -O2 -Wall -fPIC -g -O2 -Wall -c read_abatch.c -o read_abatch.o
read_abatch.c: In function ‘read_cel_file_intensities’:
read_abatch.c:656:176: warning: format ‘%d’ expects argument of type ‘int’, but argument 3 has type ‘size_t’ {aka ‘long unsigned int’} [-Wformat=]
656 | Rprintf("Warning: found an empty line where not expected in %s.\nThis means that there is a cel intensity missing from the cel file.\nSucessfully read to cel intensity %d of %d expected\n", filename, i-1, i);
| ~^ ~~~
| | |
| int size_t {aka long unsigned int}
| %ld
read_abatch.c:656:182: warning: format ‘%d’ expects argument of type ‘int’, but argument 4 has type ‘size_t’ {aka ‘long unsigned int’} [-Wformat=]
656 | Rprintf("Warning: found an empty line where not expected in %s.\nThis means that there is a cel intensity missing from the cel file.\nSucessfully read to cel intensity %d of %d expected\n", filename, i-1, i);
| ~^ ~
| | |
| int size_t {aka long unsigned int}
| %ld
read_abatch.c:665:146: warning: format ‘%d’ expects argument of type ‘int’, but argument 3 has type ‘size_t’ {aka ‘long unsigned int’} [-Wformat=]
665 | Rprintf("Warning: found an incomplete line where not expected in %s.\nThe CEL file may be truncated. \nSucessfully read to cel intensity %d of %d expected\n", filename, i-1, rows);
| ~^ ~~~
| | |
| int size_t {aka long unsigned int}
| %ld
read_abatch.c:665:152: warning: format ‘%d’ expects argument of type ‘int’, but argument 4 has type ‘size_t’ {aka ‘long unsigned int’} [-Wformat=]
665 | Rprintf("Warning: found an incomplete line where not expected in %s.\nThe CEL file may be truncated. \nSucessfully read to cel intensity %d of %d expected\n", filename, i-1, rows);
| ~^ ~~~~
| | |
| int size_t {aka long unsigned int}
| %ld
read_abatch.c:677:145: warning: format ‘%d’ expects argument of type ‘int’, but argument 3 has type ‘size_t’ {aka ‘long unsigned int’} [-Wformat=]
677 | Rprintf("Warning: found an incomplete line where not expected in %s.\nThe CEL file may be truncated. \nSucessfully read to cel intensity %d of %d expected\n", filename, i-1, rows);
| ~^ ~~~
| | |
| int size_t {aka long unsigned int}
| %ld
read_abatch.c:677:151: warning: format ‘%d’ expects argument of type ‘int’, but argument 4 has type ‘size_t’ {aka ‘long unsigned int’} [-Wformat=]
677 | Rprintf("Warning: found an incomplete line where not expected in %s.\nThe CEL file may be truncated. \nSucessfully read to cel intensity %d of %d expected\n", filename, i-1, rows);
| ~^ ~~~~
| | |
| int size_t {aka long unsigned int}
| %ld
read_abatch.c:689:145: warning: format ‘%d’ expects argument of type ‘int’, but argument 3 has type ‘size_t’ {aka ‘long unsigned int’} [-Wformat=]
689 | Rprintf("Warning: found an incomplete line where not expected in %s.\nThe CEL file may be truncated. \nSucessfully read to cel intensity %d of %d expected\n", filename, i-1, rows);
| ~^ ~~~
| | |
| int size_t {aka long unsigned int}
| %ld
read_abatch.c:689:151: warning: format ‘%d’ expects argument of type ‘int’, but argument 4 has type ‘size_t’ {aka ‘long unsigned int’} [-Wformat=]
689 | Rprintf("Warning: found an incomplete line where not expected in %s.\nThe CEL file may be truncated. \nSucessfully read to cel intensity %d of %d expected\n", filename, i-1, rows);
| ~^ ~~~~
| | |
| int size_t {aka long unsigned int}
| %ld
read_abatch.c: In function ‘read_cel_file_stddev’:
read_abatch.c:764:178: warning: format ‘%d’ expects argument of type ‘int’, but argument 3 has type ‘size_t’ {aka ‘long unsigned int’} [-Wformat=]
764 | Rprintf("Warning: found an empty line where not expected in %s.\n This means that there is a cel intensity missing from the cel file.\n Sucessfully read to cel intensity %d of %d expected\n", filename, i-1, i);
| ~^ ~~~
| | |
| int size_t {aka long unsigned int}
| %ld
read_abatch.c:764:184: warning: format ‘%d’ expects argument of type ‘int’, but argument 4 has type ‘size_t’ {aka ‘long unsigned int’} [-Wformat=]
764 | Rprintf("Warning: found an empty line where not expected in %s.\n This means that there is a cel intensity missing from the cel file.\n Sucessfully read to cel intensity %d of %d expected\n", filename, i-1, i);
| ~^ ~
| | |
| int size_t {aka long unsigned int}
| %ld
read_abatch.c:774:145: warning: format ‘%d’ expects argument of type ‘int’, but argument 3 has type ‘size_t’ {aka ‘long unsigned int’} [-Wformat=]
774 | Rprintf("Warning: found an incomplete line where not expected in %s.\nThe CEL file may be truncated. \nSucessfully read to cel intensity %d of %d expected\n", filename, i-1, rows);
| ~^ ~~~
| | |
| int size_t {aka long unsigned int}
| %ld
read_abatch.c:774:151: warning: format ‘%d’ expects argument of type ‘int’, but argument 4 has type ‘size_t’ {aka ‘long unsigned int’} [-Wformat=]
774 | Rprintf("Warning: found an incomplete line where not expected in %s.\nThe CEL file may be truncated. \nSucessfully read to cel intensity %d of %d expected\n", filename, i-1, rows);
| ~^ ~~~~
| | |
| int size_t {aka long unsigned int}
| %ld
read_abatch.c:785:145: warning: format ‘%d’ expects argument of type ‘int’, but argument 3 has type ‘size_t’ {aka ‘long unsigned int’} [-Wformat=]
785 | Rprintf("Warning: found an incomplete line where not expected in %s.\nThe CEL file may be truncated. \nSucessfully read to cel intensity %d of %d expected\n", filename, i-1, rows);
| ~^ ~~~
| | |
| int size_t {aka long unsigned int}
| %ld
read_abatch.c:785:151: warning: format ‘%d’ expects argument of type ‘int’, but argument 4 has type ‘size_t’ {aka ‘long unsigned int’} [-Wformat=]
785 | Rprintf("Warning: found an incomplete line where not expected in %s.\nThe CEL file may be truncated. \nSucessfully read to cel intensity %d of %d expected\n", filename, i-1, rows);
| ~^ ~~~~
| | |
| int size_t {aka long unsigned int}
| %ld
read_abatch.c:795:145: warning: format ‘%d’ expects argument of type ‘int’, but argument 3 has type ‘size_t’ {aka ‘long unsigned int’} [-Wformat=]
795 | Rprintf("Warning: found an incomplete line where not expected in %s.\nThe CEL file may be truncated. \nSucessfully read to cel intensity %d of %d expected\n", filename, i-1, rows);
| ~^ ~~~
| | |
| int size_t {aka long unsigned int}
| %ld
read_abatch.c:795:151: warning: format ‘%d’ expects argument of type ‘int’, but argument 4 has type ‘size_t’ {aka ‘long unsigned int’} [-Wformat=]
795 | Rprintf("Warning: found an incomplete line where not expected in %s.\nThe CEL file may be truncated. \nSucessfully read to cel intensity %d of %d expected\n", filename, i-1, rows);
| ~^ ~~~~
| | |
| int size_t {aka long unsigned int}
| %ld
read_abatch.c:805:145: warning: format ‘%d’ expects argument of type ‘int’, but argument 3 has type ‘size_t’ {aka ‘long unsigned int’} [-Wformat=]
805 | Rprintf("Warning: found an incomplete line where not expected in %s.\nThe CEL file may be truncated. \nSucessfully read to cel intensity %d of %d expected\n", filename, i-1, rows);
| ~^ ~~~
| | |
| int size_t {aka long unsigned int}
| %ld
read_abatch.c:805:151: warning: format ‘%d’ expects argument of type ‘int’, but argument 4 has type ‘size_t’ {aka ‘long unsigned int’} [-Wformat=]
805 | Rprintf("Warning: found an incomplete line where not expected in %s.\nThe CEL file may be truncated. \nSucessfully read to cel intensity %d of %d expected\n", filename, i-1, rows);
| ~^ ~~~~
| | |
| int size_t {aka long unsigned int}
| %ld
read_abatch.c: In function ‘read_cel_file_npixels’:
read_abatch.c:870:178: warning: format ‘%d’ expects argument of type ‘int’, but argument 3 has type ‘size_t’ {aka ‘long unsigned int’} [-Wformat=]
870 | Rprintf("Warning: found an empty line where not expected in %s.\n This means that there is a cel intensity missing from the cel file.\n Sucessfully read to cel intensity %d of %d expected\n", filename, i-1, i);
| ~^ ~~~
| | |
| int size_t {aka long unsigned int}
| %ld
read_abatch.c:870:184: warning: format ‘%d’ expects argument of type ‘int’, but argument 4 has type ‘size_t’ {aka ‘long unsigned int’} [-Wformat=]
870 | Rprintf("Warning: found an empty line where not expected in %s.\n This means that there is a cel intensity missing from the cel file.\n Sucessfully read to cel intensity %d of %d expected\n", filename, i-1, i);
| ~^ ~
| | |
| int size_t {aka long unsigned int}
| %ld
read_abatch.c:879:145: warning: format ‘%d’ expects argument of type ‘int’, but argument 3 has type ‘size_t’ {aka ‘long unsigned int’} [-Wformat=]
879 | Rprintf("Warning: found an incomplete line where not expected in %s.\nThe CEL file may be truncated. \nSucessfully read to cel intensity %d of %d expected\n", filename, i-1, rows);
| ~^ ~~~
| | |
| int size_t {aka long unsigned int}
| %ld
read_abatch.c:879:151: warning: format ‘%d’ expects argument of type ‘int’, but argument 4 has type ‘size_t’ {aka ‘long unsigned int’} [-Wformat=]
879 | Rprintf("Warning: found an incomplete line where not expected in %s.\nThe CEL file may be truncated. \nSucessfully read to cel intensity %d of %d expected\n", filename, i-1, rows);
| ~^ ~~~~
| | |
| int size_t {aka long unsigned int}
| %ld
read_abatch.c:890:145: warning: format ‘%d’ expects argument of type ‘int’, but argument 3 has type ‘size_t’ {aka ‘long unsigned int’} [-Wformat=]
890 | Rprintf("Warning: found an incomplete line where not expected in %s.\nThe CEL file may be truncated. \nSucessfully read to cel intensity %d of %d expected\n", filename, i-1, rows);
| ~^ ~~~
| | |
| int size_t {aka long unsigned int}
| %ld
read_abatch.c:890:151: warning: format ‘%d’ expects argument of type ‘int’, but argument 4 has type ‘size_t’ {aka ‘long unsigned int’} [-Wformat=]
890 | Rprintf("Warning: found an incomplete line where not expected in %s.\nThe CEL file may be truncated. \nSucessfully read to cel intensity %d of %d expected\n", filename, i-1, rows);
| ~^ ~~~~
| | |
| int size_t {aka long unsigned int}
| %ld
read_abatch.c:901:145: warning: format ‘%d’ expects argument of type ‘int’, but argument 3 has type ‘size_t’ {aka ‘long unsigned int’} [-Wformat=]
901 | Rprintf("Warning: found an incomplete line where not expected in %s.\nThe CEL file may be truncated. \nSucessfully read to cel intensity %d of %d expected\n", filename, i-1, rows);
| ~^ ~~~
| | |
| int size_t {aka long unsigned int}
| %ld
read_abatch.c:901:151: warning: format ‘%d’ expects argument of type ‘int’, but argument 4 has type ‘size_t’ {aka ‘long unsigned int’} [-Wformat=]
901 | Rprintf("Warning: found an incomplete line where not expected in %s.\nThe CEL file may be truncated. \nSucessfully read to cel intensity %d of %d expected\n", filename, i-1, rows);
| ~^ ~~~~
| | |
| int size_t {aka long unsigned int}
| %ld
read_abatch.c:913:145: warning: format ‘%d’ expects argument of type ‘int’, but argument 3 has type ‘size_t’ {aka ‘long unsigned int’} [-Wformat=]
913 | Rprintf("Warning: found an incomplete line where not expected in %s.\nThe CEL file may be truncated. \nSucessfully read to cel intensity %d of %d expected\n", filename, i-1, rows);
| ~^ ~~~
| | |
| int size_t {aka long unsigned int}
| %ld
read_abatch.c:913:151: warning: format ‘%d’ expects argument of type ‘int’, but argument 4 has type ‘size_t’ {aka ‘long unsigned int’} [-Wformat=]
913 | Rprintf("Warning: found an incomplete line where not expected in %s.\nThe CEL file may be truncated. \nSucessfully read to cel intensity %d of %d expected\n", filename, i-1, rows);
| ~^ ~~~~
| | |
| int size_t {aka long unsigned int}
| %ld
read_abatch.c:924:145: warning: format ‘%d’ expects argument of type ‘int’, but argument 3 has type ‘size_t’ {aka ‘long unsigned int’} [-Wformat=]
924 | Rprintf("Warning: found an incomplete line where not expected in %s.\nThe CEL file may be truncated. \nSucessfully read to cel intensity %d of %d expected\n", filename, i-1, rows);
| ~^ ~~~
| | |
| int size_t {aka long unsigned int}
| %ld
read_abatch.c:924:151: warning: format ‘%d’ expects argument of type ‘int’, but argument 4 has type ‘size_t’ {aka ‘long unsigned int’} [-Wformat=]
924 | Rprintf("Warning: found an incomplete line where not expected in %s.\nThe CEL file may be truncated. \nSucessfully read to cel intensity %d of %d expected\n", filename, i-1, rows);
| ~^ ~~~~
| | |
| int size_t {aka long unsigned int}
| %ld
read_abatch.c: In function ‘read_gzcel_file_intensities’:
read_abatch.c:1567:145: warning: format ‘%d’ expects argument of type ‘int’, but argument 3 has type ‘size_t’ {aka ‘long unsigned int’} [-Wformat=]
1567 | Rprintf("Warning: found an incomplete line where not expected in %s.\nThe CEL file may be truncated. \nSucessfully read to cel intensity %d of %d expected\n", filename, i-1, rows);
| ~^ ~~~
| | |
| int size_t {aka long unsigned int}
| %ld
read_abatch.c:1567:151: warning: format ‘%d’ expects argument of type ‘int’, but argument 4 has type ‘size_t’ {aka ‘long unsigned int’} [-Wformat=]
1567 | Rprintf("Warning: found an incomplete line where not expected in %s.\nThe CEL file may be truncated. \nSucessfully read to cel intensity %d of %d expected\n", filename, i-1, rows);
| ~^ ~~~~
| | |
| int size_t {aka long unsigned int}
| %ld
read_abatch.c:1578:145: warning: format ‘%d’ expects argument of type ‘int’, but argument 3 has type ‘size_t’ {aka ‘long unsigned int’} [-Wformat=]
1578 | Rprintf("Warning: found an incomplete line where not expected in %s.\nThe CEL file may be truncated. \nSucessfully read to cel intensity %d of %d expected\n", filename, i-1, rows);
| ~^ ~~~
| | |
| int size_t {aka long unsigned int}
| %ld
read_abatch.c:1578:151: warning: format ‘%d’ expects argument of type ‘int’, but argument 4 has type ‘size_t’ {aka ‘long unsigned int’} [-Wformat=]
1578 | Rprintf("Warning: found an incomplete line where not expected in %s.\nThe CEL file may be truncated. \nSucessfully read to cel intensity %d of %d expected\n", filename, i-1, rows);
| ~^ ~~~~
| | |
| int size_t {aka long unsigned int}
| %ld
read_abatch.c:1589:145: warning: format ‘%d’ expects argument of type ‘int’, but argument 3 has type ‘size_t’ {aka ‘long unsigned int’} [-Wformat=]
1589 | Rprintf("Warning: found an incomplete line where not expected in %s.\nThe CEL file may be truncated. \nSucessfully read to cel intensity %d of %d expected\n", filename, i-1, rows);
| ~^ ~~~
| | |
| int size_t {aka long unsigned int}
| %ld
read_abatch.c:1589:151: warning: format ‘%d’ expects argument of type ‘int’, but argument 4 has type ‘size_t’ {aka ‘long unsigned int’} [-Wformat=]
1589 | Rprintf("Warning: found an incomplete line where not expected in %s.\nThe CEL file may be truncated. \nSucessfully read to cel intensity %d of %d expected\n", filename, i-1, rows);
| ~^ ~~~~
| | |
| int size_t {aka long unsigned int}
| %ld
read_abatch.c: In function ‘read_gzcel_file_stddev’:
read_abatch.c:1665:145: warning: format ‘%d’ expects argument of type ‘int’, but argument 3 has type ‘size_t’ {aka ‘long unsigned int’} [-Wformat=]
1665 | Rprintf("Warning: found an incomplete line where not expected in %s.\nThe CEL file may be truncated. \nSucessfully read to cel intensity %d of %d expected\n", filename, i-1, rows);
| ~^ ~~~
| | |
| int size_t {aka long unsigned int}
| %ld
read_abatch.c:1665:151: warning: format ‘%d’ expects argument of type ‘int’, but argument 4 has type ‘size_t’ {aka ‘long unsigned int’} [-Wformat=]
1665 | Rprintf("Warning: found an incomplete line where not expected in %s.\nThe CEL file may be truncated. \nSucessfully read to cel intensity %d of %d expected\n", filename, i-1, rows);
| ~^ ~~~~
| | |
| int size_t {aka long unsigned int}
| %ld
read_abatch.c:1677:145: warning: format ‘%d’ expects argument of type ‘int’, but argument 3 has type ‘size_t’ {aka ‘long unsigned int’} [-Wformat=]
1677 | Rprintf("Warning: found an incomplete line where not expected in %s.\nThe CEL file may be truncated. \nSucessfully read to cel intensity %d of %d expected\n", filename, i-1, rows);
| ~^ ~~~
| | |
| int size_t {aka long unsigned int}
| %ld
read_abatch.c:1677:151: warning: format ‘%d’ expects argument of type ‘int’, but argument 4 has type ‘size_t’ {aka ‘long unsigned int’} [-Wformat=]
1677 | Rprintf("Warning: found an incomplete line where not expected in %s.\nThe CEL file may be truncated. \nSucessfully read to cel intensity %d of %d expected\n", filename, i-1, rows);
| ~^ ~~~~
| | |
| int size_t {aka long unsigned int}
| %ld
read_abatch.c:1689:145: warning: format ‘%d’ expects argument of type ‘int’, but argument 3 has type ‘size_t’ {aka ‘long unsigned int’} [-Wformat=]
1689 | Rprintf("Warning: found an incomplete line where not expected in %s.\nThe CEL file may be truncated. \nSucessfully read to cel intensity %d of %d expected\n", filename, i-1, rows);
| ~^ ~~~
| | |
| int size_t {aka long unsigned int}
| %ld
read_abatch.c:1689:151: warning: format ‘%d’ expects argument of type ‘int’, but argument 4 has type ‘size_t’ {aka ‘long unsigned int’} [-Wformat=]
1689 | Rprintf("Warning: found an incomplete line where not expected in %s.\nThe CEL file may be truncated. \nSucessfully read to cel intensity %d of %d expected\n", filename, i-1, rows);
| ~^ ~~~~
| | |
| int size_t {aka long unsigned int}
| %ld
read_abatch.c:1701:145: warning: format ‘%d’ expects argument of type ‘int’, but argument 3 has type ‘size_t’ {aka ‘long unsigned int’} [-Wformat=]
1701 | Rprintf("Warning: found an incomplete line where not expected in %s.\nThe CEL file may be truncated. \nSucessfully read to cel intensity %d of %d expected\n", filename, i-1, rows);
| ~^ ~~~
| | |
| int size_t {aka long unsigned int}
| %ld
read_abatch.c:1701:151: warning: format ‘%d’ expects argument of type ‘int’, but argument 4 has type ‘size_t’ {aka ‘long unsigned int’} [-Wformat=]
1701 | Rprintf("Warning: found an incomplete line where not expected in %s.\nThe CEL file may be truncated. \nSucessfully read to cel intensity %d of %d expected\n", filename, i-1, rows);
| ~^ ~~~~
| | |
| int size_t {aka long unsigned int}
| %ld
read_abatch.c: In function ‘read_gzcel_file_npixels’:
read_abatch.c:1769:145: warning: format ‘%d’ expects argument of type ‘int’, but argument 3 has type ‘size_t’ {aka ‘long unsigned int’} [-Wformat=]
1769 | Rprintf("Warning: found an incomplete line where not expected in %s.\nThe CEL file may be truncated. \nSucessfully read to cel intensity %d of %d expected\n", filename, i-1, rows);
| ~^ ~~~
| | |
| int size_t {aka long unsigned int}
| %ld
read_abatch.c:1769:151: warning: format ‘%d’ expects argument of type ‘int’, but argument 4 has type ‘size_t’ {aka ‘long unsigned int’} [-Wformat=]
1769 | Rprintf("Warning: found an incomplete line where not expected in %s.\nThe CEL file may be truncated. \nSucessfully read to cel intensity %d of %d expected\n", filename, i-1, rows);
| ~^ ~~~~
| | |
| int size_t {aka long unsigned int}
| %ld
read_abatch.c:1780:145: warning: format ‘%d’ expects argument of type ‘int’, but argument 3 has type ‘size_t’ {aka ‘long unsigned int’} [-Wformat=]
1780 | Rprintf("Warning: found an incomplete line where not expected in %s.\nThe CEL file may be truncated. \nSucessfully read to cel intensity %d of %d expected\n", filename, i-1, rows);
| ~^ ~~~
| | |
| int size_t {aka long unsigned int}
| %ld
read_abatch.c:1780:151: warning: format ‘%d’ expects argument of type ‘int’, but argument 4 has type ‘size_t’ {aka ‘long unsigned int’} [-Wformat=]
1780 | Rprintf("Warning: found an incomplete line where not expected in %s.\nThe CEL file may be truncated. \nSucessfully read to cel intensity %d of %d expected\n", filename, i-1, rows);
| ~^ ~~~~
| | |
| int size_t {aka long unsigned int}
| %ld
read_abatch.c:1791:145: warning: format ‘%d’ expects argument of type ‘int’, but argument 3 has type ‘size_t’ {aka ‘long unsigned int’} [-Wformat=]
1791 | Rprintf("Warning: found an incomplete line where not expected in %s.\nThe CEL file may be truncated. \nSucessfully read to cel intensity %d of %d expected\n", filename, i-1, rows);
| ~^ ~~~
| | |
| int size_t {aka long unsigned int}
| %ld
read_abatch.c:1791:151: warning: format ‘%d’ expects argument of type ‘int’, but argument 4 has type ‘size_t’ {aka ‘long unsigned int’} [-Wformat=]
1791 | Rprintf("Warning: found an incomplete line where not expected in %s.\nThe CEL file may be truncated. \nSucessfully read to cel intensity %d of %d expected\n", filename, i-1, rows);
| ~^ ~~~~
| | |
| int size_t {aka long unsigned int}
| %ld
read_abatch.c:1801:145: warning: format ‘%d’ expects argument of type ‘int’, but argument 3 has type ‘size_t’ {aka ‘long unsigned int’} [-Wformat=]
1801 | Rprintf("Warning: found an incomplete line where not expected in %s.\nThe CEL file may be truncated. \nSucessfully read to cel intensity %d of %d expected\n", filename, i-1, rows);
| ~^ ~~~
| | |
| int size_t {aka long unsigned int}
| %ld
read_abatch.c:1801:151: warning: format ‘%d’ expects argument of type ‘int’, but argument 4 has type ‘size_t’ {aka ‘long unsigned int’} [-Wformat=]
1801 | Rprintf("Warning: found an incomplete line where not expected in %s.\nThe CEL file may be truncated. \nSucessfully read to cel intensity %d of %d expected\n", filename, i-1, rows);
| ~^ ~~~~
| | |
| int size_t {aka long unsigned int}
| %ld
read_abatch.c:1811:145: warning: format ‘%d’ expects argument of type ‘int’, but argument 3 has type ‘size_t’ {aka ‘long unsigned int’} [-Wformat=]
1811 | Rprintf("Warning: found an incomplete line where not expected in %s.\nThe CEL file may be truncated. \nSucessfully read to cel intensity %d of %d expected\n", filename, i-1, rows);
| ~^ ~~~
| | |
| int size_t {aka long unsigned int}
| %ld
read_abatch.c:1811:151: warning: format ‘%d’ expects argument of type ‘int’, but argument 4 has type ‘size_t’ {aka ‘long unsigned int’} [-Wformat=]
1811 | Rprintf("Warning: found an incomplete line where not expected in %s.\nThe CEL file may be truncated. \nSucessfully read to cel intensity %d of %d expected\n", filename, i-1, rows);
| ~^ ~~~~
| | |
| int size_t {aka long unsigned int}
| %ld
read_abatch.c: In function ‘gzbinary_get_detailed_header_info’:
read_abatch.c:3410:3: warning: ‘strncpy’ specified bound depends on the length of the source argument [-Wstringop-overflow=]
3410 | strncpy(header_info->AlgorithmParameters,my_header->alg_param,strlen(my_header->alg_param)-1);
| ^~~~~~~~~~~~~~~~~~~~~~~~~~~~~~~~~~~~~~~~~~~~~~~~~~~~~~~~~~~~~~~~~~~~~~~~~~~~~~~~~~~~~~~~~~~~~
read_abatch.c:3410:65: note: length computed here
3410 | strncpy(header_info->AlgorithmParameters,my_header->alg_param,strlen(my_header->alg_param)-1);
| ^~~~~~~~~~~~~~~~~~~~~~~~~~~~
read_abatch.c: In function ‘binary_get_detailed_header_info’:
read_abatch.c:2661:3: warning: ‘strncpy’ specified bound depends on the length of the source argument [-Wstringop-overflow=]
2661 | strncpy(header_info->AlgorithmParameters,my_header->alg_param,strlen(my_header->alg_param)-1);
| ^~~~~~~~~~~~~~~~~~~~~~~~~~~~~~~~~~~~~~~~~~~~~~~~~~~~~~~~~~~~~~~~~~~~~~~~~~~~~~~~~~~~~~~~~~~~~
read_abatch.c:2661:65: note: length computed here
2661 | strncpy(header_info->AlgorithmParameters,my_header->alg_param,strlen(my_header->alg_param)-1);
| ^~~~~~~~~~~~~~~~~~~~~~~~~~~~
gcc -I"/home/biocbuild/R/R-beta-2024-04-15_r86425/include" -DNDEBUG -DPACKAGE_NAME=\"\" -DPACKAGE_TARNAME=\"\" -DPACKAGE_VERSION=\"\" -DPACKAGE_STRING=\"\" -DPACKAGE_BUGREPORT=\"\" -DPACKAGE_URL=\"\" -DSTDC_HEADERS=1 -DHAVE_SYS_TYPES_H=1 -DHAVE_SYS_STAT_H=1 -DHAVE_STDLIB_H=1 -DHAVE_STRING_H=1 -DHAVE_MEMORY_H=1 -DHAVE_STRINGS_H=1 -DHAVE_INTTYPES_H=1 -DHAVE_STDINT_H=1 -DHAVE_UNISTD_H=1 -DHAVE_ZLIB=1 -DHAVE_LIBPTHREAD=1 -DUSE_PTHREADS=1 -I/usr/local/include -g -O2 -Wall -fPIC -g -O2 -Wall -c read_bpmap.c -o read_bpmap.o
read_bpmap.c: In function ‘ReadBPMAPFileIntoRList’:
read_bpmap.c:849:39: warning: format ‘%s’ expects argument of type ‘char *’, but argument 2 has type ‘SEXP’ {aka ‘struct SEXPREC *’} [-Wformat=]
849 | error("Unable to open the file %s",filename);
| ~^ ~~~~~~~~
| | |
| | SEXP {aka struct SEXPREC *}
| char *
read_bpmap.c:698:20: warning: ‘sprintf’ may write a terminating nul past the end of the destination [-Wformat-overflow=]
698 | sprintf(buf, "%d", j+1);
| ^
read_bpmap.c:698:4: note: ‘sprintf’ output between 2 and 11 bytes into a destination of size 10
698 | sprintf(buf, "%d", j+1);
| ^~~~~~~~~~~~~~~~~~~~~~~
read_bpmap.c:655:20: warning: ‘sprintf’ may write a terminating nul past the end of the destination [-Wformat-overflow=]
655 | sprintf(buf, "%d", j+1);
| ^
read_bpmap.c:655:4: note: ‘sprintf’ output between 2 and 11 bytes into a destination of size 10
655 | sprintf(buf, "%d", j+1);
| ^~~~~~~~~~~~~~~~~~~~~~~
read_bpmap.c:603:18: warning: ‘sprintf’ may write a terminating nul past the end of the destination [-Wformat-overflow=]
603 | sprintf(buf, "%d", j+1);
| ^
read_bpmap.c:603:2: note: ‘sprintf’ output between 2 and 11 bytes into a destination of size 10
603 | sprintf(buf, "%d", j+1);
| ^~~~~~~~~~~~~~~~~~~~~~~
gcc -I"/home/biocbuild/R/R-beta-2024-04-15_r86425/include" -DNDEBUG -DPACKAGE_NAME=\"\" -DPACKAGE_TARNAME=\"\" -DPACKAGE_VERSION=\"\" -DPACKAGE_STRING=\"\" -DPACKAGE_BUGREPORT=\"\" -DPACKAGE_URL=\"\" -DSTDC_HEADERS=1 -DHAVE_SYS_TYPES_H=1 -DHAVE_SYS_STAT_H=1 -DHAVE_STDLIB_H=1 -DHAVE_STRING_H=1 -DHAVE_MEMORY_H=1 -DHAVE_STRINGS_H=1 -DHAVE_INTTYPES_H=1 -DHAVE_STDINT_H=1 -DHAVE_UNISTD_H=1 -DHAVE_ZLIB=1 -DHAVE_LIBPTHREAD=1 -DUSE_PTHREADS=1 -I/usr/local/include -g -O2 -Wall -fPIC -g -O2 -Wall -c read_cdf_xda.c -o read_cdf_xda.o
gcc -I"/home/biocbuild/R/R-beta-2024-04-15_r86425/include" -DNDEBUG -DPACKAGE_NAME=\"\" -DPACKAGE_TARNAME=\"\" -DPACKAGE_VERSION=\"\" -DPACKAGE_STRING=\"\" -DPACKAGE_BUGREPORT=\"\" -DPACKAGE_URL=\"\" -DSTDC_HEADERS=1 -DHAVE_SYS_TYPES_H=1 -DHAVE_SYS_STAT_H=1 -DHAVE_STDLIB_H=1 -DHAVE_STRING_H=1 -DHAVE_MEMORY_H=1 -DHAVE_STRINGS_H=1 -DHAVE_INTTYPES_H=1 -DHAVE_STDINT_H=1 -DHAVE_UNISTD_H=1 -DHAVE_ZLIB=1 -DHAVE_LIBPTHREAD=1 -DUSE_PTHREADS=1 -I/usr/local/include -g -O2 -Wall -fPIC -g -O2 -Wall -c read_cdffile2.c -o read_cdffile2.o
gcc -I"/home/biocbuild/R/R-beta-2024-04-15_r86425/include" -DNDEBUG -DPACKAGE_NAME=\"\" -DPACKAGE_TARNAME=\"\" -DPACKAGE_VERSION=\"\" -DPACKAGE_STRING=\"\" -DPACKAGE_BUGREPORT=\"\" -DPACKAGE_URL=\"\" -DSTDC_HEADERS=1 -DHAVE_SYS_TYPES_H=1 -DHAVE_SYS_STAT_H=1 -DHAVE_STDLIB_H=1 -DHAVE_STRING_H=1 -DHAVE_MEMORY_H=1 -DHAVE_STRINGS_H=1 -DHAVE_INTTYPES_H=1 -DHAVE_STDINT_H=1 -DHAVE_UNISTD_H=1 -DHAVE_ZLIB=1 -DHAVE_LIBPTHREAD=1 -DUSE_PTHREADS=1 -I/usr/local/include -g -O2 -Wall -fPIC -g -O2 -Wall -c read_celfile_generic.c -o read_celfile_generic.o
read_celfile_generic.c: In function ‘generic_get_detailed_header_info’:
read_celfile_generic.c:272:3: warning: ‘strncpy’ output truncated before terminating nul copying 11 bytes from a string of the same length [-Wstringop-truncation]
272 | strncpy(header_info->AlgorithmParameters,"Percentile:",11);
| ^~~~~~~~~~~~~~~~~~~~~~~~~~~~~~~~~~~~~~~~~~~~~~~~~~~~~~~~~~
read_celfile_generic.c:294:3: warning: ‘strncpy’ output truncated before terminating nul copying 11 bytes from a string of the same length [-Wstringop-truncation]
294 | strncpy(&header_info->AlgorithmParameters[algorithm_paramsize],"CellMargin:",11);
| ^~~~~~~~~~~~~~~~~~~~~~~~~~~~~~~~~~~~~~~~~~~~~~~~~~~~~~~~~~~~~~~~~~~~~~~~~~~~~~~~
read_celfile_generic.c:315:3: warning: ‘strncpy’ output truncated before terminating nul copying 12 bytes from a string of the same length [-Wstringop-truncation]
315 | strncpy(&header_info->AlgorithmParameters[algorithm_paramsize],"OutlierHigh:",12);
| ^~~~~~~~~~~~~~~~~~~~~~~~~~~~~~~~~~~~~~~~~~~~~~~~~~~~~~~~~~~~~~~~~~~~~~~~~~~~~~~~~
read_celfile_generic.c:336:3: warning: ‘strncpy’ output truncated before terminating nul copying 11 bytes from a string of the same length [-Wstringop-truncation]
336 | strncpy(&header_info->AlgorithmParameters[algorithm_paramsize],"OutlierLow:",11);
| ^~~~~~~~~~~~~~~~~~~~~~~~~~~~~~~~~~~~~~~~~~~~~~~~~~~~~~~~~~~~~~~~~~~~~~~~~~~~~~~~
read_celfile_generic.c:357:3: warning: ‘strncpy’ output truncated before terminating nul copying 11 bytes from a string of the same length [-Wstringop-truncation]
357 | strncpy(&header_info->AlgorithmParameters[algorithm_paramsize],"AlgVersion:",11);
| ^~~~~~~~~~~~~~~~~~~~~~~~~~~~~~~~~~~~~~~~~~~~~~~~~~~~~~~~~~~~~~~~~~~~~~~~~~~~~~~~
read_celfile_generic.c:378:3: warning: ‘strncpy’ output truncated before terminating nul copying 14 bytes from a string of the same length [-Wstringop-truncation]
378 | strncpy(&header_info->AlgorithmParameters[algorithm_paramsize],"FixedCellSize:",14);
| ^~~~~~~~~~~~~~~~~~~~~~~~~~~~~~~~~~~~~~~~~~~~~~~~~~~~~~~~~~~~~~~~~~~~~~~~~~~~~~~~~~~
read_celfile_generic.c:399:3: warning: ‘strncpy’ output truncated before terminating nul copying 17 bytes from a string of the same length [-Wstringop-truncation]
399 | strncpy(&header_info->AlgorithmParameters[algorithm_paramsize],"FullFeatureWidth:",17);
| ^~~~~~~~~~~~~~~~~~~~~~~~~~~~~~~~~~~~~~~~~~~~~~~~~~~~~~~~~~~~~~~~~~~~~~~~~~~~~~~~~~~~~~
read_celfile_generic.c:420:3: warning: ‘strncpy’ output truncated before terminating nul copying 18 bytes from a string of the same length [-Wstringop-truncation]
420 | strncpy(&header_info->AlgorithmParameters[algorithm_paramsize],"FullFeatureHeight:",18);
| ^~~~~~~~~~~~~~~~~~~~~~~~~~~~~~~~~~~~~~~~~~~~~~~~~~~~~~~~~~~~~~~~~~~~~~~~~~~~~~~~~~~~~~~
read_celfile_generic.c:441:3: warning: ‘strncpy’ output truncated before terminating nul copying 26 bytes from a string of the same length [-Wstringop-truncation]
441 | strncpy(&header_info->AlgorithmParameters[algorithm_paramsize],"IgnoreOutliersInShiftRows:",26);
| ^~~~~~~~~~~~~~~~~~~~~~~~~~~~~~~~~~~~~~~~~~~~~~~~~~~~~~~~~~~~~~~~~~~~~~~~~~~~~~~~~~~~~~~~~~~~~~~
read_celfile_generic.c:464:3: warning: ‘strncpy’ output truncated before terminating nul copying 18 bytes from a string of the same length [-Wstringop-truncation]
464 | strncpy(&header_info->AlgorithmParameters[algorithm_paramsize],"FeatureExtraction:",18);
| ^~~~~~~~~~~~~~~~~~~~~~~~~~~~~~~~~~~~~~~~~~~~~~~~~~~~~~~~~~~~~~~~~~~~~~~~~~~~~~~~~~~~~~~
read_celfile_generic.c:488:3: warning: ‘strncpy’ output truncated before terminating nul copying 20 bytes from a string of the same length [-Wstringop-truncation]
488 | strncpy(&header_info->AlgorithmParameters[algorithm_paramsize],"PoolWidthExtenstion:",20);
| ^~~~~~~~~~~~~~~~~~~~~~~~~~~~~~~~~~~~~~~~~~~~~~~~~~~~~~~~~~~~~~~~~~~~~~~~~~~~~~~~~~~~~~~~~
read_celfile_generic.c:510:3: warning: ‘strncpy’ output truncated before terminating nul copying 20 bytes from a string of the same length [-Wstringop-truncation]
510 | strncpy(&header_info->AlgorithmParameters[algorithm_paramsize],"PoolHeightExtension:",20);
| ^~~~~~~~~~~~~~~~~~~~~~~~~~~~~~~~~~~~~~~~~~~~~~~~~~~~~~~~~~~~~~~~~~~~~~~~~~~~~~~~~~~~~~~~~
read_celfile_generic.c:532:3: warning: ‘strncpy’ output truncated before terminating nul copying 12 bytes from a string of the same length [-Wstringop-truncation]
532 | strncpy(&header_info->AlgorithmParameters[algorithm_paramsize],"UseSubgrids:",12);
| ^~~~~~~~~~~~~~~~~~~~~~~~~~~~~~~~~~~~~~~~~~~~~~~~~~~~~~~~~~~~~~~~~~~~~~~~~~~~~~~~~
read_celfile_generic.c:553:3: warning: ‘strncpy’ output truncated before terminating nul copying 16 bytes from a string of the same length [-Wstringop-truncation]
553 | strncpy(&header_info->AlgorithmParameters[algorithm_paramsize],"RandomizePixels:",16);
| ^~~~~~~~~~~~~~~~~~~~~~~~~~~~~~~~~~~~~~~~~~~~~~~~~~~~~~~~~~~~~~~~~~~~~~~~~~~~~~~~~~~~~
read_celfile_generic.c:575:3: warning: ‘strncpy’ output truncated before terminating nul copying 11 bytes from a string of the same length [-Wstringop-truncation]
575 | strncpy(&header_info->AlgorithmParameters[algorithm_paramsize],"ErrorBasis:",11);
| ^~~~~~~~~~~~~~~~~~~~~~~~~~~~~~~~~~~~~~~~~~~~~~~~~~~~~~~~~~~~~~~~~~~~~~~~~~~~~~~~
read_celfile_generic.c:597:3: warning: ‘strncpy’ output truncated before terminating nul copying 8 bytes from a string of the same length [-Wstringop-truncation]
597 | strncpy(&header_info->AlgorithmParameters[algorithm_paramsize],"StdMult:",8);
| ^~~~~~~~~~~~~~~~~~~~~~~~~~~~~~~~~~~~~~~~~~~~~~~~~~~~~~~~~~~~~~~~~~~~~~~~~~~~
read_celfile_generic.c: In function ‘gzgeneric_get_detailed_header_info’:
read_celfile_generic.c:1270:3: warning: ‘strncpy’ output truncated before terminating nul copying 11 bytes from a string of the same length [-Wstringop-truncation]
1270 | strncpy(header_info->AlgorithmParameters,"Percentile:",11);
| ^~~~~~~~~~~~~~~~~~~~~~~~~~~~~~~~~~~~~~~~~~~~~~~~~~~~~~~~~~
read_celfile_generic.c:1292:3: warning: ‘strncpy’ output truncated before terminating nul copying 11 bytes from a string of the same length [-Wstringop-truncation]
1292 | strncpy(&header_info->AlgorithmParameters[algorithm_paramsize],"CellMargin:",11);
| ^~~~~~~~~~~~~~~~~~~~~~~~~~~~~~~~~~~~~~~~~~~~~~~~~~~~~~~~~~~~~~~~~~~~~~~~~~~~~~~~
read_celfile_generic.c:1313:3: warning: ‘strncpy’ output truncated before terminating nul copying 12 bytes from a string of the same length [-Wstringop-truncation]
1313 | strncpy(&header_info->AlgorithmParameters[algorithm_paramsize],"OutlierHigh:",12);
| ^~~~~~~~~~~~~~~~~~~~~~~~~~~~~~~~~~~~~~~~~~~~~~~~~~~~~~~~~~~~~~~~~~~~~~~~~~~~~~~~~
read_celfile_generic.c:1334:3: warning: ‘strncpy’ output truncated before terminating nul copying 11 bytes from a string of the same length [-Wstringop-truncation]
1334 | strncpy(&header_info->AlgorithmParameters[algorithm_paramsize],"OutlierLow:",11);
| ^~~~~~~~~~~~~~~~~~~~~~~~~~~~~~~~~~~~~~~~~~~~~~~~~~~~~~~~~~~~~~~~~~~~~~~~~~~~~~~~
read_celfile_generic.c:1355:3: warning: ‘strncpy’ output truncated before terminating nul copying 11 bytes from a string of the same length [-Wstringop-truncation]
1355 | strncpy(&header_info->AlgorithmParameters[algorithm_paramsize],"AlgVersion:",11);
| ^~~~~~~~~~~~~~~~~~~~~~~~~~~~~~~~~~~~~~~~~~~~~~~~~~~~~~~~~~~~~~~~~~~~~~~~~~~~~~~~
read_celfile_generic.c:1376:3: warning: ‘strncpy’ output truncated before terminating nul copying 14 bytes from a string of the same length [-Wstringop-truncation]
1376 | strncpy(&header_info->AlgorithmParameters[algorithm_paramsize],"FixedCellSize:",14);
| ^~~~~~~~~~~~~~~~~~~~~~~~~~~~~~~~~~~~~~~~~~~~~~~~~~~~~~~~~~~~~~~~~~~~~~~~~~~~~~~~~~~
read_celfile_generic.c:1397:3: warning: ‘strncpy’ output truncated before terminating nul copying 17 bytes from a string of the same length [-Wstringop-truncation]
1397 | strncpy(&header_info->AlgorithmParameters[algorithm_paramsize],"FullFeatureWidth:",17);
| ^~~~~~~~~~~~~~~~~~~~~~~~~~~~~~~~~~~~~~~~~~~~~~~~~~~~~~~~~~~~~~~~~~~~~~~~~~~~~~~~~~~~~~
read_celfile_generic.c:1418:3: warning: ‘strncpy’ output truncated before terminating nul copying 18 bytes from a string of the same length [-Wstringop-truncation]
1418 | strncpy(&header_info->AlgorithmParameters[algorithm_paramsize],"FullFeatureHeight:",18);
| ^~~~~~~~~~~~~~~~~~~~~~~~~~~~~~~~~~~~~~~~~~~~~~~~~~~~~~~~~~~~~~~~~~~~~~~~~~~~~~~~~~~~~~~
read_celfile_generic.c:1439:3: warning: ‘strncpy’ output truncated before terminating nul copying 26 bytes from a string of the same length [-Wstringop-truncation]
1439 | strncpy(&header_info->AlgorithmParameters[algorithm_paramsize],"IgnoreOutliersInShiftRows:",26);
| ^~~~~~~~~~~~~~~~~~~~~~~~~~~~~~~~~~~~~~~~~~~~~~~~~~~~~~~~~~~~~~~~~~~~~~~~~~~~~~~~~~~~~~~~~~~~~~~
read_celfile_generic.c:1462:3: warning: ‘strncpy’ output truncated before terminating nul copying 18 bytes from a string of the same length [-Wstringop-truncation]
1462 | strncpy(&header_info->AlgorithmParameters[algorithm_paramsize],"FeatureExtraction:",18);
| ^~~~~~~~~~~~~~~~~~~~~~~~~~~~~~~~~~~~~~~~~~~~~~~~~~~~~~~~~~~~~~~~~~~~~~~~~~~~~~~~~~~~~~~
read_celfile_generic.c:1486:3: warning: ‘strncpy’ output truncated before terminating nul copying 20 bytes from a string of the same length [-Wstringop-truncation]
1486 | strncpy(&header_info->AlgorithmParameters[algorithm_paramsize],"PoolWidthExtenstion:",20);
| ^~~~~~~~~~~~~~~~~~~~~~~~~~~~~~~~~~~~~~~~~~~~~~~~~~~~~~~~~~~~~~~~~~~~~~~~~~~~~~~~~~~~~~~~~
read_celfile_generic.c:1508:3: warning: ‘strncpy’ output truncated before terminating nul copying 20 bytes from a string of the same length [-Wstringop-truncation]
1508 | strncpy(&header_info->AlgorithmParameters[algorithm_paramsize],"PoolHeightExtension:",20);
| ^~~~~~~~~~~~~~~~~~~~~~~~~~~~~~~~~~~~~~~~~~~~~~~~~~~~~~~~~~~~~~~~~~~~~~~~~~~~~~~~~~~~~~~~~
read_celfile_generic.c:1530:3: warning: ‘strncpy’ output truncated before terminating nul copying 12 bytes from a string of the same length [-Wstringop-truncation]
1530 | strncpy(&header_info->AlgorithmParameters[algorithm_paramsize],"UseSubgrids:",12);
| ^~~~~~~~~~~~~~~~~~~~~~~~~~~~~~~~~~~~~~~~~~~~~~~~~~~~~~~~~~~~~~~~~~~~~~~~~~~~~~~~~
read_celfile_generic.c:1551:3: warning: ‘strncpy’ output truncated before terminating nul copying 16 bytes from a string of the same length [-Wstringop-truncation]
1551 | strncpy(&header_info->AlgorithmParameters[algorithm_paramsize],"RandomizePixels:",16);
| ^~~~~~~~~~~~~~~~~~~~~~~~~~~~~~~~~~~~~~~~~~~~~~~~~~~~~~~~~~~~~~~~~~~~~~~~~~~~~~~~~~~~~
read_celfile_generic.c:1573:3: warning: ‘strncpy’ output truncated before terminating nul copying 11 bytes from a string of the same length [-Wstringop-truncation]
1573 | strncpy(&header_info->AlgorithmParameters[algorithm_paramsize],"ErrorBasis:",11);
| ^~~~~~~~~~~~~~~~~~~~~~~~~~~~~~~~~~~~~~~~~~~~~~~~~~~~~~~~~~~~~~~~~~~~~~~~~~~~~~~~
read_celfile_generic.c:1595:3: warning: ‘strncpy’ output truncated before terminating nul copying 8 bytes from a string of the same length [-Wstringop-truncation]
1595 | strncpy(&header_info->AlgorithmParameters[algorithm_paramsize],"StdMult:",8);
| ^~~~~~~~~~~~~~~~~~~~~~~~~~~~~~~~~~~~~~~~~~~~~~~~~~~~~~~~~~~~~~~~~~~~~~~~~~~~
gcc -I"/home/biocbuild/R/R-beta-2024-04-15_r86425/include" -DNDEBUG -DPACKAGE_NAME=\"\" -DPACKAGE_TARNAME=\"\" -DPACKAGE_VERSION=\"\" -DPACKAGE_STRING=\"\" -DPACKAGE_BUGREPORT=\"\" -DPACKAGE_URL=\"\" -DSTDC_HEADERS=1 -DHAVE_SYS_TYPES_H=1 -DHAVE_SYS_STAT_H=1 -DHAVE_STDLIB_H=1 -DHAVE_STRING_H=1 -DHAVE_MEMORY_H=1 -DHAVE_STRINGS_H=1 -DHAVE_INTTYPES_H=1 -DHAVE_STDINT_H=1 -DHAVE_UNISTD_H=1 -DHAVE_ZLIB=1 -DHAVE_LIBPTHREAD=1 -DUSE_PTHREADS=1 -I/usr/local/include -g -O2 -Wall -fPIC -g -O2 -Wall -c read_clf.c -o read_clf.o
gcc -I"/home/biocbuild/R/R-beta-2024-04-15_r86425/include" -DNDEBUG -DPACKAGE_NAME=\"\" -DPACKAGE_TARNAME=\"\" -DPACKAGE_VERSION=\"\" -DPACKAGE_STRING=\"\" -DPACKAGE_BUGREPORT=\"\" -DPACKAGE_URL=\"\" -DSTDC_HEADERS=1 -DHAVE_SYS_TYPES_H=1 -DHAVE_SYS_STAT_H=1 -DHAVE_STDLIB_H=1 -DHAVE_STRING_H=1 -DHAVE_MEMORY_H=1 -DHAVE_STRINGS_H=1 -DHAVE_INTTYPES_H=1 -DHAVE_STDINT_H=1 -DHAVE_UNISTD_H=1 -DHAVE_ZLIB=1 -DHAVE_LIBPTHREAD=1 -DUSE_PTHREADS=1 -I/usr/local/include -g -O2 -Wall -fPIC -g -O2 -Wall -c read_generic.c -o read_generic.o
read_generic.c: In function ‘print_decode_nvt_triplet’:
read_generic.c:1293:37: warning: format ‘%f’ expects argument of type ‘double’, but argument 2 has type ‘int’ [-Wformat=]
1293 | Rprintf("Its a float value is %f\n",temp32);
| ~^ ~~~~~~
| | |
| | int
| double
| %d
gcc -I"/home/biocbuild/R/R-beta-2024-04-15_r86425/include" -DNDEBUG -DPACKAGE_NAME=\"\" -DPACKAGE_TARNAME=\"\" -DPACKAGE_VERSION=\"\" -DPACKAGE_STRING=\"\" -DPACKAGE_BUGREPORT=\"\" -DPACKAGE_URL=\"\" -DSTDC_HEADERS=1 -DHAVE_SYS_TYPES_H=1 -DHAVE_SYS_STAT_H=1 -DHAVE_STDLIB_H=1 -DHAVE_STRING_H=1 -DHAVE_MEMORY_H=1 -DHAVE_STRINGS_H=1 -DHAVE_INTTYPES_H=1 -DHAVE_STDINT_H=1 -DHAVE_UNISTD_H=1 -DHAVE_ZLIB=1 -DHAVE_LIBPTHREAD=1 -DUSE_PTHREADS=1 -I/usr/local/include -g -O2 -Wall -fPIC -g -O2 -Wall -c read_multichannel_celfile_generic.c -o read_multichannel_celfile_generic.o
gcc -I"/home/biocbuild/R/R-beta-2024-04-15_r86425/include" -DNDEBUG -DPACKAGE_NAME=\"\" -DPACKAGE_TARNAME=\"\" -DPACKAGE_VERSION=\"\" -DPACKAGE_STRING=\"\" -DPACKAGE_BUGREPORT=\"\" -DPACKAGE_URL=\"\" -DSTDC_HEADERS=1 -DHAVE_SYS_TYPES_H=1 -DHAVE_SYS_STAT_H=1 -DHAVE_STDLIB_H=1 -DHAVE_STRING_H=1 -DHAVE_MEMORY_H=1 -DHAVE_STRINGS_H=1 -DHAVE_INTTYPES_H=1 -DHAVE_STDINT_H=1 -DHAVE_UNISTD_H=1 -DHAVE_ZLIB=1 -DHAVE_LIBPTHREAD=1 -DUSE_PTHREADS=1 -I/usr/local/include -g -O2 -Wall -fPIC -g -O2 -Wall -c read_pgf.c -o read_pgf.o
read_pgf.c:363:12: warning: ‘token_ends_with’ defined but not used [-Wunused-function]
363 | static int token_ends_with(char *token, char *ends_in){
| ^~~~~~~~~~~~~~~
gcc -shared -L/home/biocbuild/R/R-beta-2024-04-15_r86425/lib -L/usr/local/lib -o affyio.so fread_functions.o init_package.o read_abatch.o read_bpmap.o read_cdf_xda.o read_cdffile2.o read_celfile_generic.o read_clf.o read_generic.o read_multichannel_celfile_generic.o read_pgf.o -lpthread -lz -L/home/biocbuild/R/R-beta-2024-04-15_r86425/lib -lR
installing to /home/biocbuild/R/R-beta-2024-04-15_r86425/site-library/00LOCK-affyio/00new/affyio/libs
** R
** byte-compile and prepare package for lazy loading
** help
*** installing help indices
** building package indices
** testing if installed package can be loaded from temporary location
** checking absolute paths in shared objects and dynamic libraries
** testing if installed package can be loaded from final location
** testing if installed package keeps a record of temporary installation path
* DONE (affyio)