| Back to Multiple platform build/check report for BioC 3.19: simplified long | 
 | 
This page was generated on 2024-06-11 14:44 -0400 (Tue, 11 Jun 2024).
| Hostname | OS | Arch (*) | R version | Installed pkgs | 
|---|---|---|---|---|
| nebbiolo1 | Linux (Ubuntu 22.04.3 LTS) | x86_64 | 4.4.0 (2024-04-24) -- "Puppy Cup" | 4757 | 
| palomino3 | Windows Server 2022 Datacenter | x64 | 4.4.0 (2024-04-24 ucrt) -- "Puppy Cup" | 4491 | 
| lconway | macOS 12.7.1 Monterey | x86_64 | 4.4.0 (2024-04-24) -- "Puppy Cup" | 4522 | 
| kjohnson3 | macOS 13.6.5 Ventura | arm64 | 4.4.0 (2024-04-24) -- "Puppy Cup" | 4468 | 
| Click on any hostname to see more info about the system (e.g. compilers) (*) as reported by 'uname -p', except on Windows and Mac OS X | ||||
| Package 2288/2300 | Hostname | OS / Arch | INSTALL | BUILD | CHECK | BUILD BIN | ||||||||
| XINA 1.22.0  (landing page) Lang Ho Lee 
 | nebbiolo1 | Linux (Ubuntu 22.04.3 LTS) / x86_64 | OK | OK | OK |  | ||||||||
| palomino3 | Windows Server 2022 Datacenter / x64 | OK | ERROR | skipped | skipped | |||||||||
| lconway | macOS 12.7.1 Monterey / x86_64 | OK | OK | OK | OK |  | ||||||||
| kjohnson3 | macOS 13.6.5 Ventura / arm64 | OK | OK | OK | OK |  | ||||||||
| To the developers/maintainers of the XINA package: - Allow up to 24 hours (and sometimes 48 hours) for your latest push to git@git.bioconductor.org:packages/XINA.git to reflect on this report. See Troubleshooting Build Report for more information. - Use the following Renviron settings to reproduce errors and warnings. - If 'R CMD check' started to fail recently on the Linux builder(s) over a missing dependency, add the missing dependency to 'Suggests:' in your DESCRIPTION file. See Renviron.bioc for more information. | 
| Package: XINA | 
| Version: 1.22.0 | 
| Command: /Library/Frameworks/R.framework/Resources/bin/R CMD check --install=check:XINA.install-out.txt --library=/Library/Frameworks/R.framework/Resources/library --no-vignettes --timings XINA_1.22.0.tar.gz | 
| StartedAt: 2024-06-11 09:44:14 -0400 (Tue, 11 Jun 2024) | 
| EndedAt: 2024-06-11 09:47:32 -0400 (Tue, 11 Jun 2024) | 
| EllapsedTime: 197.6 seconds | 
| RetCode: 0 | 
| Status: OK | 
| CheckDir: XINA.Rcheck | 
| Warnings: 0 | 
##############################################################################
##############################################################################
###
### Running command:
###
###   /Library/Frameworks/R.framework/Resources/bin/R CMD check --install=check:XINA.install-out.txt --library=/Library/Frameworks/R.framework/Resources/library --no-vignettes --timings XINA_1.22.0.tar.gz
###
##############################################################################
##############################################################################
* using log directory ‘/Users/biocbuild/bbs-3.19-bioc/meat/XINA.Rcheck’
* using R version 4.4.0 (2024-04-24)
* using platform: aarch64-apple-darwin20
* R was compiled by
    Apple clang version 14.0.0 (clang-1400.0.29.202)
    GNU Fortran (GCC) 12.2.0
* running under: macOS Ventura 13.6.5
* using session charset: UTF-8
* using option ‘--no-vignettes’
* checking for file ‘XINA/DESCRIPTION’ ... OK
* checking extension type ... Package
* this is package ‘XINA’ version ‘1.22.0’
* package encoding: UTF-8
* checking package namespace information ... OK
* checking package dependencies ... OK
* checking if this is a source package ... OK
* checking if there is a namespace ... OK
* checking for hidden files and directories ... OK
* checking for portable file names ... OK
* checking for sufficient/correct file permissions ... OK
* checking whether package ‘XINA’ can be installed ... OK
* checking installed package size ... OK
* checking package directory ... OK
* checking ‘build’ directory ... OK
* checking DESCRIPTION meta-information ... OK
* checking top-level files ... OK
* checking for left-over files ... OK
* checking index information ... OK
* checking package subdirectories ... OK
* checking code files for non-ASCII characters ... OK
* checking R files for syntax errors ... OK
* checking whether the package can be loaded ... OK
* checking whether the package can be loaded with stated dependencies ... OK
* checking whether the package can be unloaded cleanly ... OK
* checking whether the namespace can be loaded with stated dependencies ... OK
* checking whether the namespace can be unloaded cleanly ... OK
* checking dependencies in R code ... OK
* checking S3 generic/method consistency ... OK
* checking replacement functions ... OK
* checking foreign function calls ... OK
* checking R code for possible problems ... OK
* checking Rd files ... OK
* checking Rd metadata ... OK
* checking Rd cross-references ... OK
* checking for missing documentation entries ... OK
* checking for code/documentation mismatches ... OK
* checking Rd \usage sections ... OK
* checking Rd contents ... OK
* checking for unstated dependencies in examples ... OK
* checking contents of ‘data’ directory ... OK
* checking data for non-ASCII characters ... OK
* checking data for ASCII and uncompressed saves ... OK
* checking files in ‘vignettes’ ... OK
* checking examples ... OK
Examples with CPU (user + system) or elapsed time > 5s
                                    user system elapsed
xina_clustering                   21.987  0.264  31.697
plot_condition_compositions       16.644  0.172  24.094
mutate_colors                      9.508  0.098  14.140
plot_clusters                      8.824  0.086  12.837
get_condition_biased_comigrations  5.428  0.086   7.786
* checking for unstated dependencies in vignettes ... OK
* checking package vignettes ... OK
* checking running R code from vignettes ... SKIPPED
* checking re-building of vignette outputs ... SKIPPED
* checking PDF version of manual ... OK
* DONE
Status: OK
XINA.Rcheck/00install.out
############################################################################## ############################################################################## ### ### Running command: ### ### /Library/Frameworks/R.framework/Resources/bin/R CMD INSTALL XINA ### ############################################################################## ############################################################################## * installing to library ‘/Library/Frameworks/R.framework/Versions/4.4-arm64/Resources/library’ * installing *source* package ‘XINA’ ... ** using staged installation ** R ** data ** inst ** byte-compile and prepare package for lazy loading ** help *** installing help indices ** building package indices ** installing vignettes ** testing if installed package can be loaded from temporary location ** testing if installed package can be loaded from final location ** testing if installed package keeps a record of temporary installation path * DONE (XINA)
XINA.Rcheck/XINA-Ex.timings
| name | user | system | elapsed | |
| alluvial_enriched | 2.593 | 0.061 | 3.982 | |
| draw_alluvial_plot | 0.062 | 0.007 | 0.099 | |
| get_comigrations_by_name | 0.035 | 0.004 | 0.058 | |
| get_condition_biased_comigrations | 5.428 | 0.086 | 7.786 | |
| get_unknown_ppi_nodes | 0.057 | 0.007 | 0.096 | |
| load_previous_results | 0.994 | 0.022 | 1.571 | |
| make_random_xina_data | 0.150 | 0.016 | 0.220 | |
| mutate_colors | 9.508 | 0.098 | 14.140 | |
| plot_clusters | 8.824 | 0.086 | 12.837 | |
| plot_clusters_all | 1.713 | 0.031 | 2.431 | |
| plot_condition_compositions | 16.644 | 0.172 | 24.094 | |
| plot_enrichment_results | 0 | 0 | 0 | |
| xina_analysis | 0.001 | 0.000 | 0.002 | |
| xina_clustering | 21.987 | 0.264 | 31.697 | |
| xina_enrichment | 0.001 | 0.000 | 0.002 | |
| xina_plot_all | 2.698 | 0.240 | 4.136 | |
| xina_plot_bycluster | 0.175 | 0.016 | 0.332 | |
| xina_plot_single | 0.115 | 0.011 | 0.182 | |