| Back to Multiple platform build/check report for BioC 3.19: simplified long | 
 | 
This page was generated on 2024-06-11 14:44 -0400 (Tue, 11 Jun 2024).
| Hostname | OS | Arch (*) | R version | Installed pkgs | 
|---|---|---|---|---|
| nebbiolo1 | Linux (Ubuntu 22.04.3 LTS) | x86_64 | 4.4.0 (2024-04-24) -- "Puppy Cup" | 4757 | 
| palomino3 | Windows Server 2022 Datacenter | x64 | 4.4.0 (2024-04-24 ucrt) -- "Puppy Cup" | 4491 | 
| lconway | macOS 12.7.1 Monterey | x86_64 | 4.4.0 (2024-04-24) -- "Puppy Cup" | 4522 | 
| kjohnson3 | macOS 13.6.5 Ventura | arm64 | 4.4.0 (2024-04-24) -- "Puppy Cup" | 4468 | 
| Click on any hostname to see more info about the system (e.g. compilers) (*) as reported by 'uname -p', except on Windows and Mac OS X | ||||
| Package 2135/2300 | Hostname | OS / Arch | INSTALL | BUILD | CHECK | BUILD BIN | ||||||||
| TargetSearch 2.6.1  (landing page) Alvaro Cuadros-Inostroza 
 | nebbiolo1 | Linux (Ubuntu 22.04.3 LTS) / x86_64 | OK | OK | OK |  | ||||||||
| palomino3 | Windows Server 2022 Datacenter / x64 | OK | OK | OK | OK |  | ||||||||
| lconway | macOS 12.7.1 Monterey / x86_64 | OK | OK | OK | OK |  | ||||||||
| kjohnson3 | macOS 13.6.5 Ventura / arm64 | OK | OK | OK | OK |  | ||||||||
| To the developers/maintainers of the TargetSearch package: - Allow up to 24 hours (and sometimes 48 hours) for your latest push to git@git.bioconductor.org:packages/TargetSearch.git to reflect on this report. See Troubleshooting Build Report for more information. - Use the following Renviron settings to reproduce errors and warnings. - If 'R CMD check' started to fail recently on the Linux builder(s) over a missing dependency, add the missing dependency to 'Suggests:' in your DESCRIPTION file. See Renviron.bioc for more information. | 
| Package: TargetSearch | 
| Version: 2.6.1 | 
| Command: /Library/Frameworks/R.framework/Resources/bin/R CMD check --install=check:TargetSearch.install-out.txt --library=/Library/Frameworks/R.framework/Resources/library --no-vignettes --timings TargetSearch_2.6.1.tar.gz | 
| StartedAt: 2024-06-11 07:54:57 -0400 (Tue, 11 Jun 2024) | 
| EndedAt: 2024-06-11 07:57:27 -0400 (Tue, 11 Jun 2024) | 
| EllapsedTime: 150.2 seconds | 
| RetCode: 0 | 
| Status: OK | 
| CheckDir: TargetSearch.Rcheck | 
| Warnings: 0 | 
##############################################################################
##############################################################################
###
### Running command:
###
###   /Library/Frameworks/R.framework/Resources/bin/R CMD check --install=check:TargetSearch.install-out.txt --library=/Library/Frameworks/R.framework/Resources/library --no-vignettes --timings TargetSearch_2.6.1.tar.gz
###
##############################################################################
##############################################################################
* using log directory ‘/Users/biocbuild/bbs-3.19-bioc/meat/TargetSearch.Rcheck’
* using R version 4.4.0 (2024-04-24)
* using platform: aarch64-apple-darwin20
* R was compiled by
    Apple clang version 14.0.0 (clang-1400.0.29.202)
    GNU Fortran (GCC) 12.2.0
* running under: macOS Ventura 13.6.5
* using session charset: UTF-8
* using option ‘--no-vignettes’
* checking for file ‘TargetSearch/DESCRIPTION’ ... OK
* checking extension type ... Package
* this is package ‘TargetSearch’ version ‘2.6.1’
* checking package namespace information ... OK
* checking package dependencies ... OK
* checking if this is a source package ... OK
* checking if there is a namespace ... OK
* checking for hidden files and directories ... OK
* checking for portable file names ... OK
* checking for sufficient/correct file permissions ... OK
* checking whether package ‘TargetSearch’ can be installed ... OK
* used C compiler: ‘Apple clang version 15.0.0 (clang-1500.1.0.2.5)’
* used SDK: ‘MacOSX11.3.sdk’
* checking installed package size ... OK
* checking package directory ... OK
* checking ‘build’ directory ... OK
* checking DESCRIPTION meta-information ... OK
* checking top-level files ... OK
* checking for left-over files ... OK
* checking index information ... OK
* checking package subdirectories ... OK
* checking code files for non-ASCII characters ... OK
* checking R files for syntax errors ... OK
* checking whether the package can be loaded ... OK
* checking whether the package can be loaded with stated dependencies ... OK
* checking whether the package can be unloaded cleanly ... OK
* checking whether the namespace can be loaded with stated dependencies ... OK
* checking whether the namespace can be unloaded cleanly ... OK
* checking dependencies in R code ... OK
* checking S3 generic/method consistency ... OK
* checking replacement functions ... OK
* checking foreign function calls ... OK
* checking R code for possible problems ... OK
* checking Rd files ... OK
* checking Rd metadata ... OK
* checking Rd cross-references ... OK
* checking for missing documentation entries ... OK
* checking for code/documentation mismatches ... OK
* checking Rd \usage sections ... OK
* checking Rd contents ... OK
* checking for unstated dependencies in examples ... OK
* checking contents of ‘data’ directory ... OK
* checking data for non-ASCII characters ... OK
* checking data for ASCII and uncompressed saves ... OK
* checking line endings in C/C++/Fortran sources/headers ... OK
* checking compiled code ... NOTE
Note: information on .o files is not available
* checking sizes of PDF files under ‘inst/doc’ ... OK
* checking installed files from ‘inst/doc’ ... OK
* checking files in ‘vignettes’ ... OK
* checking examples ... OK
Examples with CPU (user + system) or elapsed time > 5s
                          user system elapsed
RIcorrect               14.267  1.565  24.068
ncdf4_convert_from_path  3.105  0.464   5.160
* checking for unstated dependencies in ‘tests’ ... OK
* checking tests ...
  Running ‘tinytest.R’
 OK
* checking for unstated dependencies in vignettes ... OK
* checking package vignettes ... OK
* checking running R code from vignettes ... SKIPPED
* checking re-building of vignette outputs ... SKIPPED
* checking PDF version of manual ... OK
* DONE
Status: 1 NOTE
See
  ‘/Users/biocbuild/bbs-3.19-bioc/meat/TargetSearch.Rcheck/00check.log’
for details.
TargetSearch.Rcheck/00install.out
############################################################################## ############################################################################## ### ### Running command: ### ### /Library/Frameworks/R.framework/Resources/bin/R CMD INSTALL TargetSearch ### ############################################################################## ############################################################################## * installing to library ‘/Library/Frameworks/R.framework/Versions/4.4-arm64/Resources/library’ * installing *source* package ‘TargetSearch’ ... ** using staged installation ** libs using C compiler: ‘Apple clang version 15.0.0 (clang-1500.1.0.2.5)’ using SDK: ‘MacOSX11.3.sdk’ clang -arch arm64 -I"/Library/Frameworks/R.framework/Resources/include" -DNDEBUG -I/opt/R/arm64/include -fPIC -falign-functions=64 -Wall -g -O2 -c Rinit.c -o Rinit.o clang -arch arm64 -I"/Library/Frameworks/R.framework/Resources/include" -DNDEBUG -I/opt/R/arm64/include -fPIC -falign-functions=64 -Wall -g -O2 -c baseline.c -o baseline.o clang -arch arm64 -I"/Library/Frameworks/R.framework/Resources/include" -DNDEBUG -I/opt/R/arm64/include -fPIC -falign-functions=64 -Wall -g -O2 -c detection.c -o detection.o clang -arch arm64 -I"/Library/Frameworks/R.framework/Resources/include" -DNDEBUG -I/opt/R/arm64/include -fPIC -falign-functions=64 -Wall -g -O2 -c file.c -o file.o clang -arch arm64 -I"/Library/Frameworks/R.framework/Resources/include" -DNDEBUG -I/opt/R/arm64/include -fPIC -falign-functions=64 -Wall -g -O2 -c find.c -o find.o clang -arch arm64 -I"/Library/Frameworks/R.framework/Resources/include" -DNDEBUG -I/opt/R/arm64/include -fPIC -falign-functions=64 -Wall -g -O2 -c get_line.c -o get_line.o clang -arch arm64 -I"/Library/Frameworks/R.framework/Resources/include" -DNDEBUG -I/opt/R/arm64/include -fPIC -falign-functions=64 -Wall -g -O2 -c hpf.c -o hpf.o clang -arch arm64 -I"/Library/Frameworks/R.framework/Resources/include" -DNDEBUG -I/opt/R/arm64/include -fPIC -falign-functions=64 -Wall -g -O2 -c matrix.c -o matrix.o clang -arch arm64 -I"/Library/Frameworks/R.framework/Resources/include" -DNDEBUG -I/opt/R/arm64/include -fPIC -falign-functions=64 -Wall -g -O2 -c ncdf.c -o ncdf.o clang -arch arm64 -I"/Library/Frameworks/R.framework/Resources/include" -DNDEBUG -I/opt/R/arm64/include -fPIC -falign-functions=64 -Wall -g -O2 -c peak.c -o peak.o clang -arch arm64 -I"/Library/Frameworks/R.framework/Resources/include" -DNDEBUG -I/opt/R/arm64/include -fPIC -falign-functions=64 -Wall -g -O2 -c spectrum.c -o spectrum.o clang -arch arm64 -I"/Library/Frameworks/R.framework/Resources/include" -DNDEBUG -I/opt/R/arm64/include -fPIC -falign-functions=64 -Wall -g -O2 -c strutils.c -o strutils.o clang -arch arm64 -I"/Library/Frameworks/R.framework/Resources/include" -DNDEBUG -I/opt/R/arm64/include -fPIC -falign-functions=64 -Wall -g -O2 -c utils.c -o utils.o clang -arch arm64 -dynamiclib -Wl,-headerpad_max_install_names -undefined dynamic_lookup -L/Library/Frameworks/R.framework/Resources/lib -L/opt/R/arm64/lib -o TargetSearch.so Rinit.o baseline.o detection.o file.o find.o get_line.o hpf.o matrix.o ncdf.o peak.o spectrum.o strutils.o utils.o -F/Library/Frameworks/R.framework/.. -framework R -Wl,-framework -Wl,CoreFoundation installing to /Library/Frameworks/R.framework/Versions/4.4-arm64/Resources/library/00LOCK-TargetSearch/00new/TargetSearch/libs ** R ** data ** inst ** byte-compile and prepare package for lazy loading ** help *** installing help indices ** building package indices ** installing vignettes ** testing if installed package can be loaded from temporary location ** checking absolute paths in shared objects and dynamic libraries ** testing if installed package can be loaded from final location ** testing if installed package keeps a record of temporary installation path * DONE (TargetSearch)
TargetSearch.Rcheck/tests/tinytest.Rout
R version 4.4.0 (2024-04-24) -- "Puppy Cup"
Copyright (C) 2024 The R Foundation for Statistical Computing
Platform: aarch64-apple-darwin20
R is free software and comes with ABSOLUTELY NO WARRANTY.
You are welcome to redistribute it under certain conditions.
Type 'license()' or 'licence()' for distribution details.
R is a collaborative project with many contributors.
Type 'contributors()' for more information and
'citation()' on how to cite R or R packages in publications.
Type 'demo()' for some demos, 'help()' for on-line help, or
'help.start()' for an HTML browser interface to help.
Type 'q()' to quit R.
> if ( requireNamespace("tinytest", quietly=TRUE) && requireNamespace("TargetSearchData", quietly=TRUE)) {
+     tinytest::test_package("TargetSearch", color=FALSE, verbose=1)
+ }
Loading required package: TargetSearchData
test_FindAllPeaks.R...........   19 tests OK  2.2s
test_file.R...................    4 tests OK  0.1s
test_import_fame.R............   14 tests OK  24ms
test_import_library.R.........   15 tests OK  0.2s
test_ncdf4_plot_peak.R........    7 tests OK  0.7s
test_quantMatrix.R............    8 tests OK  61ms
test_ri_data_extract.R........    6 tests OK  7.7s
test_ri_plot_peak.R...........   22 tests OK  0.3s
test_tsLib.R..................   17 tests OK  0.1s
test_tsProfile.R..............   12 tests OK  35ms
test_tsRim.R..................    6 tests OK  8ms
test_tsSample.R...............    9 tests OK  17ms
test_write_ri_file.R..........    6 tests OK  22ms
All ok, 145 results (11.6s)
> 
> proc.time()
   user  system elapsed 
  7.564   0.410  12.222 
TargetSearch.Rcheck/TargetSearch-Ex.timings
| name | user | system | elapsed | |
| FAMEoutliers | 0.063 | 0.010 | 0.123 | |
| FindAllPeaks | 1.074 | 0.063 | 1.929 | |
| FindPeaks | 0.192 | 0.012 | 0.304 | |
| ImportFameSettings | 0.021 | 0.003 | 0.034 | |
| ImportLibrary | 0.024 | 0.003 | 0.042 | |
| ImportSamples | 0.016 | 0.003 | 0.030 | |
| NetCDFPeakFinding | 0.310 | 0.033 | 0.561 | |
| Profile | 0.787 | 0.034 | 1.213 | |
| ProfileCleanUp | 0.664 | 0.028 | 0.998 | |
| RIcorrect | 14.267 | 1.565 | 24.068 | |
| TSExample | 1.756 | 0.279 | 2.991 | |
| Write.Results | 0.067 | 0.018 | 0.139 | |
| baseline | 0.383 | 0.028 | 0.611 | |
| baselineCorrection | 0.396 | 0.024 | 0.652 | |
| baselineCorrectionQuant | 0.448 | 0.024 | 0.722 | |
| checkRimLim | 1.621 | 0.107 | 2.606 | |
| file | 0.076 | 0.017 | 0.152 | |
| fixRI | 1.392 | 0.104 | 2.178 | |
| medianRILib | 0.384 | 0.022 | 0.611 | |
| ncdf4Convert-method | 0.079 | 0.010 | 0.106 | |
| ncdf4_convert | 0.024 | 0.004 | 0.041 | |
| ncdf4_convert_from_path | 3.105 | 0.464 | 5.160 | |
| ncdf4_data_extract | 0.505 | 0.059 | 0.851 | |
| ncdf4_plot_peak | 1.479 | 0.199 | 2.532 | |
| ncdf4_update_ri | 0.399 | 0.042 | 0.683 | |
| peakCDFextraction | 0.700 | 0.069 | 1.096 | |
| peakFind | 0.205 | 0.017 | 0.359 | |
| plotFAME | 0.008 | 0.007 | 0.028 | |
| plotPeak | 0.324 | 0.028 | 0.583 | |
| plotPeakRI | 0.754 | 0.051 | 1.274 | |
| plotPeakSimple | 0.609 | 0.041 | 0.971 | |
| plotRIdev | 0.348 | 0.032 | 0.648 | |
| plotRefSpectra | 0.082 | 0.006 | 0.151 | |
| plotSpectra | 0.211 | 0.021 | 0.358 | |
| quantMatrix | 0.662 | 0.036 | 1.038 | |
| ri2rt | 0.004 | 0.000 | 0.003 | |
| riMatrix | 1.318 | 0.089 | 2.317 | |
| ri_data_extract | 0.048 | 0.005 | 0.105 | |
| ri_plot_peak | 1.107 | 0.076 | 2.030 | |
| rt2ri | 0.004 | 0.000 | 0.006 | |
| sampleRI | 0.400 | 0.021 | 0.591 | |
| tsLib-class | 0.029 | 0.005 | 0.047 | |
| tsMSdata-class | 0.008 | 0.015 | 0.028 | |
| tsProfile-class | 0.008 | 0.004 | 0.018 | |
| tsRim-class | 0.004 | 0.001 | 0.008 | |
| tsSample-class | 0.025 | 0.003 | 0.038 | |
| tsUpdate-method | 0 | 0 | 0 | |
| updateRI | 0.944 | 0.153 | 1.645 | |
| writeLibText | 0.024 | 0.003 | 0.034 | |
| writeMSP | 0.026 | 0.005 | 0.055 | |