| Back to Multiple platform build/check report for BioC 3.19: simplified long |
|
This page was generated on 2024-05-08 11:41:31 -0400 (Wed, 08 May 2024).
| Hostname | OS | Arch (*) | R version | Installed pkgs |
|---|---|---|---|---|
| nebbiolo1 | Linux (Ubuntu 22.04.3 LTS) | x86_64 | 4.4.0 (2024-04-24) -- "Puppy Cup" | 4707 |
| palomino3 | Windows Server 2022 Datacenter | x64 | 4.4.0 (2024-04-24 ucrt) -- "Puppy Cup" | 4484 |
| lconway | macOS 12.7.1 Monterey | x86_64 | 4.4.0 (2024-04-24) -- "Puppy Cup" | 4514 |
| kunpeng2 | Linux (openEuler 22.03 LTS-SP1) | aarch64 | 4.4.0 beta (2024-04-15 r86425) -- "Puppy Cup" | 4480 |
| Click on any hostname to see more info about the system (e.g. compilers) (*) as reported by 'uname -p', except on Windows and Mac OS X | ||||
| Package 2208/2300 | Hostname | OS / Arch | INSTALL | BUILD | CHECK | BUILD BIN | ||||||||
| TRESS 1.10.0 (landing page) Zhenxing Guo
| nebbiolo1 | Linux (Ubuntu 22.04.3 LTS) / x86_64 | OK | OK | OK | |||||||||
| palomino3 | Windows Server 2022 Datacenter / x64 | OK | OK | OK | OK | |||||||||
| lconway | macOS 12.7.1 Monterey / x86_64 | OK | OK | OK | OK | |||||||||
| kunpeng2 | Linux (openEuler 22.03 LTS-SP1) / aarch64 | OK | OK | OK | ||||||||||
| kjohnson3 | macOS 13.6.5 Ventura / arm64 | see weekly results here | ||||||||||||
|
To the developers/maintainers of the TRESS package: - Allow up to 24 hours (and sometimes 48 hours) for your latest push to git@git.bioconductor.org:packages/TRESS.git to reflect on this report. See Troubleshooting Build Report for more information. - Use the following Renviron settings to reproduce errors and warnings. - If 'R CMD check' started to fail recently on the Linux builder(s) over a missing dependency, add the missing dependency to 'Suggests:' in your DESCRIPTION file. See Renviron.bioc for more information. - See Martin Grigorov's blog post for how to debug Linux ARM64 related issues on a x86_64 host. |
| Package: TRESS |
| Version: 1.10.0 |
| Command: /home/biocbuild/R/R-beta-2024-04-15_r86425/bin/R CMD check --install=check:TRESS.install-out.txt --library=/home/biocbuild/R/R-beta-2024-04-15_r86425/site-library --no-vignettes --timings TRESS_1.10.0.tar.gz |
| StartedAt: 2024-05-08 12:52:54 -0000 (Wed, 08 May 2024) |
| EndedAt: 2024-05-08 12:59:00 -0000 (Wed, 08 May 2024) |
| EllapsedTime: 365.7 seconds |
| RetCode: 0 |
| Status: OK |
| CheckDir: TRESS.Rcheck |
| Warnings: 0 |
##############################################################################
##############################################################################
###
### Running command:
###
### /home/biocbuild/R/R-beta-2024-04-15_r86425/bin/R CMD check --install=check:TRESS.install-out.txt --library=/home/biocbuild/R/R-beta-2024-04-15_r86425/site-library --no-vignettes --timings TRESS_1.10.0.tar.gz
###
##############################################################################
##############################################################################
* using log directory ‘/home/biocbuild/bbs-3.19-bioc/meat/TRESS.Rcheck’
* using R version 4.4.0 beta (2024-04-15 r86425)
* using platform: aarch64-unknown-linux-gnu
* R was compiled by
gcc (GCC) 10.3.1
GNU Fortran (GCC) 10.3.1
* running under: openEuler 22.03 (LTS-SP1)
* using session charset: UTF-8
* using option ‘--no-vignettes’
* checking for file ‘TRESS/DESCRIPTION’ ... OK
* checking extension type ... Package
* this is package ‘TRESS’ version ‘1.10.0’
* package encoding: UTF-8
* checking package namespace information ... OK
* checking package dependencies ... OK
* checking if this is a source package ... OK
* checking if there is a namespace ... OK
* checking for hidden files and directories ... OK
* checking for portable file names ... OK
* checking for sufficient/correct file permissions ... OK
* checking whether package ‘TRESS’ can be installed ... OK
* checking installed package size ... OK
* checking package directory ... OK
* checking DESCRIPTION meta-information ... OK
* checking top-level files ... OK
* checking for left-over files ... OK
* checking index information ... OK
* checking package subdirectories ... OK
* checking code files for non-ASCII characters ... OK
* checking R files for syntax errors ... OK
* checking whether the package can be loaded ... OK
* checking whether the package can be loaded with stated dependencies ... OK
* checking whether the package can be unloaded cleanly ... OK
* checking whether the namespace can be loaded with stated dependencies ... OK
* checking whether the namespace can be unloaded cleanly ... OK
* checking loading without being on the library search path ... OK
* checking dependencies in R code ... OK
* checking S3 generic/method consistency ... OK
* checking replacement functions ... OK
* checking foreign function calls ... OK
* checking R code for possible problems ... OK
* checking Rd files ... NOTE
checkRd: (-1) CallCandidates.Rd:61: Escaped LaTeX specials: \&
checkRd: (-1) CallCandidates.Rd:63: Escaped LaTeX specials: \&
checkRd: (-1) CallPeaks.multiRep.Rd:7: Escaped LaTeX specials: \&
checkRd: (-1) CallPeaks.paramEsti.Rd:10: Escaped LaTeX specials: \&
checkRd: (-1) CallPeaks.paramEsti.Rd:23: Escaped LaTeX specials: \&
checkRd: (-1) findBumps.Rd:8: Escaped LaTeX specials: \&
* checking Rd metadata ... OK
* checking Rd cross-references ... OK
* checking for missing documentation entries ... OK
* checking for code/documentation mismatches ... OK
* checking Rd \usage sections ... OK
* checking Rd contents ... OK
* checking for unstated dependencies in examples ... OK
* checking contents of ‘data’ directory ... OK
* checking data for non-ASCII characters ... OK
* checking data for ASCII and uncompressed saves ... OK
* checking examples ... OK
Examples with CPU (user + system) or elapsed time > 5s
user system elapsed
CallDMRs.paramEsti 34.217 4.215 24.855
TRESS_DMRtest 31.287 1.600 20.587
CoefName 28.814 1.664 23.334
DMRInfer 12.920 1.178 0.361
CallPeaks.multiRep 10.041 1.832 2.804
findBumps 6.563 0.396 0.108
* checking PDF version of manual ... OK
* DONE
Status: 1 NOTE
See
‘/home/biocbuild/bbs-3.19-bioc/meat/TRESS.Rcheck/00check.log’
for details.
TRESS.Rcheck/00install.out
############################################################################## ############################################################################## ### ### Running command: ### ### /home/biocbuild/R/R-beta-2024-04-15_r86425/bin/R CMD INSTALL TRESS ### ############################################################################## ############################################################################## * installing to library ‘/home/biocbuild/R/R-beta-2024-04-15_r86425/site-library’ * installing *source* package ‘TRESS’ ... ** using staged installation ** R ** data ** inst ** byte-compile and prepare package for lazy loading ** help *** installing help indices ** building package indices ** testing if installed package can be loaded from temporary location ** testing if installed package can be loaded from final location ** testing if installed package keeps a record of temporary installation path * DONE (TRESS)
TRESS.Rcheck/TRESS-Ex.timings
| name | user | system | elapsed | |
| CallCandidates | 2.250 | 0.127 | 2.383 | |
| CallDMRs.paramEsti | 34.217 | 4.215 | 24.855 | |
| CallPeaks.multiRep | 10.041 | 1.832 | 2.804 | |
| CallPeaks.oneRep | 0.095 | 0.024 | 0.119 | |
| CallPeaks.paramEsti | 3.584 | 0.279 | 3.871 | |
| CoefName | 28.814 | 1.664 | 23.334 | |
| DMRInfer | 12.920 | 1.178 | 0.361 | |
| DivideBins | 0 | 0 | 0 | |
| ShowOnePeak | 0.324 | 0.044 | 0.370 | |
| TRESS_DMRfit | 0 | 0 | 0 | |
| TRESS_DMRtest | 31.287 | 1.600 | 20.587 | |
| TRESS_peak | 0 | 0 | 0 | |
| filterRegions | 0.007 | 0.002 | 0.009 | |
| findBumps | 6.563 | 0.396 | 0.108 | |
| meRatio | 0.019 | 0.003 | 0.021 | |