| Back to Multiple platform build/check report for BioC 3.19: simplified long | 
 | 
This page was generated on 2024-10-18 20:42 -0400 (Fri, 18 Oct 2024).
| Hostname | OS | Arch (*) | R version | Installed pkgs | 
|---|---|---|---|---|
| nebbiolo1 | Linux (Ubuntu 22.04.3 LTS) | x86_64 | 4.4.1 (2024-06-14) -- "Race for Your Life" | 4763 | 
| palomino7 | Windows Server 2022 Datacenter | x64 | 4.4.1 (2024-06-14 ucrt) -- "Race for Your Life" | 4500 | 
| merida1 | macOS 12.7.5 Monterey | x86_64 | 4.4.1 (2024-06-14) -- "Race for Your Life" | 4530 | 
| kjohnson1 | macOS 13.6.6 Ventura | arm64 | 4.4.1 (2024-06-14) -- "Race for Your Life" | 4480 | 
| Click on any hostname to see more info about the system (e.g. compilers) (*) as reported by 'uname -p', except on Windows and Mac OS X | ||||
| Package 2153/2300 | Hostname | OS / Arch | INSTALL | BUILD | CHECK | BUILD BIN | ||||||||
| TFutils 1.24.0  (landing page) Vincent Carey 
 | nebbiolo1 | Linux (Ubuntu 22.04.3 LTS) / x86_64 | OK | OK | OK |  | ||||||||
| palomino7 | Windows Server 2022 Datacenter / x64 | OK | OK | OK | OK |  | ||||||||
| merida1 | macOS 12.7.5 Monterey / x86_64 | OK | OK | OK | OK |  | ||||||||
| kjohnson1 | macOS 13.6.6 Ventura / arm64 | OK | OK | OK | NA | |||||||||
| To the developers/maintainers of the TFutils package: - Allow up to 24 hours (and sometimes 48 hours) for your latest push to git@git.bioconductor.org:packages/TFutils.git to reflect on this report. See Troubleshooting Build Report for more information. - Use the following Renviron settings to reproduce errors and warnings. - If 'R CMD check' started to fail recently on the Linux builder(s) over a missing dependency, add the missing dependency to 'Suggests:' in your DESCRIPTION file. See Renviron.bioc for more information. | 
| Package: TFutils | 
| Version: 1.24.0 | 
| Command: /Library/Frameworks/R.framework/Resources/bin/R CMD check --install=check:TFutils.install-out.txt --library=/Library/Frameworks/R.framework/Resources/library --no-vignettes --timings TFutils_1.24.0.tar.gz | 
| StartedAt: 2024-10-18 15:03:30 -0400 (Fri, 18 Oct 2024) | 
| EndedAt: 2024-10-18 15:08:59 -0400 (Fri, 18 Oct 2024) | 
| EllapsedTime: 328.9 seconds | 
| RetCode: 0 | 
| Status: OK | 
| CheckDir: TFutils.Rcheck | 
| Warnings: 0 | 
##############################################################################
##############################################################################
###
### Running command:
###
###   /Library/Frameworks/R.framework/Resources/bin/R CMD check --install=check:TFutils.install-out.txt --library=/Library/Frameworks/R.framework/Resources/library --no-vignettes --timings TFutils_1.24.0.tar.gz
###
##############################################################################
##############################################################################
* using log directory ‘/Users/biocbuild/bbs-3.19-bioc/meat/TFutils.Rcheck’
* using R version 4.4.1 (2024-06-14)
* using platform: aarch64-apple-darwin20
* R was compiled by
    Apple clang version 14.0.0 (clang-1400.0.29.202)
    GNU Fortran (GCC) 12.2.0
* running under: macOS Ventura 13.6.6
* using session charset: UTF-8
* using option ‘--no-vignettes’
* checking for file ‘TFutils/DESCRIPTION’ ... OK
* this is package ‘TFutils’ version ‘1.24.0’
* package encoding: UTF-8
* checking package namespace information ... OK
* checking package dependencies ... OK
* checking if this is a source package ... OK
* checking if there is a namespace ... OK
* checking for hidden files and directories ... OK
* checking for portable file names ... OK
* checking for sufficient/correct file permissions ... OK
* checking whether package ‘TFutils’ can be installed ... OK
* checking installed package size ... NOTE
  installed size is  5.4Mb
  sub-directories of 1Mb or more:
    data      3.5Mb
    lambert   1.4Mb
* checking package directory ... OK
* checking ‘build’ directory ... OK
* checking DESCRIPTION meta-information ... OK
* checking top-level files ... OK
* checking for left-over files ... OK
* checking index information ... OK
* checking package subdirectories ... OK
* checking code files for non-ASCII characters ... OK
* checking R files for syntax errors ... OK
* checking whether the package can be loaded ... OK
* checking whether the package can be loaded with stated dependencies ... OK
* checking whether the package can be unloaded cleanly ... OK
* checking whether the namespace can be loaded with stated dependencies ... OK
* checking whether the namespace can be unloaded cleanly ... OK
* checking dependencies in R code ... OK
* checking S3 generic/method consistency ... OK
* checking replacement functions ... OK
* checking foreign function calls ... OK
* checking R code for possible problems ... NOTE
fimo_granges : proctext: warning in read.delim(con, h = FALSE,
  stringsAsFactors = FALSE, sep = "\t"): partial argument match of 'h'
  to 'header'
setupHIZE: warning in read.delim(txtfn, sep = "\t", skip = 3, h =
  FALSE, stringsAsFactors = FALSE): partial argument match of 'h' to
  'header'
directHitsInCISBP: no visible binding for global variable
  ‘DISEASE.TRAIT’
directHitsInCISBP: no visible binding for global variable ‘MAPPED_GENE’
directHitsInCISBP: no visible binding for global variable ‘cisbpTFcat’
directHitsInCISBP: no visible binding for global variable ‘HGNC’
directHitsInCISBP: no visible binding for global variable ‘Family_Name’
fimo_granges: no visible global function definition for ‘rowRanges<-’
fimo_granges: no visible global function definition for ‘reduceByRange’
fimo_granges : <anonymous>: no visible global function definition for
  ‘seqinfo<-’
tffamCirc.prep: no visible binding for global variable ‘TF family’
tffamCirc.prep: no visible binding for global variable ‘TFfamily’
tffamCirc.prep: no visible binding for global variable ‘Transcription
  factor’
topTraitsOfTargets: no visible global function definition for ‘mcols’
topTraitsOfTargets: no visible binding for global variable
  ‘DISEASE.TRAIT’
Undefined global functions or variables:
  DISEASE.TRAIT Family_Name HGNC MAPPED_GENE TF family TFfamily
  Transcription factor cisbpTFcat mcols reduceByRange rowRanges<-
  seqinfo<-
Consider adding
  importFrom("base", "factor")
  importFrom("stats", "family")
to your NAMESPACE file.
* checking Rd files ... OK
* checking Rd metadata ... OK
* checking Rd cross-references ... OK
* checking for missing documentation entries ... OK
* checking for code/documentation mismatches ... OK
* checking Rd \usage sections ... OK
* checking Rd contents ... OK
* checking for unstated dependencies in examples ... OK
* checking contents of ‘data’ directory ... OK
* checking data for non-ASCII characters ... NOTE
  Note: found 62 marked UTF-8 strings
* checking LazyData ... OK
* checking data for ASCII and uncompressed saves ... OK
* checking line endings in Makefiles ... OK
* checking for GNU extensions in Makefiles ... OK
* checking include directives in Makefiles ... OK
* checking files in ‘vignettes’ ... OK
* checking examples ... OK
Examples with CPU (user + system) or elapsed time > 5s
                     user system elapsed
tffamCirc.plot     17.929  0.862  20.526
topTraitsOfTargets 16.516  0.947  18.140
fimo16             10.295  0.359  10.777
tffamCirc.prep      9.402  0.120   9.869
genemodForGviz      8.586  0.332   9.187
* checking for unstated dependencies in ‘tests’ ... OK
* checking tests ...
  Running ‘testthat.R’
 OK
* checking for unstated dependencies in vignettes ... OK
* checking package vignettes ... OK
* checking running R code from vignettes ... SKIPPED
* checking re-building of vignette outputs ... SKIPPED
* checking PDF version of manual ... OK
* DONE
Status: 3 NOTEs
See
  ‘/Users/biocbuild/bbs-3.19-bioc/meat/TFutils.Rcheck/00check.log’
for details.
TFutils.Rcheck/00install.out
############################################################################## ############################################################################## ### ### Running command: ### ### /Library/Frameworks/R.framework/Resources/bin/R CMD INSTALL TFutils ### ############################################################################## ############################################################################## * installing to library ‘/Library/Frameworks/R.framework/Versions/4.4-arm64/Resources/library’ * installing *source* package ‘TFutils’ ... ** using staged installation ** R ** data *** moving datasets to lazyload DB ** inst ** byte-compile and prepare package for lazy loading ** help *** installing help indices ** building package indices ** installing vignettes ** testing if installed package can be loaded from temporary location ** testing if installed package can be loaded from final location ** testing if installed package keeps a record of temporary installation path * DONE (TFutils)
TFutils.Rcheck/tests/testthat.Rout
R version 4.4.1 (2024-06-14) -- "Race for Your Life"
Copyright (C) 2024 The R Foundation for Statistical Computing
Platform: aarch64-apple-darwin20
R is free software and comes with ABSOLUTELY NO WARRANTY.
You are welcome to redistribute it under certain conditions.
Type 'license()' or 'licence()' for distribution details.
R is a collaborative project with many contributors.
Type 'contributors()' for more information and
'citation()' on how to cite R or R packages in publications.
Type 'demo()' for some demos, 'help()' for on-line help, or
'help.start()' for an HTML browser interface to help.
Type 'q()' to quit R.
> library(testthat)
> library(TFutils)
> 
> test_check("TFutils")
[ FAIL 0 | WARN 0 | SKIP 0 | PASS 5 ]
> 
> 
> proc.time()
   user  system elapsed 
 19.770   1.070  21.835 
TFutils.Rcheck/TFutils-Ex.timings
| name | user | system | elapsed | |
| HGNCmap | 0 | 0 | 0 | |
| TFCatalog | 0.254 | 0.016 | 0.270 | |
| TFtargs | 0.000 | 0.000 | 0.001 | |
| URL_s3_tf | 0.000 | 0.001 | 0.001 | |
| anchor_pmids | 0.005 | 0.000 | 0.005 | |
| browse_gotf_main | 0 | 0 | 0 | |
| browse_humantfs_main | 0 | 0 | 0 | |
| browse_lambert_gwaslinks | 0 | 0 | 0 | |
| browse_lambert_main | 0 | 0 | 0 | |
| cisbpTFcat | 0.069 | 0.004 | 0.073 | |
| cisbpTFcat_2.0 | 0.059 | 0.005 | 0.064 | |
| defaultCircosParms | 0.008 | 0.002 | 0.010 | |
| demo_fimo_granges | 0.007 | 0.000 | 0.007 | |
| directHitsInCISBP | 0.198 | 0.014 | 0.213 | |
| encode690 | 0.036 | 0.004 | 0.040 | |
| fimo16 | 10.295 | 0.359 | 10.777 | |
| fimoMap | 0.002 | 0.000 | 0.004 | |
| fimo_granges | 0.001 | 0.001 | 0.001 | |
| genemodForGviz | 8.586 | 0.332 | 9.187 | |
| genemodelDF | 0.089 | 0.002 | 0.092 | |
| get_rslocs_38 | 0.000 | 0.000 | 0.001 | |
| grabTab | 0.217 | 0.017 | 0.249 | |
| gwascat_hg19_chr17 | 0.035 | 0.002 | 0.038 | |
| hocomoco.mono | 0.003 | 0.000 | 0.004 | |
| hocomoco.mono.sep2018 | 0.005 | 0.000 | 0.005 | |
| importFIMO | 0.038 | 0.006 | 0.056 | |
| importFIMO_local_split | 0.015 | 0.006 | 0.032 | |
| lambert_snps | 0.247 | 0.017 | 0.268 | |
| metadata_tf | 0.009 | 0.008 | 0.017 | |
| named_tf | 0.004 | 0.008 | 0.015 | |
| retrieve_gotf_main | 0.001 | 0.000 | 0.001 | |
| retrieve_humantfs_main | 0 | 0 | 0 | |
| retrieve_lambert_main | 0 | 0 | 0 | |
| seqinfo_hg19_chr17 | 0.002 | 0.001 | 0.004 | |
| tffamCirc.plot | 17.929 | 0.862 | 20.526 | |
| tffamCirc.prep | 9.402 | 0.120 | 9.869 | |
| tfhash | 0.470 | 0.323 | 0.840 | |
| tftColl | 0.127 | 0.003 | 0.131 | |
| tftCollMap | 0.000 | 0.000 | 0.001 | |
| topTraitsOfTargets | 16.516 | 0.947 | 18.140 | |