| Back to Multiple platform build/check report for BioC 3.19: simplified long | 
 | 
This page was generated on 2024-05-08 11:41:29 -0400 (Wed, 08 May 2024).
| Hostname | OS | Arch (*) | R version | Installed pkgs | 
|---|---|---|---|---|
| nebbiolo1 | Linux (Ubuntu 22.04.3 LTS) | x86_64 | 4.4.0 (2024-04-24) -- "Puppy Cup" | 4707 | 
| palomino3 | Windows Server 2022 Datacenter | x64 | 4.4.0 (2024-04-24 ucrt) -- "Puppy Cup" | 4484 | 
| lconway | macOS 12.7.1 Monterey | x86_64 | 4.4.0 (2024-04-24) -- "Puppy Cup" | 4514 | 
| kunpeng2 | Linux (openEuler 22.03 LTS-SP1) | aarch64 | 4.4.0 beta (2024-04-15 r86425) -- "Puppy Cup" | 4480 | 
| Click on any hostname to see more info about the system (e.g. compilers) (*) as reported by 'uname -p', except on Windows and Mac OS X | ||||
| Package 2149/2300 | Hostname | OS / Arch | INSTALL | BUILD | CHECK | BUILD BIN | ||||||||
| TFARM 1.26.0  (landing page) Liuba Nausicaa Martino 
 | nebbiolo1 | Linux (Ubuntu 22.04.3 LTS) / x86_64 | OK | OK | OK |  | ||||||||
| palomino3 | Windows Server 2022 Datacenter / x64 | OK | ERROR | skipped | skipped | |||||||||
| lconway | macOS 12.7.1 Monterey / x86_64 | OK | OK | OK | OK |  | ||||||||
| kunpeng2 | Linux (openEuler 22.03 LTS-SP1) / aarch64 | OK | OK | OK | ||||||||||
| kjohnson3 | macOS 13.6.5 Ventura / arm64 | see weekly results here | ||||||||||||
| To the developers/maintainers of the TFARM package: - Allow up to 24 hours (and sometimes 48 hours) for your latest push to git@git.bioconductor.org:packages/TFARM.git to reflect on this report. See Troubleshooting Build Report for more information. - Use the following Renviron settings to reproduce errors and warnings. - If 'R CMD check' started to fail recently on the Linux builder(s) over a missing dependency, add the missing dependency to 'Suggests:' in your DESCRIPTION file. See Renviron.bioc for more information. - See Martin Grigorov's blog post for how to debug Linux ARM64 related issues on a x86_64 host. | 
| Package: TFARM | 
| Version: 1.26.0 | 
| Command: /home/biocbuild/R/R-beta-2024-04-15_r86425/bin/R CMD check --install=check:TFARM.install-out.txt --library=/home/biocbuild/R/R-beta-2024-04-15_r86425/site-library --no-vignettes --timings TFARM_1.26.0.tar.gz | 
| StartedAt: 2024-05-08 12:39:13 -0000 (Wed, 08 May 2024) | 
| EndedAt: 2024-05-08 12:41:37 -0000 (Wed, 08 May 2024) | 
| EllapsedTime: 143.2 seconds | 
| RetCode: 0 | 
| Status: OK | 
| CheckDir: TFARM.Rcheck | 
| Warnings: 0 | 
##############################################################################
##############################################################################
###
### Running command:
###
###   /home/biocbuild/R/R-beta-2024-04-15_r86425/bin/R CMD check --install=check:TFARM.install-out.txt --library=/home/biocbuild/R/R-beta-2024-04-15_r86425/site-library --no-vignettes --timings TFARM_1.26.0.tar.gz
###
##############################################################################
##############################################################################
* using log directory ‘/home/biocbuild/bbs-3.19-bioc/meat/TFARM.Rcheck’
* using R version 4.4.0 beta (2024-04-15 r86425)
* using platform: aarch64-unknown-linux-gnu
* R was compiled by
    gcc (GCC) 10.3.1
    GNU Fortran (GCC) 10.3.1
* running under: openEuler 22.03 (LTS-SP1)
* using session charset: UTF-8
* using option ‘--no-vignettes’
* checking for file ‘TFARM/DESCRIPTION’ ... OK
* checking extension type ... Package
* this is package ‘TFARM’ version ‘1.26.0’
* package encoding: UTF-8
* checking package namespace information ... OK
* checking package dependencies ... OK
* checking if this is a source package ... OK
* checking if there is a namespace ... OK
* checking for hidden files and directories ... OK
* checking for portable file names ... OK
* checking for sufficient/correct file permissions ... OK
* checking whether package ‘TFARM’ can be installed ... OK
* checking installed package size ... OK
* checking package directory ... OK
* checking ‘build’ directory ... OK
* checking DESCRIPTION meta-information ... OK
* checking top-level files ... OK
* checking for left-over files ... OK
* checking index information ... OK
* checking package subdirectories ... OK
* checking code files for non-ASCII characters ... OK
* checking R files for syntax errors ... OK
* checking whether the package can be loaded ... OK
* checking whether the package can be loaded with stated dependencies ... OK
* checking whether the package can be unloaded cleanly ... OK
* checking whether the namespace can be loaded with stated dependencies ... OK
* checking whether the namespace can be unloaded cleanly ... OK
* checking loading without being on the library search path ... OK
* checking dependencies in R code ... OK
* checking S3 generic/method consistency ... OK
* checking replacement functions ... OK
* checking foreign function calls ... OK
* checking R code for possible problems ... OK
* checking Rd files ... NOTE
checkRd: (-1) rulesGen.Rd:26: Lost braces; missing escapes or markup?
    26 | type {TF1=1, TF2=1, TF3=1}). If \code{type = FALSE}, also rules with absent
       |      ^
checkRd: (-1) rulesGen.Rd:29: Lost braces; missing escapes or markup?
    29 | {TF1=1, TF2=0, TF3=1} or {TF1=0, TF2=0, TF3=0}).}
       | ^
checkRd: (-1) rulesGen.Rd:29: Lost braces; missing escapes or markup?
    29 | {TF1=1, TF2=0, TF3=1} or {TF1=0, TF2=0, TF3=0}).}
       |                          ^
* checking Rd metadata ... OK
* checking Rd cross-references ... OK
* checking for missing documentation entries ... OK
* checking for code/documentation mismatches ... OK
* checking Rd \usage sections ... OK
* checking Rd contents ... OK
* checking for unstated dependencies in examples ... OK
* checking contents of ‘data’ directory ... OK
* checking data for non-ASCII characters ... OK
* checking LazyData ... OK
* checking data for ASCII and uncompressed saves ... OK
* checking installed files from ‘inst/doc’ ... OK
* checking files in ‘vignettes’ ... OK
* checking examples ... OK
Examples with CPU (user + system) or elapsed time > 5s
         user system elapsed
rulesTF0 4.97  0.124   5.104
* checking for unstated dependencies in vignettes ... OK
* checking package vignettes ... OK
* checking running R code from vignettes ... SKIPPED
* checking re-building of vignette outputs ... SKIPPED
* checking PDF version of manual ... OK
* DONE
Status: 1 NOTE
See
  ‘/home/biocbuild/bbs-3.19-bioc/meat/TFARM.Rcheck/00check.log’
for details.
TFARM.Rcheck/00install.out
############################################################################## ############################################################################## ### ### Running command: ### ### /home/biocbuild/R/R-beta-2024-04-15_r86425/bin/R CMD INSTALL TFARM ### ############################################################################## ############################################################################## * installing to library ‘/home/biocbuild/R/R-beta-2024-04-15_r86425/site-library’ * installing *source* package ‘TFARM’ ... ** using staged installation ** R ** data *** moving datasets to lazyload DB ** inst ** byte-compile and prepare package for lazy loading ** help *** installing help indices ** building package indices ** installing vignettes ** testing if installed package can be loaded from temporary location ** testing if installed package can be loaded from final location ** testing if installed package keeps a record of temporary installation path * DONE (TFARM)
TFARM.Rcheck/TFARM-Ex.timings
| name | user | system | elapsed | |
| DELTA | 0.007 | 0.000 | 0.007 | |
| IComp | 0.034 | 0.000 | 0.034 | |
| IMP | 0.001 | 0.000 | 0.001 | |
| IMP_Z | 0.001 | 0.000 | 0.001 | |
| IPCA | 0.014 | 0.000 | 0.015 | |
| I_c_2 | 0.001 | 0.000 | 0.001 | |
| MCF7_chr1 | 0.060 | 0.004 | 0.065 | |
| TF_Imp | 0.002 | 0.000 | 0.002 | |
| distribViz | 0.016 | 0.000 | 0.015 | |
| heatI | 0.048 | 0.008 | 0.055 | |
| imp_FOSL2 | 0.001 | 0.000 | 0.001 | |
| items | 0 | 0 | 0 | |
| itemset | 0.001 | 0.000 | 0.001 | |
| p_TFs | 0.001 | 0.000 | 0.001 | |
| presAbs | 0.101 | 0.000 | 0.102 | |
| r_FOSL2 | 0.000 | 0.001 | 0.001 | |
| r_TEAD4 | 0.001 | 0.000 | 0.002 | |
| r_noFOSL2 | 0.001 | 0.000 | 0.002 | |
| rulesGen | 0.658 | 0.004 | 0.663 | |
| rulesTF | 0.157 | 0.000 | 0.157 | |
| rulesTF0 | 4.970 | 0.124 | 5.104 | |