| Back to Multiple platform build/check report for BioC 3.19: simplified long |
|
This page was generated on 2024-10-18 20:38 -0400 (Fri, 18 Oct 2024).
| Hostname | OS | Arch (*) | R version | Installed pkgs |
|---|---|---|---|---|
| nebbiolo1 | Linux (Ubuntu 22.04.3 LTS) | x86_64 | 4.4.1 (2024-06-14) -- "Race for Your Life" | 4763 |
| palomino7 | Windows Server 2022 Datacenter | x64 | 4.4.1 (2024-06-14 ucrt) -- "Race for Your Life" | 4500 |
| merida1 | macOS 12.7.5 Monterey | x86_64 | 4.4.1 (2024-06-14) -- "Race for Your Life" | 4530 |
| kjohnson1 | macOS 13.6.6 Ventura | arm64 | 4.4.1 (2024-06-14) -- "Race for Your Life" | 4480 |
| Click on any hostname to see more info about the system (e.g. compilers) (*) as reported by 'uname -p', except on Windows and Mac OS X | ||||
| Package 2136/2300 | Hostname | OS / Arch | INSTALL | BUILD | CHECK | BUILD BIN | ||||||||
| TBSignatureProfiler 1.16.0 (landing page) Aubrey R. Odom
| nebbiolo1 | Linux (Ubuntu 22.04.3 LTS) / x86_64 | OK | OK | OK | |||||||||
| palomino7 | Windows Server 2022 Datacenter / x64 | OK | OK | OK | OK | |||||||||
| merida1 | macOS 12.7.5 Monterey / x86_64 | OK | OK | OK | OK | |||||||||
| kjohnson1 | macOS 13.6.6 Ventura / arm64 | OK | OK | OK | NA | |||||||||
|
To the developers/maintainers of the TBSignatureProfiler package: - Allow up to 24 hours (and sometimes 48 hours) for your latest push to git@git.bioconductor.org:packages/TBSignatureProfiler.git to reflect on this report. See Troubleshooting Build Report for more information. - Use the following Renviron settings to reproduce errors and warnings. - If 'R CMD check' started to fail recently on the Linux builder(s) over a missing dependency, add the missing dependency to 'Suggests:' in your DESCRIPTION file. See Renviron.bioc for more information. |
| Package: TBSignatureProfiler |
| Version: 1.16.0 |
| Command: /home/biocbuild/bbs-3.19-bioc/R/bin/R CMD check --install=check:TBSignatureProfiler.install-out.txt --library=/home/biocbuild/bbs-3.19-bioc/R/site-library --timings TBSignatureProfiler_1.16.0.tar.gz |
| StartedAt: 2024-10-17 05:47:32 -0400 (Thu, 17 Oct 2024) |
| EndedAt: 2024-10-17 05:50:44 -0400 (Thu, 17 Oct 2024) |
| EllapsedTime: 191.4 seconds |
| RetCode: 0 |
| Status: OK |
| CheckDir: TBSignatureProfiler.Rcheck |
| Warnings: 0 |
##############################################################################
##############################################################################
###
### Running command:
###
### /home/biocbuild/bbs-3.19-bioc/R/bin/R CMD check --install=check:TBSignatureProfiler.install-out.txt --library=/home/biocbuild/bbs-3.19-bioc/R/site-library --timings TBSignatureProfiler_1.16.0.tar.gz
###
##############################################################################
##############################################################################
* using log directory ‘/home/biocbuild/bbs-3.19-bioc/meat/TBSignatureProfiler.Rcheck’
* using R version 4.4.1 (2024-06-14)
* using platform: x86_64-pc-linux-gnu
* R was compiled by
gcc (Ubuntu 11.4.0-1ubuntu1~22.04) 11.4.0
GNU Fortran (Ubuntu 11.4.0-1ubuntu1~22.04) 11.4.0
* running under: Ubuntu 22.04.5 LTS
* using session charset: UTF-8
* checking for file ‘TBSignatureProfiler/DESCRIPTION’ ... OK
* this is package ‘TBSignatureProfiler’ version ‘1.16.0’
* package encoding: UTF-8
* checking package namespace information ... OK
* checking package dependencies ... OK
* checking if this is a source package ... OK
* checking if there is a namespace ... OK
* checking for hidden files and directories ... OK
* checking for portable file names ... OK
* checking for sufficient/correct file permissions ... OK
* checking whether package ‘TBSignatureProfiler’ can be installed ... OK
* checking installed package size ... OK
* checking package directory ... OK
* checking ‘build’ directory ... OK
* checking DESCRIPTION meta-information ... OK
* checking top-level files ... OK
* checking for left-over files ... OK
* checking index information ... OK
* checking package subdirectories ... OK
* checking code files for non-ASCII characters ... OK
* checking R files for syntax errors ... OK
* checking whether the package can be loaded ... OK
* checking whether the package can be loaded with stated dependencies ... OK
* checking whether the package can be unloaded cleanly ... OK
* checking whether the namespace can be loaded with stated dependencies ... OK
* checking whether the namespace can be unloaded cleanly ... OK
* checking loading without being on the library search path ... OK
* checking dependencies in R code ... OK
* checking S3 generic/method consistency ... OK
* checking replacement functions ... OK
* checking foreign function calls ... OK
* checking R code for possible problems ... OK
* checking Rd files ... NOTE
checkRd: (-1) COVIDsignatures.Rd:12: Lost braces in \itemize; meant \describe ?
checkRd: (-1) COVIDsignatures.Rd:13: Lost braces in \itemize; meant \describe ?
checkRd: (-1) COVIDsignatures.Rd:14: Lost braces in \itemize; meant \describe ?
checkRd: (-1) COVIDsignatures.Rd:15: Lost braces in \itemize; meant \describe ?
checkRd: (-1) COVIDsignatures.Rd:16: Lost braces in \itemize; meant \describe ?
checkRd: (-1) COVIDsignatures.Rd:17: Lost braces in \itemize; meant \describe ?
checkRd: (-1) COVIDsignatures.Rd:18: Lost braces in \itemize; meant \describe ?
checkRd: (-1) COVIDsignatures.Rd:19: Lost braces in \itemize; meant \describe ?
checkRd: (-1) COVIDsignatures.Rd:20: Lost braces in \itemize; meant \describe ?
checkRd: (-1) COVIDsignatures.Rd:21: Lost braces in \itemize; meant \describe ?
checkRd: (-1) COVIDsignatures.Rd:22: Lost braces in \itemize; meant \describe ?
checkRd: (-1) COVIDsignatures.Rd:23: Lost braces in \itemize; meant \describe ?
checkRd: (-1) COVIDsignatures.Rd:24: Lost braces in \itemize; meant \describe ?
checkRd: (-1) COVIDsignatures.Rd:25: Lost braces in \itemize; meant \describe ?
checkRd: (-1) COVIDsignatures.Rd:26: Lost braces in \itemize; meant \describe ?
checkRd: (-1) COVIDsignatures.Rd:27: Lost braces in \itemize; meant \describe ?
checkRd: (-1) COVIDsignatures.Rd:28: Lost braces in \itemize; meant \describe ?
checkRd: (-1) COVIDsignatures.Rd:29: Lost braces in \itemize; meant \describe ?
checkRd: (-1) COVIDsignatures.Rd:30: Lost braces in \itemize; meant \describe ?
checkRd: (-1) COVIDsignatures.Rd:31: Lost braces in \itemize; meant \describe ?
checkRd: (-1) COVIDsignatures.Rd:32: Lost braces in \itemize; meant \describe ?
checkRd: (-1) COVIDsignatures.Rd:33: Lost braces in \itemize; meant \describe ?
checkRd: (-1) COVIDsignatures.Rd:34: Lost braces in \itemize; meant \describe ?
checkRd: (-1) COVIDsignatures.Rd:35: Lost braces in \itemize; meant \describe ?
checkRd: (-1) COVIDsignatures.Rd:36: Lost braces in \itemize; meant \describe ?
checkRd: (-1) COVIDsignatures.Rd:37: Lost braces in \itemize; meant \describe ?
checkRd: (-1) COVIDsignatures.Rd:38: Lost braces in \itemize; meant \describe ?
checkRd: (-1) COVIDsignatures.Rd:39: Lost braces in \itemize; meant \describe ?
checkRd: (-1) COVIDsignatures.Rd:40: Lost braces in \itemize; meant \describe ?
checkRd: (-1) COVIDsignatures.Rd:41: Lost braces in \itemize; meant \describe ?
checkRd: (-1) COVIDsignatures.Rd:42: Lost braces in \itemize; meant \describe ?
checkRd: (-1) COVIDsignatures.Rd:43: Lost braces in \itemize; meant \describe ?
checkRd: (-1) COVIDsignatures.Rd:44: Lost braces in \itemize; meant \describe ?
checkRd: (-1) COVIDsignatures.Rd:45: Lost braces in \itemize; meant \describe ?
checkRd: (-1) COVIDsignatures.Rd:46: Lost braces in \itemize; meant \describe ?
checkRd: (-1) COVIDsignatures.Rd:47: Lost braces in \itemize; meant \describe ?
checkRd: (-1) COVIDsignatures.Rd:48: Lost braces in \itemize; meant \describe ?
checkRd: (-1) COVIDsignatures.Rd:49: Lost braces in \itemize; meant \describe ?
checkRd: (-1) COVIDsignatures.Rd:50: Lost braces in \itemize; meant \describe ?
checkRd: (-1) COVIDsignatures.Rd:51: Lost braces in \itemize; meant \describe ?
checkRd: (-1) COVIDsignatures.Rd:52: Lost braces in \itemize; meant \describe ?
checkRd: (-1) COVIDsignatures.Rd:53: Lost braces in \itemize; meant \describe ?
checkRd: (-1) COVIDsignatures.Rd:54: Lost braces in \itemize; meant \describe ?
checkRd: (-1) COVIDsignatures.Rd:55: Lost braces in \itemize; meant \describe ?
checkRd: (-1) COVIDsignatures.Rd:56: Lost braces in \itemize; meant \describe ?
checkRd: (-1) COVIDsignatures.Rd:57: Lost braces in \itemize; meant \describe ?
checkRd: (-1) COVIDsignatures.Rd:58: Lost braces in \itemize; meant \describe ?
checkRd: (-1) COVIDsignatures.Rd:59: Lost braces in \itemize; meant \describe ?
checkRd: (-1) TBcommon.Rd:12: Lost braces in \itemize; meant \describe ?
checkRd: (-1) TBcommon.Rd:13: Lost braces in \itemize; meant \describe ?
checkRd: (-1) TBcommon.Rd:14: Lost braces in \itemize; meant \describe ?
checkRd: (-1) TBcommon.Rd:15: Lost braces in \itemize; meant \describe ?
checkRd: (-1) TBcommon.Rd:16: Lost braces in \itemize; meant \describe ?
checkRd: (-1) TBcommon.Rd:17: Lost braces in \itemize; meant \describe ?
checkRd: (-1) TBcommon.Rd:18: Lost braces in \itemize; meant \describe ?
checkRd: (-1) TBcommon.Rd:19: Lost braces in \itemize; meant \describe ?
checkRd: (-1) TBcommon.Rd:20: Lost braces in \itemize; meant \describe ?
checkRd: (-1) TBcommon.Rd:21: Lost braces in \itemize; meant \describe ?
checkRd: (-1) TBcommon.Rd:22: Lost braces in \itemize; meant \describe ?
checkRd: (-1) TBcommon.Rd:23: Lost braces in \itemize; meant \describe ?
checkRd: (-1) TBcommon.Rd:24: Lost braces in \itemize; meant \describe ?
checkRd: (-1) TBcommon.Rd:25: Lost braces in \itemize; meant \describe ?
checkRd: (-1) TBcommon.Rd:26: Lost braces in \itemize; meant \describe ?
checkRd: (-1) TBcommon.Rd:27: Lost braces in \itemize; meant \describe ?
checkRd: (-1) TBcommon.Rd:28: Lost braces in \itemize; meant \describe ?
checkRd: (-1) TBcommon.Rd:29: Lost braces in \itemize; meant \describe ?
checkRd: (-1) TBcommon.Rd:30: Lost braces in \itemize; meant \describe ?
checkRd: (-1) TBcommon.Rd:31: Lost braces in \itemize; meant \describe ?
checkRd: (-1) TBcommon.Rd:32: Lost braces in \itemize; meant \describe ?
checkRd: (-1) TBcommon.Rd:33: Lost braces in \itemize; meant \describe ?
checkRd: (-1) TBcommon.Rd:34: Lost braces in \itemize; meant \describe ?
checkRd: (-1) TBcommon.Rd:35: Lost braces in \itemize; meant \describe ?
checkRd: (-1) TBcommon.Rd:36: Lost braces in \itemize; meant \describe ?
checkRd: (-1) TBcommon.Rd:37: Lost braces in \itemize; meant \describe ?
checkRd: (-1) TBcommon.Rd:38: Lost braces in \itemize; meant \describe ?
checkRd: (-1) TBcommon.Rd:39: Lost braces in \itemize; meant \describe ?
checkRd: (-1) TBcommon.Rd:40: Lost braces in \itemize; meant \describe ?
checkRd: (-1) TBcommon.Rd:41: Lost braces in \itemize; meant \describe ?
checkRd: (-1) TBcommon.Rd:42: Lost braces in \itemize; meant \describe ?
checkRd: (-1) TBcommon.Rd:43: Lost braces in \itemize; meant \describe ?
checkRd: (-1) TBcommon.Rd:44: Lost braces in \itemize; meant \describe ?
checkRd: (-1) TBcommon.Rd:45: Lost braces in \itemize; meant \describe ?
checkRd: (-1) TBcommon.Rd:46: Lost braces in \itemize; meant \describe ?
checkRd: (-1) TBcommon.Rd:47: Lost braces in \itemize; meant \describe ?
checkRd: (-1) TBcommon.Rd:48: Lost braces in \itemize; meant \describe ?
checkRd: (-1) TBcommon.Rd:49: Lost braces in \itemize; meant \describe ?
checkRd: (-1) TBcommon.Rd:50: Lost braces in \itemize; meant \describe ?
checkRd: (-1) TBcommon.Rd:51: Lost braces in \itemize; meant \describe ?
checkRd: (-1) TBcommon.Rd:52: Lost braces in \itemize; meant \describe ?
checkRd: (-1) TBcommon.Rd:53: Lost braces in \itemize; meant \describe ?
checkRd: (-1) TBcommon.Rd:54: Lost braces in \itemize; meant \describe ?
checkRd: (-1) TBcommon.Rd:55: Lost braces in \itemize; meant \describe ?
checkRd: (-1) TBcommon.Rd:56: Lost braces in \itemize; meant \describe ?
checkRd: (-1) TBcommon.Rd:57: Lost braces in \itemize; meant \describe ?
checkRd: (-1) TBcommon.Rd:58: Lost braces in \itemize; meant \describe ?
checkRd: (-1) TBcommon.Rd:59: Lost braces in \itemize; meant \describe ?
checkRd: (-1) TBcommon.Rd:60: Lost braces in \itemize; meant \describe ?
checkRd: (-1) TBcommon.Rd:61: Lost braces in \itemize; meant \describe ?
checkRd: (-1) TBcommon.Rd:62: Lost braces in \itemize; meant \describe ?
checkRd: (-1) TBcommon.Rd:64: Lost braces in \itemize; meant \describe ?
checkRd: (-1) TBcommon.Rd:65: Lost braces in \itemize; meant \describe ?
checkRd: (-1) TBcommon.Rd:66: Lost braces in \itemize; meant \describe ?
checkRd: (-1) TBcommon.Rd:67: Lost braces in \itemize; meant \describe ?
checkRd: (-1) TBcommon.Rd:68: Lost braces in \itemize; meant \describe ?
checkRd: (-1) TBcommon.Rd:69: Lost braces in \itemize; meant \describe ?
checkRd: (-1) TBcommon.Rd:70: Lost braces in \itemize; meant \describe ?
checkRd: (-1) TBcommon.Rd:71: Lost braces in \itemize; meant \describe ?
checkRd: (-1) TBcommon.Rd:72: Lost braces in \itemize; meant \describe ?
checkRd: (-1) TBcommon.Rd:73: Lost braces in \itemize; meant \describe ?
checkRd: (-1) TBcommon.Rd:74: Lost braces in \itemize; meant \describe ?
checkRd: (-1) TBcommon.Rd:75: Lost braces in \itemize; meant \describe ?
checkRd: (-1) TBcommon.Rd:76: Lost braces in \itemize; meant \describe ?
checkRd: (-1) TBcommon.Rd:77: Lost braces in \itemize; meant \describe ?
checkRd: (-1) TBcommon.Rd:78: Lost braces in \itemize; meant \describe ?
checkRd: (-1) TBcommon.Rd:79: Lost braces in \itemize; meant \describe ?
checkRd: (-1) TBcommon.Rd:80: Lost braces in \itemize; meant \describe ?
checkRd: (-1) TBcommon.Rd:81: Lost braces in \itemize; meant \describe ?
checkRd: (-1) TBcommon.Rd:82: Lost braces in \itemize; meant \describe ?
checkRd: (-1) TBcommon.Rd:83: Lost braces in \itemize; meant \describe ?
checkRd: (-1) TBcommon.Rd:84: Lost braces in \itemize; meant \describe ?
checkRd: (-1) TBcommon.Rd:85: Lost braces in \itemize; meant \describe ?
checkRd: (-1) TBcommon.Rd:86: Lost braces in \itemize; meant \describe ?
checkRd: (-1) TBcommon.Rd:87: Lost braces in \itemize; meant \describe ?
checkRd: (-1) TBcommon.Rd:88: Lost braces in \itemize; meant \describe ?
checkRd: (-1) TBcommon.Rd:89: Lost braces in \itemize; meant \describe ?
checkRd: (-1) TBsignatures.Rd:12: Lost braces in \itemize; meant \describe ?
checkRd: (-1) TBsignatures.Rd:13: Lost braces in \itemize; meant \describe ?
checkRd: (-1) TBsignatures.Rd:14: Lost braces in \itemize; meant \describe ?
checkRd: (-1) TBsignatures.Rd:15: Lost braces in \itemize; meant \describe ?
checkRd: (-1) TBsignatures.Rd:16: Lost braces in \itemize; meant \describe ?
checkRd: (-1) TBsignatures.Rd:17: Lost braces in \itemize; meant \describe ?
checkRd: (-1) TBsignatures.Rd:18: Lost braces in \itemize; meant \describe ?
checkRd: (-1) TBsignatures.Rd:19: Lost braces in \itemize; meant \describe ?
checkRd: (-1) TBsignatures.Rd:20: Lost braces in \itemize; meant \describe ?
checkRd: (-1) TBsignatures.Rd:21: Lost braces in \itemize; meant \describe ?
checkRd: (-1) TBsignatures.Rd:22: Lost braces in \itemize; meant \describe ?
checkRd: (-1) TBsignatures.Rd:23: Lost braces in \itemize; meant \describe ?
checkRd: (-1) TBsignatures.Rd:24: Lost braces in \itemize; meant \describe ?
checkRd: (-1) TBsignatures.Rd:25: Lost braces in \itemize; meant \describe ?
checkRd: (-1) TBsignatures.Rd:26: Lost braces in \itemize; meant \describe ?
checkRd: (-1) TBsignatures.Rd:27: Lost braces in \itemize; meant \describe ?
checkRd: (-1) TBsignatures.Rd:28: Lost braces in \itemize; meant \describe ?
checkRd: (-1) TBsignatures.Rd:29: Lost braces in \itemize; meant \describe ?
checkRd: (-1) TBsignatures.Rd:30: Lost braces in \itemize; meant \describe ?
checkRd: (-1) TBsignatures.Rd:31: Lost braces in \itemize; meant \describe ?
checkRd: (-1) TBsignatures.Rd:32: Lost braces in \itemize; meant \describe ?
checkRd: (-1) TBsignatures.Rd:33: Lost braces in \itemize; meant \describe ?
checkRd: (-1) TBsignatures.Rd:34: Lost braces in \itemize; meant \describe ?
checkRd: (-1) TBsignatures.Rd:35: Lost braces in \itemize; meant \describe ?
checkRd: (-1) TBsignatures.Rd:36: Lost braces in \itemize; meant \describe ?
checkRd: (-1) TBsignatures.Rd:37: Lost braces in \itemize; meant \describe ?
checkRd: (-1) TBsignatures.Rd:38: Lost braces in \itemize; meant \describe ?
checkRd: (-1) TBsignatures.Rd:39: Lost braces in \itemize; meant \describe ?
checkRd: (-1) TBsignatures.Rd:40: Lost braces in \itemize; meant \describe ?
checkRd: (-1) TBsignatures.Rd:41: Lost braces in \itemize; meant \describe ?
checkRd: (-1) TBsignatures.Rd:42: Lost braces in \itemize; meant \describe ?
checkRd: (-1) TBsignatures.Rd:43: Lost braces in \itemize; meant \describe ?
checkRd: (-1) TBsignatures.Rd:44: Lost braces in \itemize; meant \describe ?
checkRd: (-1) TBsignatures.Rd:45: Lost braces in \itemize; meant \describe ?
checkRd: (-1) TBsignatures.Rd:46: Lost braces in \itemize; meant \describe ?
checkRd: (-1) TBsignatures.Rd:47: Lost braces in \itemize; meant \describe ?
checkRd: (-1) TBsignatures.Rd:48: Lost braces in \itemize; meant \describe ?
checkRd: (-1) TBsignatures.Rd:49: Lost braces in \itemize; meant \describe ?
checkRd: (-1) TBsignatures.Rd:50: Lost braces in \itemize; meant \describe ?
checkRd: (-1) TBsignatures.Rd:51: Lost braces in \itemize; meant \describe ?
checkRd: (-1) TBsignatures.Rd:52: Lost braces in \itemize; meant \describe ?
checkRd: (-1) TBsignatures.Rd:53: Lost braces in \itemize; meant \describe ?
checkRd: (-1) TBsignatures.Rd:54: Lost braces in \itemize; meant \describe ?
checkRd: (-1) TBsignatures.Rd:55: Lost braces in \itemize; meant \describe ?
checkRd: (-1) TBsignatures.Rd:56: Lost braces in \itemize; meant \describe ?
checkRd: (-1) TBsignatures.Rd:57: Lost braces in \itemize; meant \describe ?
checkRd: (-1) TBsignatures.Rd:58: Lost braces in \itemize; meant \describe ?
checkRd: (-1) TBsignatures.Rd:59: Lost braces in \itemize; meant \describe ?
checkRd: (-1) TBsignatures.Rd:60: Lost braces in \itemize; meant \describe ?
checkRd: (-1) TBsignatures.Rd:61: Lost braces in \itemize; meant \describe ?
checkRd: (-1) TBsignatures.Rd:62: Lost braces in \itemize; meant \describe ?
checkRd: (-1) TBsignatures.Rd:64: Lost braces in \itemize; meant \describe ?
checkRd: (-1) TBsignatures.Rd:65: Lost braces in \itemize; meant \describe ?
checkRd: (-1) TBsignatures.Rd:66: Lost braces in \itemize; meant \describe ?
checkRd: (-1) TBsignatures.Rd:67: Lost braces in \itemize; meant \describe ?
checkRd: (-1) TBsignatures.Rd:68: Lost braces in \itemize; meant \describe ?
checkRd: (-1) TBsignatures.Rd:69: Lost braces in \itemize; meant \describe ?
checkRd: (-1) TBsignatures.Rd:70: Lost braces in \itemize; meant \describe ?
checkRd: (-1) TBsignatures.Rd:71: Lost braces in \itemize; meant \describe ?
checkRd: (-1) TBsignatures.Rd:72: Lost braces in \itemize; meant \describe ?
checkRd: (-1) TBsignatures.Rd:73: Lost braces in \itemize; meant \describe ?
checkRd: (-1) TBsignatures.Rd:74: Lost braces in \itemize; meant \describe ?
checkRd: (-1) TBsignatures.Rd:75: Lost braces in \itemize; meant \describe ?
checkRd: (-1) TBsignatures.Rd:76: Lost braces in \itemize; meant \describe ?
checkRd: (-1) TBsignatures.Rd:77: Lost braces in \itemize; meant \describe ?
checkRd: (-1) TBsignatures.Rd:78: Lost braces in \itemize; meant \describe ?
checkRd: (-1) TBsignatures.Rd:79: Lost braces in \itemize; meant \describe ?
checkRd: (-1) TBsignatures.Rd:80: Lost braces in \itemize; meant \describe ?
checkRd: (-1) TBsignatures.Rd:81: Lost braces in \itemize; meant \describe ?
checkRd: (-1) TBsignatures.Rd:82: Lost braces in \itemize; meant \describe ?
checkRd: (-1) TBsignatures.Rd:83: Lost braces in \itemize; meant \describe ?
checkRd: (-1) TBsignatures.Rd:84: Lost braces in \itemize; meant \describe ?
checkRd: (-1) TBsignatures.Rd:86: Lost braces in \itemize; meant \describe ?
checkRd: (-1) TBsignatures.Rd:87: Lost braces in \itemize; meant \describe ?
checkRd: (-1) TBsignatures.Rd:88: Lost braces in \itemize; meant \describe ?
checkRd: (-1) TBsignatures.Rd:89: Lost braces in \itemize; meant \describe ?
checkRd: (-1) TBsignatures.Rd:90: Lost braces in \itemize; meant \describe ?
checkRd: (-1) runTBsigProfiler.Rd:51: Lost braces
51 | be of the form <algorithm>_<signature>. It must be set to code{TRUE} if the
| ^
* checking Rd metadata ... OK
* checking Rd cross-references ... OK
* checking for missing documentation entries ... OK
* checking for code/documentation mismatches ... OK
* checking Rd \usage sections ... OK
* checking Rd contents ... OK
* checking for unstated dependencies in examples ... OK
* checking contents of ‘data’ directory ... OK
* checking data for non-ASCII characters ... OK
* checking LazyData ... OK
* checking data for ASCII and uncompressed saves ... OK
* checking files in ‘vignettes’ ... OK
* checking examples ... OK
Examples with CPU (user + system) or elapsed time > 5s
user system elapsed
bootstrapAUC 10.051 0.888 10.942
* checking for unstated dependencies in ‘tests’ ... OK
* checking tests ...
Running ‘packagecoverage.R’
Running ‘spelling.R’
Running ‘testthat.R’
OK
* checking for unstated dependencies in vignettes ... OK
* checking package vignettes ... OK
* checking re-building of vignette outputs ... OK
* checking PDF version of manual ... OK
* DONE
Status: 1 NOTE
See
‘/home/biocbuild/bbs-3.19-bioc/meat/TBSignatureProfiler.Rcheck/00check.log’
for details.
TBSignatureProfiler.Rcheck/00install.out
############################################################################## ############################################################################## ### ### Running command: ### ### /home/biocbuild/bbs-3.19-bioc/R/bin/R CMD INSTALL TBSignatureProfiler ### ############################################################################## ############################################################################## * installing to library ‘/home/biocbuild/bbs-3.19-bioc/R/site-library’ * installing *source* package ‘TBSignatureProfiler’ ... ** using staged installation ** R ** data *** moving datasets to lazyload DB ** inst ** byte-compile and prepare package for lazy loading ** help *** installing help indices ** building package indices ** installing vignettes ** testing if installed package can be loaded from temporary location ** testing if installed package can be loaded from final location ** testing if installed package keeps a record of temporary installation path * DONE (TBSignatureProfiler)
TBSignatureProfiler.Rcheck/tests/packagecoverage.Rout
R version 4.4.1 (2024-06-14) -- "Race for Your Life"
Copyright (C) 2024 The R Foundation for Statistical Computing
Platform: x86_64-pc-linux-gnu
R is free software and comes with ABSOLUTELY NO WARRANTY.
You are welcome to redistribute it under certain conditions.
Type 'license()' or 'licence()' for distribution details.
R is a collaborative project with many contributors.
Type 'contributors()' for more information and
'citation()' on how to cite R or R packages in publications.
Type 'demo()' for some demos, 'help()' for on-line help, or
'help.start()' for an HTML browser interface to help.
Type 'q()' to quit R.
> # Coverage Script
> # Run tests and generate Code Coverage Report
>
> # Look at a specific script ---------------------------------------------------
> #test_for_me <- function(codefile, testfile) {
> # test_file(testfile)
> # res <- covr::file_coverage(codefile, testfile)
> # print(res)
> # covr::report(res)
> #}
>
> #test_for_me("R/evaluate.R", "tests/testthat/test-evaluate.R")
> # Look at whole package -------------------------------------------------------
> # Gets percent coverage for entire package, by script
> #covr::package_coverage()
> #
> # Report with gui (probably the best here)
> #covr::report()
>
> proc.time()
user system elapsed
0.155 0.030 0.173
TBSignatureProfiler.Rcheck/tests/spelling.Rout
R version 4.4.1 (2024-06-14) -- "Race for Your Life"
Copyright (C) 2024 The R Foundation for Statistical Computing
Platform: x86_64-pc-linux-gnu
R is free software and comes with ABSOLUTELY NO WARRANTY.
You are welcome to redistribute it under certain conditions.
Type 'license()' or 'licence()' for distribution details.
R is a collaborative project with many contributors.
Type 'contributors()' for more information and
'citation()' on how to cite R or R packages in publications.
Type 'demo()' for some demos, 'help()' for on-line help, or
'help.start()' for an HTML browser interface to help.
Type 'q()' to quit R.
> if (requireNamespace("spelling", quietly = TRUE))
+ spelling::spell_check_test(vignettes = TRUE, error = FALSE,
+ skip_on_cran = TRUE)
NULL
>
> proc.time()
user system elapsed
0.153 0.034 0.177
TBSignatureProfiler.Rcheck/tests/testthat.Rout
R version 4.4.1 (2024-06-14) -- "Race for Your Life"
Copyright (C) 2024 The R Foundation for Statistical Computing
Platform: x86_64-pc-linux-gnu
R is free software and comes with ABSOLUTELY NO WARRANTY.
You are welcome to redistribute it under certain conditions.
Type 'license()' or 'licence()' for distribution details.
R is a collaborative project with many contributors.
Type 'contributors()' for more information and
'citation()' on how to cite R or R packages in publications.
Type 'demo()' for some demos, 'help()' for on-line help, or
'help.start()' for an HTML browser interface to help.
Type 'q()' to quit R.
> library(testthat)
> library(TBSignatureProfiler)
>
> test_check("TBSignatureProfiler")
|
| | 0%
|
|======================================================================| 100%
|
| | 0%
|
|======================================================================| 100%
|
| | 0%
|
|======================================================================| 100%
|
| | 0%
|
|======================================================================| 100%
|
| | 0%
|
|======================================================================| 100%
|
| | 0%
|
|======================================================================| 100%
|
| | 0%
|
|======================================================================| 100%
[1] "Calculating ranks..."
[1] "Calculating absolute values from ranks..."
[1] "Normalizing..."
[1] "Calculating ranks..."
[1] "Calculating absolute values from ranks..."
[1] "Normalizing..."
|
| | 0%
|
|======================================================================| 100%
|
| | 0%
|
|======================================================================| 100%
|
| | 0%
|
|======================================================================| 100%
|
| | 0%
|
|======================================================================| 100%
|
| | 0%
|
|======================================================================| 100%
|
| | 0%
|
|======================================================================| 100%
|
| | 0%
|
|======================================================================| 100%
|
| | 0%
|
|======================================================================| 100%
[1] "Calculating ranks..."
[1] "Calculating absolute values from ranks..."
[1] "Normalizing..."
[1] "Calculating ranks..."
[1] "Calculating absolute values from ranks..."
[1] "Normalizing..."
[1] "Calculating ranks..."
[1] "Calculating absolute values from ranks..."
[1] "Normalizing..."
================================================================================
[1] "Calculating ranks..."
[1] "Calculating absolute values from ranks..."
[1] "Normalizing..."
[1] "Calculating ranks..."
[1] "Calculating absolute values from ranks..."
[1] "Normalizing..."
[1] "Calculating ranks..."
[1] "Calculating absolute values from ranks..."
[1] "Normalizing..."
================================================================================
[1] "Calculating ranks..."
[1] "Calculating absolute values from ranks..."
[1] "Normalizing..."
[1] "Calculating ranks..."
[1] "Calculating absolute values from ranks..."
[1] "Normalizing..."
================================================================================
[1] "Calculating ranks..."
[1] "Calculating absolute values from ranks..."
[1] "Normalizing..."
[1] "Calculating ranks..."
[1] "Calculating absolute values from ranks..."
[1] "Normalizing..."
================================================================================
================================================================================
[ FAIL 0 | WARN 2 | SKIP 0 | PASS 136 ]
[ FAIL 0 | WARN 2 | SKIP 0 | PASS 136 ]
>
> proc.time()
user system elapsed
59.072 1.736 60.805
TBSignatureProfiler.Rcheck/TBSignatureProfiler-Ex.timings
| name | user | system | elapsed | |
| COVIDsignatures | 0.011 | 0.004 | 0.015 | |
| OriginalTrainingData | 0.001 | 0.000 | 0.001 | |
| SignatureQuantitative | 3.046 | 0.147 | 3.193 | |
| TBSPapp | 0.001 | 0.000 | 0.001 | |
| TB_hiv | 0.000 | 0.001 | 0.001 | |
| TB_indian | 0.000 | 0.001 | 0.001 | |
| TBcommon | 0.000 | 0.000 | 0.001 | |
| TBsignatures | 0.000 | 0.000 | 0.001 | |
| TBsignaturesSplit | 0.000 | 0.001 | 0.000 | |
| addTBsignature | 0.004 | 0.006 | 0.009 | |
| bootstrapAUC | 10.051 | 0.888 | 10.942 | |
| common_sigAnnotData | 0.001 | 0.000 | 0.001 | |
| compareAlgs | 1.462 | 0.047 | 1.509 | |
| compareBoxplots | 1.559 | 0.116 | 1.675 | |
| deseq2_norm_rle | 0.234 | 0.020 | 0.254 | |
| distinctColors | 0.001 | 0.000 | 0.001 | |
| evaluateOriginalModel | 0.203 | 0.000 | 0.203 | |
| mkAssay | 2.524 | 0.084 | 2.608 | |
| plotQuantitative | 1.347 | 0.060 | 1.407 | |
| runTBsigProfiler | 0.325 | 0.040 | 0.365 | |
| sigAnnotData | 0.001 | 0.000 | 0.001 | |
| signatureBoxplot | 0.688 | 0.008 | 0.696 | |
| signatureGeneHeatmap | 3.329 | 0.038 | 3.367 | |
| signatureHeatmap | 0.595 | 0.032 | 0.628 | |
| signatureROCplot | 0.653 | 0.012 | 0.665 | |
| signatureROCplot_CI | 4.734 | 0.072 | 4.807 | |
| tableAUC | 0.500 | 0.008 | 0.508 | |