| Back to Multiple platform build/check report for BioC 3.19: simplified long | 
 | 
This page was generated on 2024-05-09 11:41:29 -0400 (Thu, 09 May 2024).
| Hostname | OS | Arch (*) | R version | Installed pkgs | 
|---|---|---|---|---|
| nebbiolo1 | Linux (Ubuntu 22.04.3 LTS) | x86_64 | 4.4.0 (2024-04-24) -- "Puppy Cup" | 4748 | 
| palomino3 | Windows Server 2022 Datacenter | x64 | 4.4.0 (2024-04-24 ucrt) -- "Puppy Cup" | 4484 | 
| lconway | macOS 12.7.1 Monterey | x86_64 | 4.4.0 (2024-04-24) -- "Puppy Cup" | 4514 | 
| kunpeng2 | Linux (openEuler 22.03 LTS-SP1) | aarch64 | 4.4.0 beta (2024-04-15 r86425) -- "Puppy Cup" | 4480 | 
| Click on any hostname to see more info about the system (e.g. compilers) (*) as reported by 'uname -p', except on Windows and Mac OS X | ||||
| Package 2025/2300 | Hostname | OS / Arch | INSTALL | BUILD | CHECK | BUILD BIN | ||||||||
| SparseArray 1.4.3  (landing page) Hervé Pagès 
 | nebbiolo1 | Linux (Ubuntu 22.04.3 LTS) / x86_64 | OK | OK | OK |  | ||||||||
| palomino3 | Windows Server 2022 Datacenter / x64 | OK | OK | OK | OK |  | ||||||||
| lconway | macOS 12.7.1 Monterey / x86_64 | OK | OK | OK | OK |  | ||||||||
| kunpeng2 | Linux (openEuler 22.03 LTS-SP1) / aarch64 | OK | OK | OK | ||||||||||
| kjohnson3 | macOS 13.6.5 Ventura / arm64 | see weekly results here | ||||||||||||
| To the developers/maintainers of the SparseArray package: - Allow up to 24 hours (and sometimes 48 hours) for your latest push to git@git.bioconductor.org:packages/SparseArray.git to reflect on this report. See Troubleshooting Build Report for more information. - Use the following Renviron settings to reproduce errors and warnings. - If 'R CMD check' started to fail recently on the Linux builder(s) over a missing dependency, add the missing dependency to 'Suggests:' in your DESCRIPTION file. See Renviron.bioc for more information. - See Martin Grigorov's blog post for how to debug Linux ARM64 related issues on a x86_64 host. | 
| Package: SparseArray | 
| Version: 1.4.3 | 
| Command: /home/biocbuild/R/R-beta-2024-04-15_r86425/bin/R CMD INSTALL SparseArray | 
| StartedAt: 2024-05-08 20:07:54 -0000 (Wed, 08 May 2024) | 
| EndedAt: 2024-05-08 20:09:02 -0000 (Wed, 08 May 2024) | 
| EllapsedTime: 67.7 seconds | 
| RetCode: 0 | 
| Status: OK | 
##############################################################################
##############################################################################
###
### Running command:
###
###   /home/biocbuild/R/R-beta-2024-04-15_r86425/bin/R CMD INSTALL SparseArray
###
##############################################################################
##############################################################################
* installing to library ‘/home/biocbuild/R/R-beta-2024-04-15_r86425/site-library’
* installing *source* package ‘SparseArray’ ...
** using staged installation
** libs
using C compiler: ‘gcc (GCC) 10.3.1’
gcc -I"/home/biocbuild/R/R-beta-2024-04-15_r86425/include" -DNDEBUG  -I'/home/biocbuild/R/R-beta-2024-04-15_r86425/site-library/S4Vectors/include' -I'/home/biocbuild/R/R-beta-2024-04-15_r86425/site-library/IRanges/include' -I'/home/biocbuild/R/R-beta-2024-04-15_r86425/site-library/XVector/include' -I/usr/local/include   -fopenmp -fPIC  -g -O2  -Wall -c ExtendableJaggedArray.c -o ExtendableJaggedArray.o
ExtendableJaggedArray.c: In function ‘_move_ExtendableJaggedArrays_to_SVT’:
ExtendableJaggedArray.c:124:4: warning: ‘nzoffs’ may be used uninitialized in this function [-Wmaybe-uninitialized]
  124 |    free(nzoffs);
      |    ^~~~~~~~~~~~
ExtendableJaggedArray.c:128:4: warning: ‘nzvals’ may be used uninitialized in this function [-Wmaybe-uninitialized]
  128 |    free(nzvals);
      |    ^~~~~~~~~~~~
gcc -I"/home/biocbuild/R/R-beta-2024-04-15_r86425/include" -DNDEBUG  -I'/home/biocbuild/R/R-beta-2024-04-15_r86425/site-library/S4Vectors/include' -I'/home/biocbuild/R/R-beta-2024-04-15_r86425/site-library/IRanges/include' -I'/home/biocbuild/R/R-beta-2024-04-15_r86425/site-library/XVector/include' -I/usr/local/include   -fopenmp -fPIC  -g -O2  -Wall -c IRanges_stubs.c -o IRanges_stubs.o
gcc -I"/home/biocbuild/R/R-beta-2024-04-15_r86425/include" -DNDEBUG  -I'/home/biocbuild/R/R-beta-2024-04-15_r86425/site-library/S4Vectors/include' -I'/home/biocbuild/R/R-beta-2024-04-15_r86425/site-library/IRanges/include' -I'/home/biocbuild/R/R-beta-2024-04-15_r86425/site-library/XVector/include' -I/usr/local/include   -fopenmp -fPIC  -g -O2  -Wall -c R_init_SparseArray.c -o R_init_SparseArray.o
gcc -I"/home/biocbuild/R/R-beta-2024-04-15_r86425/include" -DNDEBUG  -I'/home/biocbuild/R/R-beta-2024-04-15_r86425/site-library/S4Vectors/include' -I'/home/biocbuild/R/R-beta-2024-04-15_r86425/site-library/IRanges/include' -I'/home/biocbuild/R/R-beta-2024-04-15_r86425/site-library/XVector/include' -I/usr/local/include   -fopenmp -fPIC  -g -O2  -Wall -c Rvector_summarization.c -o Rvector_summarization.o
Rvector_summarization.c:1274:12: warning: ‘count_NA_list_elts’ defined but not used [-Wunused-function]
 1274 | static int count_NA_list_elts(SEXP x)
      |            ^~~~~~~~~~~~~~~~~~
Rvector_summarization.c:1262:12: warning: ‘any_NA_list_elt’ defined but not used [-Wunused-function]
 1262 | static int any_NA_list_elt(SEXP x)
      |            ^~~~~~~~~~~~~~~
gcc -I"/home/biocbuild/R/R-beta-2024-04-15_r86425/include" -DNDEBUG  -I'/home/biocbuild/R/R-beta-2024-04-15_r86425/site-library/S4Vectors/include' -I'/home/biocbuild/R/R-beta-2024-04-15_r86425/site-library/IRanges/include' -I'/home/biocbuild/R/R-beta-2024-04-15_r86425/site-library/XVector/include' -I/usr/local/include   -fopenmp -fPIC  -g -O2  -Wall -c Rvector_utils.c -o Rvector_utils.o
gcc -I"/home/biocbuild/R/R-beta-2024-04-15_r86425/include" -DNDEBUG  -I'/home/biocbuild/R/R-beta-2024-04-15_r86425/site-library/S4Vectors/include' -I'/home/biocbuild/R/R-beta-2024-04-15_r86425/site-library/IRanges/include' -I'/home/biocbuild/R/R-beta-2024-04-15_r86425/site-library/XVector/include' -I/usr/local/include   -fopenmp -fPIC  -g -O2  -Wall -c S4Vectors_stubs.c -o S4Vectors_stubs.o
gcc -I"/home/biocbuild/R/R-beta-2024-04-15_r86425/include" -DNDEBUG  -I'/home/biocbuild/R/R-beta-2024-04-15_r86425/site-library/S4Vectors/include' -I'/home/biocbuild/R/R-beta-2024-04-15_r86425/site-library/IRanges/include' -I'/home/biocbuild/R/R-beta-2024-04-15_r86425/site-library/XVector/include' -I/usr/local/include   -fopenmp -fPIC  -g -O2  -Wall -c SBT_utils.c -o SBT_utils.o
gcc -I"/home/biocbuild/R/R-beta-2024-04-15_r86425/include" -DNDEBUG  -I'/home/biocbuild/R/R-beta-2024-04-15_r86425/site-library/S4Vectors/include' -I'/home/biocbuild/R/R-beta-2024-04-15_r86425/site-library/IRanges/include' -I'/home/biocbuild/R/R-beta-2024-04-15_r86425/site-library/XVector/include' -I/usr/local/include   -fopenmp -fPIC  -g -O2  -Wall -c SVT_SparseArray_class.c -o SVT_SparseArray_class.o
gcc -I"/home/biocbuild/R/R-beta-2024-04-15_r86425/include" -DNDEBUG  -I'/home/biocbuild/R/R-beta-2024-04-15_r86425/site-library/S4Vectors/include' -I'/home/biocbuild/R/R-beta-2024-04-15_r86425/site-library/IRanges/include' -I'/home/biocbuild/R/R-beta-2024-04-15_r86425/site-library/XVector/include' -I/usr/local/include   -fopenmp -fPIC  -g -O2  -Wall -c SparseArray_Complex_methods.c -o SparseArray_Complex_methods.o
gcc -I"/home/biocbuild/R/R-beta-2024-04-15_r86425/include" -DNDEBUG  -I'/home/biocbuild/R/R-beta-2024-04-15_r86425/site-library/S4Vectors/include' -I'/home/biocbuild/R/R-beta-2024-04-15_r86425/site-library/IRanges/include' -I'/home/biocbuild/R/R-beta-2024-04-15_r86425/site-library/XVector/include' -I/usr/local/include   -fopenmp -fPIC  -g -O2  -Wall -c SparseArray_Math_methods.c -o SparseArray_Math_methods.o
gcc -I"/home/biocbuild/R/R-beta-2024-04-15_r86425/include" -DNDEBUG  -I'/home/biocbuild/R/R-beta-2024-04-15_r86425/site-library/S4Vectors/include' -I'/home/biocbuild/R/R-beta-2024-04-15_r86425/site-library/IRanges/include' -I'/home/biocbuild/R/R-beta-2024-04-15_r86425/site-library/XVector/include' -I/usr/local/include   -fopenmp -fPIC  -g -O2  -Wall -c SparseArray_Ops_methods.c -o SparseArray_Ops_methods.o
gcc -I"/home/biocbuild/R/R-beta-2024-04-15_r86425/include" -DNDEBUG  -I'/home/biocbuild/R/R-beta-2024-04-15_r86425/site-library/S4Vectors/include' -I'/home/biocbuild/R/R-beta-2024-04-15_r86425/site-library/IRanges/include' -I'/home/biocbuild/R/R-beta-2024-04-15_r86425/site-library/XVector/include' -I/usr/local/include   -fopenmp -fPIC  -g -O2  -Wall -c SparseArray_abind.c -o SparseArray_abind.o
gcc -I"/home/biocbuild/R/R-beta-2024-04-15_r86425/include" -DNDEBUG  -I'/home/biocbuild/R/R-beta-2024-04-15_r86425/site-library/S4Vectors/include' -I'/home/biocbuild/R/R-beta-2024-04-15_r86425/site-library/IRanges/include' -I'/home/biocbuild/R/R-beta-2024-04-15_r86425/site-library/XVector/include' -I/usr/local/include   -fopenmp -fPIC  -g -O2  -Wall -c SparseArray_aperm.c -o SparseArray_aperm.o
gcc -I"/home/biocbuild/R/R-beta-2024-04-15_r86425/include" -DNDEBUG  -I'/home/biocbuild/R/R-beta-2024-04-15_r86425/site-library/S4Vectors/include' -I'/home/biocbuild/R/R-beta-2024-04-15_r86425/site-library/IRanges/include' -I'/home/biocbuild/R/R-beta-2024-04-15_r86425/site-library/XVector/include' -I/usr/local/include   -fopenmp -fPIC  -g -O2  -Wall -c SparseArray_class.c -o SparseArray_class.o
gcc -I"/home/biocbuild/R/R-beta-2024-04-15_r86425/include" -DNDEBUG  -I'/home/biocbuild/R/R-beta-2024-04-15_r86425/site-library/S4Vectors/include' -I'/home/biocbuild/R/R-beta-2024-04-15_r86425/site-library/IRanges/include' -I'/home/biocbuild/R/R-beta-2024-04-15_r86425/site-library/XVector/include' -I/usr/local/include   -fopenmp -fPIC  -g -O2  -Wall -c SparseArray_dim_tuning.c -o SparseArray_dim_tuning.o
gcc -I"/home/biocbuild/R/R-beta-2024-04-15_r86425/include" -DNDEBUG  -I'/home/biocbuild/R/R-beta-2024-04-15_r86425/site-library/S4Vectors/include' -I'/home/biocbuild/R/R-beta-2024-04-15_r86425/site-library/IRanges/include' -I'/home/biocbuild/R/R-beta-2024-04-15_r86425/site-library/XVector/include' -I/usr/local/include   -fopenmp -fPIC  -g -O2  -Wall -c SparseArray_subassignment.c -o SparseArray_subassignment.o
gcc -I"/home/biocbuild/R/R-beta-2024-04-15_r86425/include" -DNDEBUG  -I'/home/biocbuild/R/R-beta-2024-04-15_r86425/site-library/S4Vectors/include' -I'/home/biocbuild/R/R-beta-2024-04-15_r86425/site-library/IRanges/include' -I'/home/biocbuild/R/R-beta-2024-04-15_r86425/site-library/XVector/include' -I/usr/local/include   -fopenmp -fPIC  -g -O2  -Wall -c SparseArray_subsetting.c -o SparseArray_subsetting.o
gcc -I"/home/biocbuild/R/R-beta-2024-04-15_r86425/include" -DNDEBUG  -I'/home/biocbuild/R/R-beta-2024-04-15_r86425/site-library/S4Vectors/include' -I'/home/biocbuild/R/R-beta-2024-04-15_r86425/site-library/IRanges/include' -I'/home/biocbuild/R/R-beta-2024-04-15_r86425/site-library/XVector/include' -I/usr/local/include   -fopenmp -fPIC  -g -O2  -Wall -c SparseArray_summarization.c -o SparseArray_summarization.o
gcc -I"/home/biocbuild/R/R-beta-2024-04-15_r86425/include" -DNDEBUG  -I'/home/biocbuild/R/R-beta-2024-04-15_r86425/site-library/S4Vectors/include' -I'/home/biocbuild/R/R-beta-2024-04-15_r86425/site-library/IRanges/include' -I'/home/biocbuild/R/R-beta-2024-04-15_r86425/site-library/XVector/include' -I/usr/local/include   -fopenmp -fPIC  -g -O2  -Wall -c SparseMatrix_mult.c -o SparseMatrix_mult.o
SparseMatrix_mult.c:356:13: warning: ‘crossprod2_doublemat_doubleSV’ defined but not used [-Wunused-function]
  356 | static void crossprod2_doublemat_doubleSV(
      |             ^~~~~~~~~~~~~~~~~~~~~~~~~~~~~
SparseMatrix_mult.c:316:13: warning: ‘crossprod2_doubleSV_doublemat’ defined but not used [-Wunused-function]
  316 | static void crossprod2_doubleSV_doublemat(
      |             ^~~~~~~~~~~~~~~~~~~~~~~~~~~~~
gcc -I"/home/biocbuild/R/R-beta-2024-04-15_r86425/include" -DNDEBUG  -I'/home/biocbuild/R/R-beta-2024-04-15_r86425/site-library/S4Vectors/include' -I'/home/biocbuild/R/R-beta-2024-04-15_r86425/site-library/IRanges/include' -I'/home/biocbuild/R/R-beta-2024-04-15_r86425/site-library/XVector/include' -I/usr/local/include   -fopenmp -fPIC  -g -O2  -Wall -c SparseVec_Arith.c -o SparseVec_Arith.o
gcc -I"/home/biocbuild/R/R-beta-2024-04-15_r86425/include" -DNDEBUG  -I'/home/biocbuild/R/R-beta-2024-04-15_r86425/site-library/S4Vectors/include' -I'/home/biocbuild/R/R-beta-2024-04-15_r86425/site-library/IRanges/include' -I'/home/biocbuild/R/R-beta-2024-04-15_r86425/site-library/XVector/include' -I/usr/local/include   -fopenmp -fPIC  -g -O2  -Wall -c SparseVec_Compare.c -o SparseVec_Compare.o
gcc -I"/home/biocbuild/R/R-beta-2024-04-15_r86425/include" -DNDEBUG  -I'/home/biocbuild/R/R-beta-2024-04-15_r86425/site-library/S4Vectors/include' -I'/home/biocbuild/R/R-beta-2024-04-15_r86425/site-library/IRanges/include' -I'/home/biocbuild/R/R-beta-2024-04-15_r86425/site-library/XVector/include' -I/usr/local/include   -fopenmp -fPIC  -g -O2  -Wall -c SparseVec_Logic.c -o SparseVec_Logic.o
gcc -I"/home/biocbuild/R/R-beta-2024-04-15_r86425/include" -DNDEBUG  -I'/home/biocbuild/R/R-beta-2024-04-15_r86425/site-library/S4Vectors/include' -I'/home/biocbuild/R/R-beta-2024-04-15_r86425/site-library/IRanges/include' -I'/home/biocbuild/R/R-beta-2024-04-15_r86425/site-library/XVector/include' -I/usr/local/include   -fopenmp -fPIC  -g -O2  -Wall -c SparseVec_Math.c -o SparseVec_Math.o
gcc -I"/home/biocbuild/R/R-beta-2024-04-15_r86425/include" -DNDEBUG  -I'/home/biocbuild/R/R-beta-2024-04-15_r86425/site-library/S4Vectors/include' -I'/home/biocbuild/R/R-beta-2024-04-15_r86425/site-library/IRanges/include' -I'/home/biocbuild/R/R-beta-2024-04-15_r86425/site-library/XVector/include' -I/usr/local/include   -fopenmp -fPIC  -g -O2  -Wall -c SparseVec_dotprod.c -o SparseVec_dotprod.o
gcc -I"/home/biocbuild/R/R-beta-2024-04-15_r86425/include" -DNDEBUG  -I'/home/biocbuild/R/R-beta-2024-04-15_r86425/site-library/S4Vectors/include' -I'/home/biocbuild/R/R-beta-2024-04-15_r86425/site-library/IRanges/include' -I'/home/biocbuild/R/R-beta-2024-04-15_r86425/site-library/XVector/include' -I/usr/local/include   -fopenmp -fPIC  -g -O2  -Wall -c XVector_stubs.c -o XVector_stubs.o
gcc -I"/home/biocbuild/R/R-beta-2024-04-15_r86425/include" -DNDEBUG  -I'/home/biocbuild/R/R-beta-2024-04-15_r86425/site-library/S4Vectors/include' -I'/home/biocbuild/R/R-beta-2024-04-15_r86425/site-library/IRanges/include' -I'/home/biocbuild/R/R-beta-2024-04-15_r86425/site-library/XVector/include' -I/usr/local/include   -fopenmp -fPIC  -g -O2  -Wall -c coerceVector2.c -o coerceVector2.o
gcc -I"/home/biocbuild/R/R-beta-2024-04-15_r86425/include" -DNDEBUG  -I'/home/biocbuild/R/R-beta-2024-04-15_r86425/site-library/S4Vectors/include' -I'/home/biocbuild/R/R-beta-2024-04-15_r86425/site-library/IRanges/include' -I'/home/biocbuild/R/R-beta-2024-04-15_r86425/site-library/XVector/include' -I/usr/local/include   -fopenmp -fPIC  -g -O2  -Wall -c leaf_utils.c -o leaf_utils.o
gcc -I"/home/biocbuild/R/R-beta-2024-04-15_r86425/include" -DNDEBUG  -I'/home/biocbuild/R/R-beta-2024-04-15_r86425/site-library/S4Vectors/include' -I'/home/biocbuild/R/R-beta-2024-04-15_r86425/site-library/IRanges/include' -I'/home/biocbuild/R/R-beta-2024-04-15_r86425/site-library/XVector/include' -I/usr/local/include   -fopenmp -fPIC  -g -O2  -Wall -c matrixStats_methods.c -o matrixStats_methods.o
gcc -I"/home/biocbuild/R/R-beta-2024-04-15_r86425/include" -DNDEBUG  -I'/home/biocbuild/R/R-beta-2024-04-15_r86425/site-library/S4Vectors/include' -I'/home/biocbuild/R/R-beta-2024-04-15_r86425/site-library/IRanges/include' -I'/home/biocbuild/R/R-beta-2024-04-15_r86425/site-library/XVector/include' -I/usr/local/include   -fopenmp -fPIC  -g -O2  -Wall -c randomSparseArray.c -o randomSparseArray.o
gcc -I"/home/biocbuild/R/R-beta-2024-04-15_r86425/include" -DNDEBUG  -I'/home/biocbuild/R/R-beta-2024-04-15_r86425/site-library/S4Vectors/include' -I'/home/biocbuild/R/R-beta-2024-04-15_r86425/site-library/IRanges/include' -I'/home/biocbuild/R/R-beta-2024-04-15_r86425/site-library/XVector/include' -I/usr/local/include   -fopenmp -fPIC  -g -O2  -Wall -c readSparseCSV.c -o readSparseCSV.o
readSparseCSV.c: In function ‘C_readSparseCSV_as_SVT_SparseMatrix’:
readSparseCSV.c:148:3: warning: ‘nzoffs_buf’ may be used uninitialized in this function [-Wmaybe-uninitialized]
  148 |   IntAE_extend(ae, increase_buflength(ae->_buflength));
      |   ^~~~~~~~~~~~~~~~~~~~~~~~~~~~~~~~~~~~~~~~~~~~~~~~~~~~
readSparseCSV.c:296:22: note: ‘nzoffs_buf’ was declared here
  296 |  IntAE *nzvals_buf, *nzoffs_buf;
      |                      ^~~~~~~~~~
readSparseCSV.c:147:21: warning: ‘nzvals_buf’ may be used uninitialized in this function [-Wmaybe-uninitialized]
  147 |  if (ae->_nelt == ae->_buflength)
      |                   ~~^~~~~~~~~~~~
readSparseCSV.c:296:9: note: ‘nzvals_buf’ was declared here
  296 |  IntAE *nzvals_buf, *nzoffs_buf;
      |         ^~~~~~~~~~
gcc -I"/home/biocbuild/R/R-beta-2024-04-15_r86425/include" -DNDEBUG  -I'/home/biocbuild/R/R-beta-2024-04-15_r86425/site-library/S4Vectors/include' -I'/home/biocbuild/R/R-beta-2024-04-15_r86425/site-library/IRanges/include' -I'/home/biocbuild/R/R-beta-2024-04-15_r86425/site-library/XVector/include' -I/usr/local/include   -fopenmp -fPIC  -g -O2  -Wall -c rowsum_methods.c -o rowsum_methods.o
gcc -I"/home/biocbuild/R/R-beta-2024-04-15_r86425/include" -DNDEBUG  -I'/home/biocbuild/R/R-beta-2024-04-15_r86425/site-library/S4Vectors/include' -I'/home/biocbuild/R/R-beta-2024-04-15_r86425/site-library/IRanges/include' -I'/home/biocbuild/R/R-beta-2024-04-15_r86425/site-library/XVector/include' -I/usr/local/include   -fopenmp -fPIC  -g -O2  -Wall -c sparseMatrix_utils.c -o sparseMatrix_utils.o
gcc -I"/home/biocbuild/R/R-beta-2024-04-15_r86425/include" -DNDEBUG  -I'/home/biocbuild/R/R-beta-2024-04-15_r86425/site-library/S4Vectors/include' -I'/home/biocbuild/R/R-beta-2024-04-15_r86425/site-library/IRanges/include' -I'/home/biocbuild/R/R-beta-2024-04-15_r86425/site-library/XVector/include' -I/usr/local/include   -fopenmp -fPIC  -g -O2  -Wall -c test.c -o test.o
gcc -I"/home/biocbuild/R/R-beta-2024-04-15_r86425/include" -DNDEBUG  -I'/home/biocbuild/R/R-beta-2024-04-15_r86425/site-library/S4Vectors/include' -I'/home/biocbuild/R/R-beta-2024-04-15_r86425/site-library/IRanges/include' -I'/home/biocbuild/R/R-beta-2024-04-15_r86425/site-library/XVector/include' -I/usr/local/include   -fopenmp -fPIC  -g -O2  -Wall -c thread_control.c -o thread_control.o
gcc -shared -L/home/biocbuild/R/R-beta-2024-04-15_r86425/lib -L/usr/local/lib -o SparseArray.so ExtendableJaggedArray.o IRanges_stubs.o R_init_SparseArray.o Rvector_summarization.o Rvector_utils.o S4Vectors_stubs.o SBT_utils.o SVT_SparseArray_class.o SparseArray_Complex_methods.o SparseArray_Math_methods.o SparseArray_Ops_methods.o SparseArray_abind.o SparseArray_aperm.o SparseArray_class.o SparseArray_dim_tuning.o SparseArray_subassignment.o SparseArray_subsetting.o SparseArray_summarization.o SparseMatrix_mult.o SparseVec_Arith.o SparseVec_Compare.o SparseVec_Logic.o SparseVec_Math.o SparseVec_dotprod.o XVector_stubs.o coerceVector2.o leaf_utils.o matrixStats_methods.o randomSparseArray.o readSparseCSV.o rowsum_methods.o sparseMatrix_utils.o test.o thread_control.o -fopenmp -L/home/biocbuild/R/R-beta-2024-04-15_r86425/lib -lR
installing to /home/biocbuild/R/R-beta-2024-04-15_r86425/site-library/00LOCK-SparseArray/00new/SparseArray/libs
** R
** inst
** byte-compile and prepare package for lazy loading
** help
*** installing help indices
** building package indices
** installing vignettes
** testing if installed package can be loaded from temporary location
** checking absolute paths in shared objects and dynamic libraries
** testing if installed package can be loaded from final location
** testing if installed package keeps a record of temporary installation path
* DONE (SparseArray)