| Back to Multiple platform build/check report for BioC 3.19: simplified long | 
 | 
This page was generated on 2024-10-18 20:41 -0400 (Fri, 18 Oct 2024).
| Hostname | OS | Arch (*) | R version | Installed pkgs | 
|---|---|---|---|---|
| nebbiolo1 | Linux (Ubuntu 22.04.3 LTS) | x86_64 | 4.4.1 (2024-06-14) -- "Race for Your Life" | 4763 | 
| palomino7 | Windows Server 2022 Datacenter | x64 | 4.4.1 (2024-06-14 ucrt) -- "Race for Your Life" | 4500 | 
| merida1 | macOS 12.7.5 Monterey | x86_64 | 4.4.1 (2024-06-14) -- "Race for Your Life" | 4530 | 
| kjohnson1 | macOS 13.6.6 Ventura | arm64 | 4.4.1 (2024-06-14) -- "Race for Your Life" | 4480 | 
| Click on any hostname to see more info about the system (e.g. compilers) (*) as reported by 'uname -p', except on Windows and Mac OS X | ||||
| Package 1949/2300 | Hostname | OS / Arch | INSTALL | BUILD | CHECK | BUILD BIN | ||||||||
| SeqSQC 1.26.0  (landing page) Qian Liu 
 | nebbiolo1 | Linux (Ubuntu 22.04.3 LTS) / x86_64 | OK | OK | WARNINGS |  | ||||||||
| palomino7 | Windows Server 2022 Datacenter / x64 | OK | OK | WARNINGS | OK |  | ||||||||
| merida1 | macOS 12.7.5 Monterey / x86_64 | OK | OK | WARNINGS | OK |  | ||||||||
| kjohnson1 | macOS 13.6.6 Ventura / arm64 | OK | OK | WARNINGS | NA | |||||||||
| To the developers/maintainers of the SeqSQC package: - Allow up to 24 hours (and sometimes 48 hours) for your latest push to git@git.bioconductor.org:packages/SeqSQC.git to reflect on this report. See Troubleshooting Build Report for more information. - Use the following Renviron settings to reproduce errors and warnings. - If 'R CMD check' started to fail recently on the Linux builder(s) over a missing dependency, add the missing dependency to 'Suggests:' in your DESCRIPTION file. See Renviron.bioc for more information. | 
| Package: SeqSQC | 
| Version: 1.26.0 | 
| Command: /Library/Frameworks/R.framework/Resources/bin/R CMD check --install=check:SeqSQC.install-out.txt --library=/Library/Frameworks/R.framework/Resources/library --no-vignettes --timings SeqSQC_1.26.0.tar.gz | 
| StartedAt: 2024-10-17 13:04:05 -0400 (Thu, 17 Oct 2024) | 
| EndedAt: 2024-10-17 13:11:08 -0400 (Thu, 17 Oct 2024) | 
| EllapsedTime: 422.8 seconds | 
| RetCode: 0 | 
| Status: WARNINGS | 
| CheckDir: SeqSQC.Rcheck | 
| Warnings: 1 | 
##############################################################################
##############################################################################
###
### Running command:
###
###   /Library/Frameworks/R.framework/Resources/bin/R CMD check --install=check:SeqSQC.install-out.txt --library=/Library/Frameworks/R.framework/Resources/library --no-vignettes --timings SeqSQC_1.26.0.tar.gz
###
##############################################################################
##############################################################################
* using log directory ‘/Users/biocbuild/bbs-3.19-bioc/meat/SeqSQC.Rcheck’
* using R version 4.4.1 (2024-06-14)
* using platform: x86_64-apple-darwin20
* R was compiled by
    Apple clang version 14.0.0 (clang-1400.0.29.202)
    GNU Fortran (GCC) 12.2.0
* running under: macOS Monterey 12.7.6
* using session charset: UTF-8
* using option ‘--no-vignettes’
* checking for file ‘SeqSQC/DESCRIPTION’ ... OK
* this is package ‘SeqSQC’ version ‘1.26.0’
* package encoding: UTF-8
* checking package namespace information ... OK
* checking package dependencies ... OK
* checking if this is a source package ... OK
* checking if there is a namespace ... OK
* checking for hidden files and directories ... OK
* checking for portable file names ... OK
* checking for sufficient/correct file permissions ... OK
* checking whether package ‘SeqSQC’ can be installed ... WARNING
Found the following significant warnings:
  Warning: replacing previous import ‘S4Vectors::rename’ by ‘plotly::rename’ when loading ‘SeqSQC’
  Warning: replacing previous import ‘IRanges::slice’ by ‘plotly::slice’ when loading ‘SeqSQC’
  Warning: replacing previous import ‘ggplot2::last_plot’ by ‘plotly::last_plot’ when loading ‘SeqSQC’
See ‘/Users/biocbuild/bbs-3.19-bioc/meat/SeqSQC.Rcheck/00install.out’ for details.
* checking installed package size ... OK
* checking package directory ... OK
* checking ‘build’ directory ... OK
* checking DESCRIPTION meta-information ... OK
* checking top-level files ... OK
* checking for left-over files ... OK
* checking index information ... OK
* checking package subdirectories ... NOTE
Problems with news in ‘NEWS’:
  Cannot process chunk/lines:
    Load benchmark data from ExperimentHub
  Cannot process chunk/lines:
    o added in the R script, will download only once with first time running of the LoadVfile() or sampleQC().
  Cannot process chunk/lines:
    Bioconductor submission check: 
  Cannot process chunk/lines:
    o Added unit test.
  Cannot process chunk/lines:
    o Added a NEWS file to keep track of changes
  Cannot process chunk/lines:
    o Added zzz.R to fix the no visible binding for global functions or variables. 
  Cannot process chunk/lines:
    o Added the "example_sub.vcf" for 1000 lines of variants to run as example in the package vignette.
  Cannot process chunk/lines:
    o Added accessor methods for SeqSQCclass data structure to get the slots of "gdsfile" and "QCresult".
  Cannot process chunk/lines:
    Vignettes: 
  Cannot process chunk/lines:
    o Added bioconductor installation and library load section in the vignette. 
  Cannot process chunk/lines:
    o Added runnable example vcf file added in "inst/extdata/example_sub.vcf", with 1000 lines of variants. 
  Cannot process chunk/lines:
    MAN: 
  Cannot process chunk/lines:
    o added package documentation for dataset, class, methods and constructor.
* checking code files for non-ASCII characters ... OK
* checking R files for syntax errors ... OK
* checking whether the package can be loaded ... OK
* checking whether the package can be loaded with stated dependencies ... OK
* checking whether the package can be unloaded cleanly ... OK
* checking whether the namespace can be loaded with stated dependencies ... OK
* checking whether the namespace can be unloaded cleanly ... OK
* checking whether startup messages can be suppressed ... OK
* checking dependencies in R code ... OK
* checking S3 generic/method consistency ... OK
* checking replacement functions ... OK
* checking foreign function calls ... OK
* checking R code for possible problems ... OK
* checking Rd files ... OK
* checking Rd metadata ... OK
* checking Rd cross-references ... OK
* checking for missing documentation entries ... OK
* checking for code/documentation mismatches ... OK
* checking Rd \usage sections ... OK
* checking Rd contents ... OK
* checking for unstated dependencies in examples ... OK
* checking files in ‘vignettes’ ... OK
* checking examples ... OK
Examples with CPU (user + system) or elapsed time > 5s
               user system elapsed
LoadVfile    26.050  6.461  42.821
Inbreeding    5.943  0.245   7.477
RenderReport  5.616  0.538   7.449
* checking for unstated dependencies in ‘tests’ ... OK
* checking tests ...
  Running ‘testthat.R’
 OK
* checking for unstated dependencies in vignettes ... OK
* checking package vignettes ... OK
* checking running R code from vignettes ... SKIPPED
* checking re-building of vignette outputs ... SKIPPED
* checking PDF version of manual ... OK
* DONE
Status: 1 WARNING, 1 NOTE
See
  ‘/Users/biocbuild/bbs-3.19-bioc/meat/SeqSQC.Rcheck/00check.log’
for details.
SeqSQC.Rcheck/00install.out
############################################################################## ############################################################################## ### ### Running command: ### ### /Library/Frameworks/R.framework/Resources/bin/R CMD INSTALL SeqSQC ### ############################################################################## ############################################################################## * installing to library ‘/Library/Frameworks/R.framework/Versions/4.4-x86_64/Resources/library’ * installing *source* package ‘SeqSQC’ ... ** using staged installation ** R ** inst ** byte-compile and prepare package for lazy loading Warning: replacing previous import ‘S4Vectors::rename’ by ‘plotly::rename’ when loading ‘SeqSQC’ Warning: replacing previous import ‘IRanges::slice’ by ‘plotly::slice’ when loading ‘SeqSQC’ Warning: replacing previous import ‘ggplot2::last_plot’ by ‘plotly::last_plot’ when loading ‘SeqSQC’ ** help *** installing help indices ** building package indices ** installing vignettes ** testing if installed package can be loaded from temporary location Warning: replacing previous import ‘S4Vectors::rename’ by ‘plotly::rename’ when loading ‘SeqSQC’ Warning: replacing previous import ‘IRanges::slice’ by ‘plotly::slice’ when loading ‘SeqSQC’ Warning: replacing previous import ‘ggplot2::last_plot’ by ‘plotly::last_plot’ when loading ‘SeqSQC’ ** testing if installed package can be loaded from final location Warning: replacing previous import ‘S4Vectors::rename’ by ‘plotly::rename’ when loading ‘SeqSQC’ Warning: replacing previous import ‘IRanges::slice’ by ‘plotly::slice’ when loading ‘SeqSQC’ Warning: replacing previous import ‘ggplot2::last_plot’ by ‘plotly::last_plot’ when loading ‘SeqSQC’ ** testing if installed package keeps a record of temporary installation path * DONE (SeqSQC)
SeqSQC.Rcheck/tests/testthat.Rout
R version 4.4.1 (2024-06-14) -- "Race for Your Life"
Copyright (C) 2024 The R Foundation for Statistical Computing
Platform: x86_64-apple-darwin20
R is free software and comes with ABSOLUTELY NO WARRANTY.
You are welcome to redistribute it under certain conditions.
Type 'license()' or 'licence()' for distribution details.
R is a collaborative project with many contributors.
Type 'contributors()' for more information and
'citation()' on how to cite R or R packages in publications.
Type 'demo()' for some demos, 'help()' for on-line help, or
'help.start()' for an HTML browser interface to help.
Type 'q()' to quit R.
> library(testthat)
> library(SeqSQC)
Loading required package: ExperimentHub
Loading required package: BiocGenerics
Attaching package: 'BiocGenerics'
The following objects are masked from 'package:stats':
    IQR, mad, sd, var, xtabs
The following objects are masked from 'package:base':
    Filter, Find, Map, Position, Reduce, anyDuplicated, aperm, append,
    as.data.frame, basename, cbind, colnames, dirname, do.call,
    duplicated, eval, evalq, get, grep, grepl, intersect, is.unsorted,
    lapply, mapply, match, mget, order, paste, pmax, pmax.int, pmin,
    pmin.int, rank, rbind, rownames, sapply, setdiff, table, tapply,
    union, unique, unsplit, which.max, which.min
Loading required package: AnnotationHub
Loading required package: BiocFileCache
Loading required package: dbplyr
Loading required package: SNPRelate
Loading required package: gdsfmt
SNPRelate -- supported by Streaming SIMD Extensions 2 (SSE2)
Warning messages:
1: replacing previous import 'S4Vectors::rename' by 'plotly::rename' when loading 'SeqSQC' 
2: replacing previous import 'IRanges::slice' by 'plotly::slice' when loading 'SeqSQC' 
3: replacing previous import 'ggplot2::last_plot' by 'plotly::last_plot' when loading 'SeqSQC' 
> 
> test_check("SeqSQC")
[ FAIL 0 | WARN 0 | SKIP 0 | PASS 1 ]
> 
> proc.time()
   user  system elapsed 
 12.533   0.779  16.471 
SeqSQC.Rcheck/SeqSQC-Ex.timings
| name | user | system | elapsed | |
| IBDCheck | 0.702 | 0.040 | 0.869 | |
| IBDRemove | 0.584 | 0.029 | 0.762 | |
| Inbreeding | 5.943 | 0.245 | 7.477 | |
| LoadVfile | 26.050 | 6.461 | 42.821 | |
| MissingRate | 0.546 | 0.178 | 0.886 | |
| PCACheck | 0.620 | 0.046 | 0.806 | |
| RenderReport | 5.616 | 0.538 | 7.449 | |
| SeqOpen | 0.079 | 0.005 | 0.084 | |
| SeqSQC-class | 0.018 | 0.002 | 0.019 | |
| SexCheck | 0.496 | 0.028 | 0.630 | |
| plotQC | 0.489 | 0.012 | 0.621 | |
| problemList | 0.030 | 0.002 | 0.044 | |
| sampleQC | 0.001 | 0.000 | 0.001 | |