| Back to Multiple platform build/check report for BioC 3.19: simplified long | 
 | 
This page was generated on 2024-05-09 11:41:26 -0400 (Thu, 09 May 2024).
| Hostname | OS | Arch (*) | R version | Installed pkgs | 
|---|---|---|---|---|
| nebbiolo1 | Linux (Ubuntu 22.04.3 LTS) | x86_64 | 4.4.0 (2024-04-24) -- "Puppy Cup" | 4748 | 
| palomino3 | Windows Server 2022 Datacenter | x64 | 4.4.0 (2024-04-24 ucrt) -- "Puppy Cup" | 4484 | 
| lconway | macOS 12.7.1 Monterey | x86_64 | 4.4.0 (2024-04-24) -- "Puppy Cup" | 4514 | 
| kunpeng2 | Linux (openEuler 22.03 LTS-SP1) | aarch64 | 4.4.0 beta (2024-04-15 r86425) -- "Puppy Cup" | 4480 | 
| Click on any hostname to see more info about the system (e.g. compilers) (*) as reported by 'uname -p', except on Windows and Mac OS X | ||||
| Package 1917/2300 | Hostname | OS / Arch | INSTALL | BUILD | CHECK | BUILD BIN | ||||||||
| ScreenR 1.6.0  (landing page) Emanuel Michele Soda 
 | nebbiolo1 | Linux (Ubuntu 22.04.3 LTS) / x86_64 | OK | OK | OK |  | ||||||||
| palomino3 | Windows Server 2022 Datacenter / x64 | OK | OK | OK | OK |  | ||||||||
| lconway | macOS 12.7.1 Monterey / x86_64 | OK | OK | OK | OK |  | ||||||||
| kunpeng2 | Linux (openEuler 22.03 LTS-SP1) / aarch64 | OK | OK | OK | ||||||||||
| kjohnson3 | macOS 13.6.5 Ventura / arm64 | see weekly results here | ||||||||||||
| To the developers/maintainers of the ScreenR package: - Allow up to 24 hours (and sometimes 48 hours) for your latest push to git@git.bioconductor.org:packages/ScreenR.git to reflect on this report. See Troubleshooting Build Report for more information. - Use the following Renviron settings to reproduce errors and warnings. - If 'R CMD check' started to fail recently on the Linux builder(s) over a missing dependency, add the missing dependency to 'Suggests:' in your DESCRIPTION file. See Renviron.bioc for more information. - See Martin Grigorov's blog post for how to debug Linux ARM64 related issues on a x86_64 host. | 
| Package: ScreenR | 
| Version: 1.6.0 | 
| Command: /home/biocbuild/R/R-beta-2024-04-15_r86425/bin/R CMD check --install=check:ScreenR.install-out.txt --library=/home/biocbuild/R/R-beta-2024-04-15_r86425/site-library --no-vignettes --timings ScreenR_1.6.0.tar.gz | 
| StartedAt: 2024-05-09 11:46:16 -0000 (Thu, 09 May 2024) | 
| EndedAt: 2024-05-09 11:51:49 -0000 (Thu, 09 May 2024) | 
| EllapsedTime: 332.5 seconds | 
| RetCode: 0 | 
| Status: OK | 
| CheckDir: ScreenR.Rcheck | 
| Warnings: 0 | 
##############################################################################
##############################################################################
###
### Running command:
###
###   /home/biocbuild/R/R-beta-2024-04-15_r86425/bin/R CMD check --install=check:ScreenR.install-out.txt --library=/home/biocbuild/R/R-beta-2024-04-15_r86425/site-library --no-vignettes --timings ScreenR_1.6.0.tar.gz
###
##############################################################################
##############################################################################
* using log directory ‘/home/biocbuild/bbs-3.19-bioc/meat/ScreenR.Rcheck’
* using R version 4.4.0 beta (2024-04-15 r86425)
* using platform: aarch64-unknown-linux-gnu
* R was compiled by
    gcc (GCC) 10.3.1
    GNU Fortran (GCC) 10.3.1
* running under: openEuler 22.03 (LTS-SP1)
* using session charset: UTF-8
* using option ‘--no-vignettes’
* checking for file ‘ScreenR/DESCRIPTION’ ... OK
* checking extension type ... Package
* this is package ‘ScreenR’ version ‘1.6.0’
* package encoding: UTF-8
* checking package namespace information ... OK
* checking package dependencies ... OK
* checking if this is a source package ... OK
* checking if there is a namespace ... OK
* checking for hidden files and directories ... OK
* checking for portable file names ... OK
* checking for sufficient/correct file permissions ... OK
* checking whether package ‘ScreenR’ can be installed ... OK
* checking installed package size ... OK
* checking package directory ... OK
* checking ‘build’ directory ... OK
* checking DESCRIPTION meta-information ... OK
* checking top-level files ... OK
* checking for left-over files ... OK
* checking index information ... OK
* checking package subdirectories ... OK
* checking code files for non-ASCII characters ... OK
* checking R files for syntax errors ... OK
* checking whether the package can be loaded ... OK
* checking whether the package can be loaded with stated dependencies ... OK
* checking whether the package can be unloaded cleanly ... OK
* checking whether the namespace can be loaded with stated dependencies ... OK
* checking whether the namespace can be unloaded cleanly ... OK
* checking loading without being on the library search path ... OK
* checking whether startup messages can be suppressed ... OK
* checking dependencies in R code ... OK
* checking S3 generic/method consistency ... OK
* checking replacement functions ... OK
* checking foreign function calls ... OK
* checking R code for possible problems ... OK
* checking Rd files ... NOTE
checkRd: (-1) annotation_table.Rd:25: Lost braces
    25 |                  \url{https://cellecta.com/}{cellecta}}
       |                                             ^
* checking Rd metadata ... OK
* checking Rd cross-references ... OK
* checking for missing documentation entries ... OK
* checking for code/documentation mismatches ... OK
* checking Rd \usage sections ... NOTE
Documented arguments not in \usage in Rd file 'compute_camera.Rd':
  ‘...’
Documented arguments not in \usage in Rd file 'select_number_barcode.Rd':
  ‘...’
Documented arguments not in \usage in Rd file 'unique_gene_symbols.Rd':
  ‘...’
Functions with \usage entries need to have the appropriate \alias
entries, and all their arguments documented.
The \usage entries must correspond to syntactically valid R code.
See chapter ‘Writing R documentation files’ in the ‘Writing R
Extensions’ manual.
* checking Rd contents ... OK
* checking for unstated dependencies in examples ... OK
* checking contents of ‘data’ directory ... OK
* checking data for non-ASCII characters ... OK
* checking data for ASCII and uncompressed saves ... OK
* checking R/sysdata.rda ... OK
* checking files in ‘vignettes’ ... OK
* checking examples ... OK
Examples with CPU (user + system) or elapsed time > 5s
                           user system elapsed
plot_barcode_trend       62.584  1.777  64.491
plot_zscore_distribution 60.828  1.656  62.614
compute_metrics          35.972  1.222  37.276
find_zscore_hit          30.153  0.211  30.424
find_robust_zscore_hit   29.327  0.383  29.772
* checking for unstated dependencies in ‘tests’ ... OK
* checking tests ...
  Running ‘testthat.R’
 OK
* checking for unstated dependencies in vignettes ... OK
* checking package vignettes ... OK
* checking running R code from vignettes ... SKIPPED
* checking re-building of vignette outputs ... SKIPPED
* checking PDF version of manual ... OK
* DONE
Status: 2 NOTEs
See
  ‘/home/biocbuild/bbs-3.19-bioc/meat/ScreenR.Rcheck/00check.log’
for details.
ScreenR.Rcheck/00install.out
############################################################################## ############################################################################## ### ### Running command: ### ### /home/biocbuild/R/R-beta-2024-04-15_r86425/bin/R CMD INSTALL ScreenR ### ############################################################################## ############################################################################## * installing to library ‘/home/biocbuild/R/R-beta-2024-04-15_r86425/site-library’ * installing *source* package ‘ScreenR’ ... ** using staged installation ** R ** data ** inst ** byte-compile and prepare package for lazy loading ** help *** installing help indices *** copying figures ** building package indices ** installing vignettes ** testing if installed package can be loaded from temporary location ** testing if installed package can be loaded from final location ** testing if installed package keeps a record of temporary installation path * DONE (ScreenR)
ScreenR.Rcheck/tests/testthat.Rout
R version 4.4.0 beta (2024-04-15 r86425) -- "Puppy Cup"
Copyright (C) 2024 The R Foundation for Statistical Computing
Platform: aarch64-unknown-linux-gnu
R is free software and comes with ABSOLUTELY NO WARRANTY.
You are welcome to redistribute it under certain conditions.
Type 'license()' or 'licence()' for distribution details.
R is a collaborative project with many contributors.
Type 'contributors()' for more information and
'citation()' on how to cite R or R packages in publications.
Type 'demo()' for some demos, 'help()' for on-line help, or
'help.start()' for an HTML browser interface to help.
Type 'q()' to quit R.
> library(testthat)
> library(ScreenR)
Welcome to ScreenR
--------------------------
See ?ScreenR for a list of
available functions.
Enjoy!
> 
> test_check("ScreenR")
ScreenR count table containing:
 5320 rows
 15 columns
ScreenR annotation table containing:
 5320 rows
 5 columns
ScreenR normalized count table containing:
 5320 rows
 15 columns
ScreenR normalized data table containing:
 74480 rows
 9 columns
ScreenR annotation table containing:
 5320 rows
 5 columns
ScreenR annotation table containing:
 5320 rows
 5 columns
ScreenR count table containing:
 5320 rows
 15 columns
ScreenR count table containing:
 5320 rows
 15 columns
ScreenR normalized count table containing:
 5320 rows
 15 columns
ScreenR normalized count table containing:
 5320 rows
 15 columns
ScreenR normalized data table containing:
 74480 rows
 9 columns
ScreenR normalized data table containing:
 74480 rows
 9 columns
Using classic mode.
[ FAIL 0 | WARN 253 | SKIP 0 | PASS 64 ]
[ FAIL 0 | WARN 253 | SKIP 0 | PASS 64 ]
> 
> proc.time()
   user  system elapsed 
 34.041   0.598  34.703 
ScreenR.Rcheck/ScreenR-Ex.timings
| name | user | system | elapsed | |
| barcode_lost | 0.175 | 0.016 | 0.191 | |
| compute_data_table | 0.277 | 0.000 | 0.278 | |
| compute_explained_variance | 0.027 | 0.000 | 0.028 | |
| compute_metrics | 35.972 | 1.222 | 37.276 | |
| compute_slope | 0.058 | 0.004 | 0.062 | |
| count_mapped_reads | 0.050 | 0.004 | 0.053 | |
| create_edger_obj | 0.028 | 0.000 | 0.028 | |
| create_screenr_object | 0.059 | 0.000 | 0.059 | |
| filter_by_slope | 0.176 | 0.000 | 0.177 | |
| filter_by_variance | 1.552 | 0.004 | 1.559 | |
| find_camera_hit | 1.674 | 0.008 | 1.685 | |
| find_common_hit | 0.041 | 0.000 | 0.041 | |
| find_roast_hit | 2.570 | 0.008 | 2.583 | |
| find_robust_zscore_hit | 29.327 | 0.383 | 29.772 | |
| find_zscore_hit | 30.153 | 0.211 | 30.424 | |
| get_annotation_table | 0.022 | 0.000 | 0.022 | |
| get_count_table | 0.106 | 0.000 | 0.106 | |
| get_data_table | 0.047 | 0.000 | 0.047 | |
| get_groups | 0 | 0 | 0 | |
| get_normalized_count_table | 0.059 | 0.000 | 0.060 | |
| get_replicates | 0 | 0 | 0 | |
| mapped_reads | 0.07 | 0.00 | 0.07 | |
| normalize_data | 0.061 | 0.000 | 0.060 | |
| plot_barcode_hit | 1.933 | 0.004 | 1.940 | |
| plot_barcode_lost | 0.555 | 0.004 | 0.560 | |
| plot_barcode_lost_for_gene | 2.214 | 0.000 | 2.218 | |
| plot_barcode_trend | 62.584 | 1.777 | 64.491 | |
| plot_boxplot | 0.489 | 0.000 | 0.490 | |
| plot_common_hit | 0.259 | 0.000 | 0.261 | |
| plot_explained_variance | 0.494 | 0.008 | 0.504 | |
| plot_mapped_reads | 0.236 | 0.015 | 0.251 | |
| plot_mapped_reads_distribution | 2.232 | 0.004 | 2.240 | |
| plot_mds | 0.545 | 0.004 | 0.551 | |
| plot_trend | 1.924 | 0.040 | 1.969 | |
| plot_zscore_distribution | 60.828 | 1.656 | 62.614 | |
| remove_all_zero_row | 0.015 | 0.000 | 0.016 | |
| set_annotation_table | 0.189 | 0.004 | 0.193 | |
| set_count_table | 0.175 | 0.000 | 0.175 | |
| set_data_table | 0.179 | 0.000 | 0.179 | |
| set_groups | 0.189 | 0.000 | 0.189 | |
| set_normalized_count_table | 0.236 | 0.000 | 0.235 | |
| set_replicates | 0.174 | 0.000 | 0.175 | |