| Back to Multiple platform build/check report for BioC 3.19: simplified long |
|
This page was generated on 2024-10-18 20:38 -0400 (Fri, 18 Oct 2024).
| Hostname | OS | Arch (*) | R version | Installed pkgs |
|---|---|---|---|---|
| nebbiolo1 | Linux (Ubuntu 22.04.3 LTS) | x86_64 | 4.4.1 (2024-06-14) -- "Race for Your Life" | 4763 |
| palomino7 | Windows Server 2022 Datacenter | x64 | 4.4.1 (2024-06-14 ucrt) -- "Race for Your Life" | 4500 |
| merida1 | macOS 12.7.5 Monterey | x86_64 | 4.4.1 (2024-06-14) -- "Race for Your Life" | 4530 |
| kjohnson1 | macOS 13.6.6 Ventura | arm64 | 4.4.1 (2024-06-14) -- "Race for Your Life" | 4480 |
| Click on any hostname to see more info about the system (e.g. compilers) (*) as reported by 'uname -p', except on Windows and Mac OS X | ||||
| Package 1963/2300 | Hostname | OS / Arch | INSTALL | BUILD | CHECK | BUILD BIN | ||||||||
| SIAMCAT 2.8.0 (landing page) Jakob Wirbel
| nebbiolo1 | Linux (Ubuntu 22.04.3 LTS) / x86_64 | OK | OK | OK | |||||||||
| palomino7 | Windows Server 2022 Datacenter / x64 | OK | OK | OK | OK | |||||||||
| merida1 | macOS 12.7.5 Monterey / x86_64 | OK | OK | OK | OK | |||||||||
| kjohnson1 | macOS 13.6.6 Ventura / arm64 | OK | ERROR | skipped | skipped | |||||||||
|
To the developers/maintainers of the SIAMCAT package: - Allow up to 24 hours (and sometimes 48 hours) for your latest push to git@git.bioconductor.org:packages/SIAMCAT.git to reflect on this report. See Troubleshooting Build Report for more information. - Use the following Renviron settings to reproduce errors and warnings. - If 'R CMD check' started to fail recently on the Linux builder(s) over a missing dependency, add the missing dependency to 'Suggests:' in your DESCRIPTION file. See Renviron.bioc for more information. |
| Package: SIAMCAT |
| Version: 2.8.0 |
| Command: /home/biocbuild/bbs-3.19-bioc/R/bin/R CMD check --install=check:SIAMCAT.install-out.txt --library=/home/biocbuild/bbs-3.19-bioc/R/site-library --timings SIAMCAT_2.8.0.tar.gz |
| StartedAt: 2024-10-17 05:07:32 -0400 (Thu, 17 Oct 2024) |
| EndedAt: 2024-10-17 05:15:32 -0400 (Thu, 17 Oct 2024) |
| EllapsedTime: 480.1 seconds |
| RetCode: 0 |
| Status: OK |
| CheckDir: SIAMCAT.Rcheck |
| Warnings: 0 |
##############################################################################
##############################################################################
###
### Running command:
###
### /home/biocbuild/bbs-3.19-bioc/R/bin/R CMD check --install=check:SIAMCAT.install-out.txt --library=/home/biocbuild/bbs-3.19-bioc/R/site-library --timings SIAMCAT_2.8.0.tar.gz
###
##############################################################################
##############################################################################
* using log directory ‘/home/biocbuild/bbs-3.19-bioc/meat/SIAMCAT.Rcheck’
* using R version 4.4.1 (2024-06-14)
* using platform: x86_64-pc-linux-gnu
* R was compiled by
gcc (Ubuntu 11.4.0-1ubuntu1~22.04) 11.4.0
GNU Fortran (Ubuntu 11.4.0-1ubuntu1~22.04) 11.4.0
* running under: Ubuntu 22.04.5 LTS
* using session charset: UTF-8
* checking for file ‘SIAMCAT/DESCRIPTION’ ... OK
* checking extension type ... Package
* this is package ‘SIAMCAT’ version ‘2.8.0’
* package encoding: UTF-8
* checking package namespace information ... OK
* checking package dependencies ... OK
* checking if this is a source package ... OK
* checking if there is a namespace ... OK
* checking for hidden files and directories ... NOTE
Found the following hidden files and directories:
.travis.yml
These were most likely included in error. See section ‘Package
structure’ in the ‘Writing R Extensions’ manual.
* checking for portable file names ... OK
* checking for sufficient/correct file permissions ... OK
* checking whether package ‘SIAMCAT’ can be installed ... OK
* checking installed package size ... OK
* checking package directory ... OK
* checking ‘build’ directory ... OK
* checking DESCRIPTION meta-information ... OK
* checking top-level files ... OK
* checking for left-over files ... OK
* checking index information ... OK
* checking package subdirectories ... OK
* checking code files for non-ASCII characters ... OK
* checking R files for syntax errors ... OK
* checking whether the package can be loaded ... OK
* checking whether the package can be loaded with stated dependencies ... OK
* checking whether the package can be unloaded cleanly ... OK
* checking whether the namespace can be loaded with stated dependencies ... OK
* checking whether the namespace can be unloaded cleanly ... OK
* checking loading without being on the library search path ... OK
* checking dependencies in R code ... OK
* checking S3 generic/method consistency ... OK
* checking replacement functions ... OK
* checking foreign function calls ... OK
* checking R code for possible problems ... OK
* checking Rd files ... OK
* checking Rd metadata ... OK
* checking Rd cross-references ... OK
* checking for missing documentation entries ... OK
* checking for code/documentation mismatches ... OK
* checking Rd \usage sections ... OK
* checking Rd contents ... OK
* checking for unstated dependencies in examples ... OK
* checking contents of ‘data’ directory ... OK
* checking data for non-ASCII characters ... OK
* checking LazyData ... OK
* checking data for ASCII and uncompressed saves ... OK
* checking files in ‘vignettes’ ... OK
* checking examples ... OK
Examples with CPU (user + system) or elapsed time > 5s
user system elapsed
assign-model_list 21.210 0.403 21.615
make.predictions 20.464 0.272 20.735
train.model 19.813 0.695 20.509
model.interpretation.plot 19.544 0.252 19.796
* checking for unstated dependencies in vignettes ... OK
* checking package vignettes ... OK
* checking re-building of vignette outputs ... OK
* checking PDF version of manual ... OK
* DONE
Status: 1 NOTE
See
‘/home/biocbuild/bbs-3.19-bioc/meat/SIAMCAT.Rcheck/00check.log’
for details.
SIAMCAT.Rcheck/00install.out
############################################################################## ############################################################################## ### ### Running command: ### ### /home/biocbuild/bbs-3.19-bioc/R/bin/R CMD INSTALL SIAMCAT ### ############################################################################## ############################################################################## * installing to library ‘/home/biocbuild/bbs-3.19-bioc/R/site-library’ * installing *source* package ‘SIAMCAT’ ... ** using staged installation ** R ** data *** moving datasets to lazyload DB ** inst ** byte-compile and prepare package for lazy loading ** help *** installing help indices *** copying figures ** building package indices ** installing vignettes ** testing if installed package can be loaded from temporary location ** testing if installed package can be loaded from final location ** testing if installed package keeps a record of temporary installation path * DONE (SIAMCAT)
SIAMCAT.Rcheck/SIAMCAT-Ex.timings
| name | user | system | elapsed | |
| accessSlot | 0.006 | 0.003 | 0.010 | |
| add.meta.pred | 0.476 | 0.052 | 0.528 | |
| assign-associations | 0.006 | 0.000 | 0.006 | |
| assign-data_split | 0.006 | 0.000 | 0.006 | |
| assign-eval_data | 0.006 | 0.000 | 0.006 | |
| assign-filt_feat | 0.003 | 0.003 | 0.006 | |
| assign-label | 0.006 | 0.000 | 0.006 | |
| assign-meta | 0.024 | 0.000 | 0.024 | |
| assign-model_list | 21.210 | 0.403 | 21.615 | |
| assign-norm_feat | 0.006 | 0.000 | 0.007 | |
| assign-orig_feat | 0.011 | 0.000 | 0.011 | |
| assign-physeq | 0.006 | 0.000 | 0.006 | |
| assign-pred_matrix | 0.006 | 0.000 | 0.007 | |
| assoc_param-methods | 0.005 | 0.000 | 0.006 | |
| association.plot | 0.230 | 0.004 | 0.235 | |
| associations-methods | 0.009 | 0.000 | 0.009 | |
| check.associations | 0.009 | 0.000 | 0.009 | |
| check.confounders | 0.407 | 0.004 | 0.411 | |
| create.data.split | 0.019 | 0.000 | 0.018 | |
| create.label | 0.002 | 0.000 | 0.002 | |
| data_split-methods | 0.000 | 0.003 | 0.005 | |
| eval_data-methods | 0.005 | 0.000 | 0.005 | |
| evaluate.predictions | 1.47 | 0.02 | 1.49 | |
| feature_type-methods | 0.005 | 0.000 | 0.005 | |
| feature_weights-methods | 0.021 | 0.000 | 0.020 | |
| filt_feat-methods | 0.006 | 0.000 | 0.006 | |
| filt_params-methods | 0.006 | 0.000 | 0.005 | |
| filter.features | 0.016 | 0.000 | 0.016 | |
| filter.label | 0.007 | 0.000 | 0.008 | |
| get.filt_feat.matrix | 0.006 | 0.000 | 0.006 | |
| get.norm_feat.matrix | 0.006 | 0.000 | 0.005 | |
| get.orig_feat.matrix | 0.002 | 0.003 | 0.006 | |
| label-methods | 0.006 | 0.000 | 0.005 | |
| make.predictions | 20.464 | 0.272 | 20.735 | |
| meta-methods | 0.017 | 0.000 | 0.018 | |
| model.evaluation.plot | 0.023 | 0.000 | 0.023 | |
| model.interpretation.plot | 19.544 | 0.252 | 19.796 | |
| model_list-methods | 0.006 | 0.000 | 0.005 | |
| model_type-methods | 0.001 | 0.004 | 0.005 | |
| models-methods | 0.005 | 0.000 | 0.005 | |
| norm_feat-methods | 0.005 | 0.000 | 0.005 | |
| norm_params-methods | 0.005 | 0.001 | 0.005 | |
| normalize.features | 0.009 | 0.003 | 0.012 | |
| orig_feat-methods | 0.005 | 0.000 | 0.006 | |
| physeq-methods | 0.008 | 0.000 | 0.008 | |
| pred_matrix-methods | 0.001 | 0.004 | 0.005 | |
| read.label | 0.007 | 0.000 | 0.007 | |
| read.lefse | 0.596 | 0.004 | 0.600 | |
| select.samples | 0.049 | 0.000 | 0.048 | |
| siamcat | 0.731 | 0.060 | 0.790 | |
| siamcat.to.lefse | 0.021 | 0.000 | 0.020 | |
| siamcat.to.maaslin | 0.018 | 0.004 | 0.022 | |
| summarize.features | 1.278 | 0.024 | 1.303 | |
| train.model | 19.813 | 0.695 | 20.509 | |
| validate.data | 0.012 | 0.004 | 0.016 | |
| volcano.plot | 0.007 | 0.004 | 0.010 | |
| weight_matrix-methods | 0.005 | 0.000 | 0.005 | |