| Back to Multiple platform build/check report for BioC 3.19: simplified long | 
 | 
This page was generated on 2024-02-18 02:30:20 -0500 (Sun, 18 Feb 2024).
| Hostname | OS | Arch (*) | R version | Installed pkgs | 
|---|---|---|---|---|
| nebbiolo1 | Linux (Ubuntu 22.04.3 LTS) | x86_64 | R Under development (unstable) (2024-01-16 r85808) -- "Unsuffered Consequences" | 4657 | 
| palomino3 | Windows Server 2022 Datacenter | x64 | R Under development (unstable) (2024-01-14 r85805 ucrt) -- "Unsuffered Consequences" | 4397 | 
| merida1 | macOS 12.7.1 Monterey | x86_64 | R Under development (unstable) (2024-01-16 r85808) -- "Unsuffered Consequences" | 4424 | 
| kunpeng2 | Linux (openEuler 22.03 LTS-SP1) | aarch64 | R Under development (unstable) (2024-01-16 r85812) -- "Unsuffered Consequences" | 4400 | 
| Click on any hostname to see more info about the system (e.g. compilers) (*) as reported by 'uname -p', except on Windows and Mac OS X | ||||
| Package 1915/2244 | Hostname | OS / Arch | INSTALL | BUILD | CHECK | BUILD BIN | ||||||||
| SGCP 1.3.0  (landing page) Niloofar AghaieAbiane 
 | nebbiolo1 | Linux (Ubuntu 22.04.3 LTS) / x86_64 | OK | OK | OK |  | ||||||||
| palomino3 | Windows Server 2022 Datacenter / x64 | OK | OK | OK | OK |  | ||||||||
| merida1 | macOS 12.7.1 Monterey / x86_64 | OK | OK | OK | OK |  | ||||||||
| kunpeng2 | Linux (openEuler 22.03 LTS-SP1) / aarch64 | OK | OK | OK | ||||||||||
| To the developers/maintainers of the SGCP package: - Allow up to 24 hours (and sometimes 48 hours) for your latest push to git@git.bioconductor.org:packages/SGCP.git to reflect on this report. See Troubleshooting Build Report for more information. - Use the following Renviron settings to reproduce errors and warnings. - If 'R CMD check' started to fail recently on the Linux builder(s) over a missing dependency, add the missing dependency to 'Suggests:' in your DESCRIPTION file. See Renviron.bioc for more information. - See Martin Grigorov's blog post for how to debug Linux ARM64 related issues on a x86_64 host. | 
| Package: SGCP | 
| Version: 1.3.0 | 
| Command: /home/biocbuild/R/R-devel_2024-01-16_r85812/bin/R CMD check --install=check:SGCP.install-out.txt --library=/home/biocbuild/R/R-devel_2024-01-16_r85812/site-library --no-vignettes --timings SGCP_1.3.0.tar.gz | 
| StartedAt: 2024-02-17 10:06:14 -0000 (Sat, 17 Feb 2024) | 
| EndedAt: 2024-02-17 10:13:09 -0000 (Sat, 17 Feb 2024) | 
| EllapsedTime: 415.8 seconds | 
| RetCode: 0 | 
| Status: OK | 
| CheckDir: SGCP.Rcheck | 
| Warnings: 0 | 
##############################################################################
##############################################################################
###
### Running command:
###
###   /home/biocbuild/R/R-devel_2024-01-16_r85812/bin/R CMD check --install=check:SGCP.install-out.txt --library=/home/biocbuild/R/R-devel_2024-01-16_r85812/site-library --no-vignettes --timings SGCP_1.3.0.tar.gz
###
##############################################################################
##############################################################################
* using log directory ‘/home/biocbuild/bbs-3.19-bioc/meat/SGCP.Rcheck’
* using R Under development (unstable) (2024-01-16 r85812)
* using platform: aarch64-unknown-linux-gnu
* R was compiled by
    gcc (GCC) 10.3.1
    GNU Fortran (GCC) 10.3.1
* running under: openEuler 22.03 (LTS-SP1)
* using session charset: UTF-8
* using option ‘--no-vignettes’
* checking for file ‘SGCP/DESCRIPTION’ ... OK
* checking extension type ... Package
* this is package ‘SGCP’ version ‘1.3.0’
* package encoding: UTF-8
* checking package namespace information ... OK
* checking package dependencies ... OK
* checking if this is a source package ... OK
* checking if there is a namespace ... OK
* checking for hidden files and directories ... OK
* checking for portable file names ... OK
* checking for sufficient/correct file permissions ... OK
* checking whether package ‘SGCP’ can be installed ... OK
* checking installed package size ... OK
* checking package directory ... OK
* checking ‘build’ directory ... OK
* checking DESCRIPTION meta-information ... OK
* checking top-level files ... OK
* checking for left-over files ... OK
* checking index information ... OK
* checking package subdirectories ... OK
* checking R files for non-ASCII characters ... OK
* checking R files for syntax errors ... OK
* checking whether the package can be loaded ... OK
* checking whether the package can be loaded with stated dependencies ... OK
* checking whether the package can be unloaded cleanly ... OK
* checking whether the namespace can be loaded with stated dependencies ... OK
* checking whether the namespace can be unloaded cleanly ... OK
* checking loading without being on the library search path ... OK
* checking dependencies in R code ... OK
* checking S3 generic/method consistency ... OK
* checking replacement functions ... OK
* checking foreign function calls ... OK
* checking R code for possible problems ... OK
* checking Rd files ... OK
* checking Rd metadata ... OK
* checking Rd cross-references ... OK
* checking for missing documentation entries ... OK
* checking for code/documentation mismatches ... OK
* checking Rd \usage sections ... OK
* checking Rd contents ... OK
* checking for unstated dependencies in examples ... OK
* checking contents of ‘data’ directory ... OK
* checking data for non-ASCII characters ... OK
* checking data for ASCII and uncompressed saves ... OK
* checking files in ‘vignettes’ ... OK
* checking examples ... OK
* checking for unstated dependencies in vignettes ... OK
* checking package vignettes ... OK
* checking running R code from vignettes ... SKIPPED
* checking re-building of vignette outputs ... SKIPPED
* checking PDF version of manual ... OK
* DONE
Status: OK
SGCP.Rcheck/00install.out
############################################################################## ############################################################################## ### ### Running command: ### ### /home/biocbuild/R/R-devel_2024-01-16_r85812/bin/R CMD INSTALL SGCP ### ############################################################################## ############################################################################## * installing to library ‘/home/biocbuild/R/R-devel_2024-01-16_r85812/site-library’ * installing *source* package ‘SGCP’ ... ** using staged installation ** R ** data ** inst ** byte-compile and prepare package for lazy loading ** help *** installing help indices ** building package indices ** installing vignettes ** testing if installed package can be loaded from temporary location ** testing if installed package can be loaded from final location ** testing if installed package keeps a record of temporary installation path * DONE (SGCP)
SGCP.Rcheck/SGCP-Ex.timings
| name | user | system | elapsed | |
| SGCP_adjacencyMatrix | 1.344 | 0.228 | 1.575 | |
| SGCP_clustering | 0.277 | 0.004 | 0.282 | |
| SGCP_ezPLOT | 0.354 | 0.016 | 0.371 | |
| SGCP_ezSGCP | 0.270 | 0.009 | 0.279 | |
| SGCP_go | 0.161 | 0.028 | 0.189 | |
| SGCP_plot_bar | 0.426 | 0.056 | 0.483 | |
| SGCP_plot_conductance | 0.373 | 0.036 | 0.410 | |
| SGCP_plot_density | 0.396 | 0.032 | 0.429 | |
| SGCP_plot_heatMap | 0.601 | 0.028 | 0.621 | |
| SGCP_plot_jitter | 0.307 | 0.004 | 0.311 | |
| SGCP_plot_pca | 0.159 | 0.016 | 0.176 | |
| SGCP_plot_pie | 0.675 | 0.087 | 0.764 | |
| SGCP_plot_silhouette | 0.843 | 0.055 | 0.900 | |
| SGCP_semiLabeling | 0.080 | 0.012 | 0.092 | |
| SGCP_semiSupervised | 2.846 | 0.088 | 2.939 | |
| cheng | 0.246 | 0.008 | 0.255 | |
| resClus | 0.830 | 0.036 | 0.867 | |
| resFinalGO | 0.038 | 0.000 | 0.038 | |
| resInitialGO | 0.039 | 0.000 | 0.039 | |
| resSemiLabel | 0.006 | 0.000 | 0.005 | |
| resSemiSupervised | 0.038 | 0.000 | 0.038 | |
| sgcp | 0.108 | 0.004 | 0.113 | |