| Back to Multiple platform build/check report for BioC 3.19: simplified long |
|
This page was generated on 2024-10-18 20:42 -0400 (Fri, 18 Oct 2024).
| Hostname | OS | Arch (*) | R version | Installed pkgs |
|---|---|---|---|---|
| nebbiolo1 | Linux (Ubuntu 22.04.3 LTS) | x86_64 | 4.4.1 (2024-06-14) -- "Race for Your Life" | 4763 |
| palomino7 | Windows Server 2022 Datacenter | x64 | 4.4.1 (2024-06-14 ucrt) -- "Race for Your Life" | 4500 |
| merida1 | macOS 12.7.5 Monterey | x86_64 | 4.4.1 (2024-06-14) -- "Race for Your Life" | 4530 |
| kjohnson1 | macOS 13.6.6 Ventura | arm64 | 4.4.1 (2024-06-14) -- "Race for Your Life" | 4480 |
| Click on any hostname to see more info about the system (e.g. compilers) (*) as reported by 'uname -p', except on Windows and Mac OS X | ||||
| Package 1956/2300 | Hostname | OS / Arch | INSTALL | BUILD | CHECK | BUILD BIN | ||||||||
| SGCP 1.4.4 (landing page) Niloofar AghaieAbiane
| nebbiolo1 | Linux (Ubuntu 22.04.3 LTS) / x86_64 | OK | OK | OK | |||||||||
| palomino7 | Windows Server 2022 Datacenter / x64 | OK | OK | OK | OK | |||||||||
| merida1 | macOS 12.7.5 Monterey / x86_64 | OK | OK | OK | OK | |||||||||
| kjohnson1 | macOS 13.6.6 Ventura / arm64 | OK | OK | OK | NA | |||||||||
|
To the developers/maintainers of the SGCP package: - Allow up to 24 hours (and sometimes 48 hours) for your latest push to git@git.bioconductor.org:packages/SGCP.git to reflect on this report. See Troubleshooting Build Report for more information. - Use the following Renviron settings to reproduce errors and warnings. - If 'R CMD check' started to fail recently on the Linux builder(s) over a missing dependency, add the missing dependency to 'Suggests:' in your DESCRIPTION file. See Renviron.bioc for more information. |
| Package: SGCP |
| Version: 1.4.4 |
| Command: /Library/Frameworks/R.framework/Resources/bin/R CMD check --install=check:SGCP.install-out.txt --library=/Library/Frameworks/R.framework/Resources/library --no-vignettes --timings SGCP_1.4.4.tar.gz |
| StartedAt: 2024-10-18 12:12:37 -0400 (Fri, 18 Oct 2024) |
| EndedAt: 2024-10-18 12:19:00 -0400 (Fri, 18 Oct 2024) |
| EllapsedTime: 382.7 seconds |
| RetCode: 0 |
| Status: OK |
| CheckDir: SGCP.Rcheck |
| Warnings: 0 |
##############################################################################
##############################################################################
###
### Running command:
###
### /Library/Frameworks/R.framework/Resources/bin/R CMD check --install=check:SGCP.install-out.txt --library=/Library/Frameworks/R.framework/Resources/library --no-vignettes --timings SGCP_1.4.4.tar.gz
###
##############################################################################
##############################################################################
* using log directory ‘/Users/biocbuild/bbs-3.19-bioc/meat/SGCP.Rcheck’
* using R version 4.4.1 (2024-06-14)
* using platform: aarch64-apple-darwin20
* R was compiled by
Apple clang version 14.0.0 (clang-1400.0.29.202)
GNU Fortran (GCC) 12.2.0
* running under: macOS Ventura 13.6.6
* using session charset: UTF-8
* using option ‘--no-vignettes’
* checking for file ‘SGCP/DESCRIPTION’ ... OK
* checking extension type ... Package
* this is package ‘SGCP’ version ‘1.4.4’
* package encoding: UTF-8
* checking package namespace information ... OK
* checking package dependencies ... OK
* checking if this is a source package ... OK
* checking if there is a namespace ... OK
* checking for hidden files and directories ... OK
* checking for portable file names ... OK
* checking for sufficient/correct file permissions ... OK
* checking whether package ‘SGCP’ can be installed ... OK
* checking installed package size ... OK
* checking package directory ... OK
* checking ‘build’ directory ... OK
* checking DESCRIPTION meta-information ... OK
* checking top-level files ... OK
* checking for left-over files ... OK
* checking index information ... OK
* checking package subdirectories ... OK
* checking code files for non-ASCII characters ... OK
* checking R files for syntax errors ... OK
* checking whether the package can be loaded ... OK
* checking whether the package can be loaded with stated dependencies ... OK
* checking whether the package can be unloaded cleanly ... OK
* checking whether the namespace can be loaded with stated dependencies ... OK
* checking whether the namespace can be unloaded cleanly ... OK
* checking dependencies in R code ... OK
* checking S3 generic/method consistency ... OK
* checking replacement functions ... OK
* checking foreign function calls ... OK
* checking R code for possible problems ... OK
* checking Rd files ... NOTE
checkRd: (-1) SGCP_clustering.Rd:39: Lost braces in \itemize; \value handles \item{}{} directly
checkRd: (-1) SGCP_clustering.Rd:40: Lost braces in \itemize; \value handles \item{}{} directly
checkRd: (-1) SGCP_clustering.Rd:41: Lost braces in \itemize; \value handles \item{}{} directly
checkRd: (-1) SGCP_clustering.Rd:42: Lost braces in \itemize; \value handles \item{}{} directly
checkRd: (-1) SGCP_clustering.Rd:43: Lost braces in \itemize; \value handles \item{}{} directly
checkRd: (-1) SGCP_clustering.Rd:44: Lost braces in \itemize; \value handles \item{}{} directly
checkRd: (-1) SGCP_clustering.Rd:45: Lost braces in \itemize; \value handles \item{}{} directly
checkRd: (-1) SGCP_clustering.Rd:46: Lost braces in \itemize; \value handles \item{}{} directly
checkRd: (-1) SGCP_clustering.Rd:47: Lost braces in \itemize; \value handles \item{}{} directly
checkRd: (-1) SGCP_clustering.Rd:48: Lost braces in \itemize; \value handles \item{}{} directly
checkRd: (-1) SGCP_clustering.Rd:49: Lost braces in \itemize; \value handles \item{}{} directly
checkRd: (-1) SGCP_clustering.Rd:57: Lost braces in \itemize; \value handles \item{}{} directly
checkRd: (-1) SGCP_clustering.Rd:58: Lost braces in \itemize; \value handles \item{}{} directly
checkRd: (-1) SGCP_clustering.Rd:59: Lost braces in \itemize; \value handles \item{}{} directly
checkRd: (-1) SGCP_ezSGCP.Rd:68: Lost braces in \itemize; \value handles \item{}{} directly
checkRd: (-1) SGCP_ezSGCP.Rd:69: Lost braces in \itemize; \value handles \item{}{} directly
checkRd: (-1) SGCP_ezSGCP.Rd:70: Lost braces in \itemize; \value handles \item{}{} directly
checkRd: (-1) SGCP_ezSGCP.Rd:72: Lost braces in \itemize; \value handles \item{}{} directly
checkRd: (-1) SGCP_ezSGCP.Rd:73: Lost braces in \itemize; \value handles \item{}{} directly
checkRd: (-1) SGCP_ezSGCP.Rd:74: Lost braces in \itemize; \value handles \item{}{} directly
checkRd: (-1) SGCP_ezSGCP.Rd:75: Lost braces in \itemize; \value handles \item{}{} directly
checkRd: (-1) SGCP_ezSGCP.Rd:76: Lost braces in \itemize; \value handles \item{}{} directly
checkRd: (-1) SGCP_ezSGCP.Rd:77: Lost braces in \itemize; \value handles \item{}{} directly
checkRd: (-1) SGCP_ezSGCP.Rd:78: Lost braces in \itemize; \value handles \item{}{} directly
checkRd: (-1) SGCP_ezSGCP.Rd:79: Lost braces in \itemize; \value handles \item{}{} directly
checkRd: (-1) SGCP_ezSGCP.Rd:80: Lost braces in \itemize; \value handles \item{}{} directly
checkRd: (-1) SGCP_ezSGCP.Rd:81: Lost braces in \itemize; \value handles \item{}{} directly
checkRd: (-1) SGCP_ezSGCP.Rd:82: Lost braces in \itemize; \value handles \item{}{} directly
checkRd: (-1) SGCP_ezSGCP.Rd:83: Lost braces in \itemize; \value handles \item{}{} directly
checkRd: (-1) SGCP_ezSGCP.Rd:84: Lost braces in \itemize; \value handles \item{}{} directly
checkRd: (-1) SGCP_ezSGCP.Rd:85: Lost braces in \itemize; \value handles \item{}{} directly
checkRd: (-1) SGCP_ezSGCP.Rd:87: Lost braces in \itemize; \value handles \item{}{} directly
checkRd: (-1) SGCP_ezSGCP.Rd:89: Lost braces in \itemize; \value handles \item{}{} directly
checkRd: (-1) SGCP_ezSGCP.Rd:90: Lost braces in \itemize; \value handles \item{}{} directly
checkRd: (-1) SGCP_ezSGCP.Rd:92: Lost braces in \itemize; \value handles \item{}{} directly
checkRd: (-1) SGCP_ezSGCP.Rd:94: Lost braces in \itemize; \value handles \item{}{} directly
checkRd: (-1) SGCP_ezSGCP.Rd:95: Lost braces in \itemize; \value handles \item{}{} directly
checkRd: (-1) SGCP_ezSGCP.Rd:97: Lost braces in \itemize; \value handles \item{}{} directly
checkRd: (-1) SGCP_ezSGCP.Rd:99: Lost braces in \itemize; \value handles \item{}{} directly
checkRd: (-1) SGCP_ezSGCP.Rd:100: Lost braces in \itemize; \value handles \item{}{} directly
checkRd: (-1) SGCP_ezSGCP.Rd:101: Lost braces in \itemize; \value handles \item{}{} directly
checkRd: (-1) SGCP_ezSGCP.Rd:103: Lost braces in \itemize; \value handles \item{}{} directly
checkRd: (-1) SGCP_ezSGCP.Rd:105: Lost braces in \itemize; \value handles \item{}{} directly
checkRd: (-1) SGCP_ezSGCP.Rd:106: Lost braces in \itemize; \value handles \item{}{} directly
checkRd: (-1) SGCP_semiSupervised.Rd:24: Lost braces
24 | \\item{semiSupervised}{An object of the caret train class representing the semi-supervised classification model.}
| ^
checkRd: (-1) SGCP_semiSupervised.Rd:24: Lost braces
24 | \\item{semiSupervised}{An object of the caret train class representing the semi-supervised classification model.}
| ^
checkRd: (-1) resFinalGO.Rd:11: Lost braces
11 | \details{code{resFinalGO} is a list containing the following information:
| ^
* checking Rd metadata ... OK
* checking Rd cross-references ... OK
* checking for missing documentation entries ... OK
* checking for code/documentation mismatches ... OK
* checking Rd \usage sections ... OK
* checking Rd contents ... OK
* checking for unstated dependencies in examples ... OK
* checking contents of ‘data’ directory ... OK
* checking data for non-ASCII characters ... OK
* checking LazyData ... OK
* checking data for ASCII and uncompressed saves ... OK
* checking files in ‘vignettes’ ... OK
* checking examples ... OK
* checking for unstated dependencies in vignettes ... OK
* checking package vignettes ... OK
* checking running R code from vignettes ... SKIPPED
* checking re-building of vignette outputs ... SKIPPED
* checking PDF version of manual ... OK
* DONE
Status: 1 NOTE
See
‘/Users/biocbuild/bbs-3.19-bioc/meat/SGCP.Rcheck/00check.log’
for details.
SGCP.Rcheck/00install.out
############################################################################## ############################################################################## ### ### Running command: ### ### /Library/Frameworks/R.framework/Resources/bin/R CMD INSTALL SGCP ### ############################################################################## ############################################################################## * installing to library ‘/Library/Frameworks/R.framework/Versions/4.4-arm64/Resources/library’ * installing *source* package ‘SGCP’ ... ** using staged installation ** R ** data *** moving datasets to lazyload DB ** inst ** byte-compile and prepare package for lazy loading ** help *** installing help indices ** building package indices ** installing vignettes ** testing if installed package can be loaded from temporary location ** testing if installed package can be loaded from final location ** testing if installed package keeps a record of temporary installation path * DONE (SGCP)
SGCP.Rcheck/SGCP-Ex.timings
| name | user | system | elapsed | |
| SGCP_adjacencyMatrix | 0.078 | 0.015 | 0.095 | |
| SGCP_clustering | 0.249 | 0.019 | 0.277 | |
| SGCP_ezPLOT | 0.254 | 0.024 | 0.292 | |
| SGCP_ezSGCP | 0.241 | 0.018 | 0.269 | |
| SGCP_go | 0.137 | 0.010 | 0.159 | |
| SGCP_plot_bar | 0.320 | 0.022 | 0.353 | |
| SGCP_plot_conductance | 0.450 | 0.025 | 0.498 | |
| SGCP_plot_density | 0.226 | 0.012 | 0.240 | |
| SGCP_plot_heatMap | 0.385 | 0.044 | 0.481 | |
| SGCP_plot_jitter | 0.309 | 0.009 | 0.352 | |
| SGCP_plot_pca | 0.125 | 0.003 | 0.140 | |
| SGCP_plot_pie | 0.386 | 0.008 | 0.446 | |
| SGCP_plot_silhouette | 1.589 | 0.030 | 1.712 | |
| SGCP_semiLabeling | 0.056 | 0.011 | 0.076 | |
| SGCP_semiSupervised | 2.804 | 0.067 | 3.041 | |
| cheng | 0.226 | 0.016 | 0.250 | |
| resClus | 0.619 | 0.128 | 0.784 | |
| resFinalGO | 0.014 | 0.004 | 0.019 | |
| resInitialGO | 0.013 | 0.004 | 0.018 | |
| resSemiLabel | 0.006 | 0.002 | 0.007 | |
| resSemiSupervised | 0.024 | 0.003 | 0.026 | |
| sgcp | 0.069 | 0.010 | 0.080 | |