| Back to Multiple platform build/check report for BioC 3.19: simplified long | 
 | 
This page was generated on 2024-10-18 20:42 -0400 (Fri, 18 Oct 2024).
| Hostname | OS | Arch (*) | R version | Installed pkgs | 
|---|---|---|---|---|
| nebbiolo1 | Linux (Ubuntu 22.04.3 LTS) | x86_64 | 4.4.1 (2024-06-14) -- "Race for Your Life" | 4763 | 
| palomino7 | Windows Server 2022 Datacenter | x64 | 4.4.1 (2024-06-14 ucrt) -- "Race for Your Life" | 4500 | 
| merida1 | macOS 12.7.5 Monterey | x86_64 | 4.4.1 (2024-06-14) -- "Race for Your Life" | 4530 | 
| kjohnson1 | macOS 13.6.6 Ventura | arm64 | 4.4.1 (2024-06-14) -- "Race for Your Life" | 4480 | 
| Click on any hostname to see more info about the system (e.g. compilers) (*) as reported by 'uname -p', except on Windows and Mac OS X | ||||
| Package 1934/2300 | Hostname | OS / Arch | INSTALL | BUILD | CHECK | BUILD BIN | ||||||||
| SELEX 1.36.0  (landing page) Harmen J. Bussemaker 
 | nebbiolo1 | Linux (Ubuntu 22.04.3 LTS) / x86_64 | OK | OK | OK |  | ||||||||
| palomino7 | Windows Server 2022 Datacenter / x64 | OK | OK | OK | OK |  | ||||||||
| merida1 | macOS 12.7.5 Monterey / x86_64 | OK | OK | OK | OK |  | ||||||||
| kjohnson1 | macOS 13.6.6 Ventura / arm64 | OK | OK | OK | NA | |||||||||
| To the developers/maintainers of the SELEX package: - Allow up to 24 hours (and sometimes 48 hours) for your latest push to git@git.bioconductor.org:packages/SELEX.git to reflect on this report. See Troubleshooting Build Report for more information. - Use the following Renviron settings to reproduce errors and warnings. - If 'R CMD check' started to fail recently on the Linux builder(s) over a missing dependency, add the missing dependency to 'Suggests:' in your DESCRIPTION file. See Renviron.bioc for more information. | 
| Package: SELEX | 
| Version: 1.36.0 | 
| Command: /Library/Frameworks/R.framework/Resources/bin/R CMD check --install=check:SELEX.install-out.txt --library=/Library/Frameworks/R.framework/Resources/library --no-vignettes --timings SELEX_1.36.0.tar.gz | 
| StartedAt: 2024-10-18 11:57:19 -0400 (Fri, 18 Oct 2024) | 
| EndedAt: 2024-10-18 11:59:30 -0400 (Fri, 18 Oct 2024) | 
| EllapsedTime: 130.7 seconds | 
| RetCode: 0 | 
| Status: OK | 
| CheckDir: SELEX.Rcheck | 
| Warnings: 0 | 
##############################################################################
##############################################################################
###
### Running command:
###
###   /Library/Frameworks/R.framework/Resources/bin/R CMD check --install=check:SELEX.install-out.txt --library=/Library/Frameworks/R.framework/Resources/library --no-vignettes --timings SELEX_1.36.0.tar.gz
###
##############################################################################
##############################################################################
* using log directory ‘/Users/biocbuild/bbs-3.19-bioc/meat/SELEX.Rcheck’
* using R version 4.4.1 (2024-06-14)
* using platform: aarch64-apple-darwin20
* R was compiled by
    Apple clang version 14.0.0 (clang-1400.0.29.202)
    GNU Fortran (GCC) 12.2.0
* running under: macOS Ventura 13.6.6
* using session charset: UTF-8
* using option ‘--no-vignettes’
* checking for file ‘SELEX/DESCRIPTION’ ... OK
* this is package ‘SELEX’ version ‘1.36.0’
* checking package namespace information ... OK
* checking package dependencies ... OK
* checking if this is a source package ... OK
* checking if there is a namespace ... OK
* checking for hidden files and directories ... OK
* checking for portable file names ... OK
* checking for sufficient/correct file permissions ... OK
* checking whether package ‘SELEX’ can be installed ... OK
* checking installed package size ... OK
* checking package directory ... OK
* checking ‘build’ directory ... OK
* checking DESCRIPTION meta-information ... OK
* checking top-level files ... OK
* checking for left-over files ... OK
* checking index information ... OK
* checking package subdirectories ... OK
* checking code files for non-ASCII characters ... OK
* checking R files for syntax errors ... OK
* checking whether the package can be loaded ... OK
* checking whether the package can be loaded with stated dependencies ... OK
* checking whether the package can be unloaded cleanly ... OK
* checking whether the namespace can be loaded with stated dependencies ... OK
* checking whether the namespace can be unloaded cleanly ... OK
* checking whether startup messages can be suppressed ... OK
* checking dependencies in R code ... OK
* checking S3 generic/method consistency ... OK
* checking replacement functions ... OK
* checking foreign function calls ... OK
* checking R code for possible problems ... OK
* checking Rd files ... NOTE
checkRd: (-1) SELEX.Rd:114: Lost braces
   114 | \href{http://www.ncbi.nlm.nih.gov/pubmed/22153072}{{C}ofactor binding evokes latent differences in {D}{N}{A} binding specificity between {H}ox proteins.}
       |                                                                                                       ^
checkRd: (-1) SELEX.Rd:114: Lost braces
   114 | \href{http://www.ncbi.nlm.nih.gov/pubmed/22153072}{{C}ofactor binding evokes latent differences in {D}{N}{A} binding specificity between {H}ox proteins.}
       |                                                                                                          ^
checkRd: (-1) SELEX.Rd:118: Lost braces
   118 | \href{http://www.ncbi.nlm.nih.gov/pubmed/25151169}{{S}{E}{L}{E}{X}-seq: a method for characterizing the complete repertoire of binding site preferences for transcription factor complexes.}
       |                                                       ^
checkRd: (-1) SELEX.Rd:118: Lost braces
   118 | \href{http://www.ncbi.nlm.nih.gov/pubmed/25151169}{{S}{E}{L}{E}{X}-seq: a method for characterizing the complete repertoire of binding site preferences for transcription factor complexes.}
       |                                                          ^
checkRd: (-1) SELEX.Rd:118: Lost braces
   118 | \href{http://www.ncbi.nlm.nih.gov/pubmed/25151169}{{S}{E}{L}{E}{X}-seq: a method for characterizing the complete repertoire of binding site preferences for transcription factor complexes.}
       |                                                             ^
checkRd: (-1) SELEX.Rd:118: Lost braces
   118 | \href{http://www.ncbi.nlm.nih.gov/pubmed/25151169}{{S}{E}{L}{E}{X}-seq: a method for characterizing the complete repertoire of binding site preferences for transcription factor complexes.}
       |                                                                ^
checkRd: (-1) selex.affinities.Rd:33: Lost braces
    33 | \href{http://www.ncbi.nlm.nih.gov/pubmed/22153072}{{C}ofactor binding evokes latent differences in {D}{N}{A} binding specificity between {H}ox proteins.}
       |                                                                                                       ^
checkRd: (-1) selex.affinities.Rd:33: Lost braces
    33 | \href{http://www.ncbi.nlm.nih.gov/pubmed/22153072}{{C}ofactor binding evokes latent differences in {D}{N}{A} binding specificity between {H}ox proteins.}
       |                                                                                                          ^
checkRd: (-1) selex.affinities.Rd:37: Lost braces
    37 | \href{http://www.ncbi.nlm.nih.gov/pubmed/25151169}{{S}{E}{L}{E}{X}-seq: a method for characterizing the complete repertoire of binding site preferences for transcription factor complexes.}
       |                                                       ^
checkRd: (-1) selex.affinities.Rd:37: Lost braces
    37 | \href{http://www.ncbi.nlm.nih.gov/pubmed/25151169}{{S}{E}{L}{E}{X}-seq: a method for characterizing the complete repertoire of binding site preferences for transcription factor complexes.}
       |                                                          ^
checkRd: (-1) selex.affinities.Rd:37: Lost braces
    37 | \href{http://www.ncbi.nlm.nih.gov/pubmed/25151169}{{S}{E}{L}{E}{X}-seq: a method for characterizing the complete repertoire of binding site preferences for transcription factor complexes.}
       |                                                             ^
checkRd: (-1) selex.affinities.Rd:37: Lost braces
    37 | \href{http://www.ncbi.nlm.nih.gov/pubmed/25151169}{{S}{E}{L}{E}{X}-seq: a method for characterizing the complete repertoire of binding site preferences for transcription factor complexes.}
       |                                                                ^
checkRd: (-1) selex.counts.Rd:38: Lost braces
    38 | \href{http://www.ncbi.nlm.nih.gov/pubmed/22153072}{{C}ofactor binding evokes latent differences in {D}{N}{A} binding specificity between {H}ox proteins.}
       |                                                                                                       ^
checkRd: (-1) selex.counts.Rd:38: Lost braces
    38 | \href{http://www.ncbi.nlm.nih.gov/pubmed/22153072}{{C}ofactor binding evokes latent differences in {D}{N}{A} binding specificity between {H}ox proteins.}
       |                                                                                                          ^
checkRd: (-1) selex.counts.Rd:42: Lost braces
    42 | \href{http://www.ncbi.nlm.nih.gov/pubmed/25151169}{{S}{E}{L}{E}{X}-seq: a method for characterizing the complete repertoire of binding site preferences for transcription factor complexes.}
       |                                                       ^
checkRd: (-1) selex.counts.Rd:42: Lost braces
    42 | \href{http://www.ncbi.nlm.nih.gov/pubmed/25151169}{{S}{E}{L}{E}{X}-seq: a method for characterizing the complete repertoire of binding site preferences for transcription factor complexes.}
       |                                                          ^
checkRd: (-1) selex.counts.Rd:42: Lost braces
    42 | \href{http://www.ncbi.nlm.nih.gov/pubmed/25151169}{{S}{E}{L}{E}{X}-seq: a method for characterizing the complete repertoire of binding site preferences for transcription factor complexes.}
       |                                                             ^
checkRd: (-1) selex.counts.Rd:42: Lost braces
    42 | \href{http://www.ncbi.nlm.nih.gov/pubmed/25151169}{{S}{E}{L}{E}{X}-seq: a method for characterizing the complete repertoire of binding site preferences for transcription factor complexes.}
       |                                                                ^
checkRd: (-1) selex.infogain.Rd:27: Lost braces
    27 | \href{http://www.ncbi.nlm.nih.gov/pubmed/22153072}{{C}ofactor binding evokes latent differences in {D}{N}{A} binding specificity between {H}ox proteins.}
       |                                                                                                       ^
checkRd: (-1) selex.infogain.Rd:27: Lost braces
    27 | \href{http://www.ncbi.nlm.nih.gov/pubmed/22153072}{{C}ofactor binding evokes latent differences in {D}{N}{A} binding specificity between {H}ox proteins.}
       |                                                                                                          ^
checkRd: (-1) selex.infogain.Rd:31: Lost braces
    31 | \href{http://www.ncbi.nlm.nih.gov/pubmed/25151169}{{S}{E}{L}{E}{X}-seq: a method for characterizing the complete repertoire of binding site preferences for transcription factor complexes.}
       |                                                       ^
checkRd: (-1) selex.infogain.Rd:31: Lost braces
    31 | \href{http://www.ncbi.nlm.nih.gov/pubmed/25151169}{{S}{E}{L}{E}{X}-seq: a method for characterizing the complete repertoire of binding site preferences for transcription factor complexes.}
       |                                                          ^
checkRd: (-1) selex.infogain.Rd:31: Lost braces
    31 | \href{http://www.ncbi.nlm.nih.gov/pubmed/25151169}{{S}{E}{L}{E}{X}-seq: a method for characterizing the complete repertoire of binding site preferences for transcription factor complexes.}
       |                                                             ^
checkRd: (-1) selex.infogain.Rd:31: Lost braces
    31 | \href{http://www.ncbi.nlm.nih.gov/pubmed/25151169}{{S}{E}{L}{E}{X}-seq: a method for characterizing the complete repertoire of binding site preferences for transcription factor complexes.}
       |                                                                ^
checkRd: (-1) selex.mm.Rd:60: Lost braces
    60 | \href{http://www.ncbi.nlm.nih.gov/pubmed/22153072}{{C}ofactor binding evokes latent differences in {D}{N}{A} binding specificity between {H}ox proteins.}
       |                                                                                                       ^
checkRd: (-1) selex.mm.Rd:60: Lost braces
    60 | \href{http://www.ncbi.nlm.nih.gov/pubmed/22153072}{{C}ofactor binding evokes latent differences in {D}{N}{A} binding specificity between {H}ox proteins.}
       |                                                                                                          ^
checkRd: (-1) selex.mm.Rd:64: Lost braces
    64 | \href{http://www.ncbi.nlm.nih.gov/pubmed/25151169}{{S}{E}{L}{E}{X}-seq: a method for characterizing the complete repertoire of binding site preferences for transcription factor complexes.}
       |                                                       ^
checkRd: (-1) selex.mm.Rd:64: Lost braces
    64 | \href{http://www.ncbi.nlm.nih.gov/pubmed/25151169}{{S}{E}{L}{E}{X}-seq: a method for characterizing the complete repertoire of binding site preferences for transcription factor complexes.}
       |                                                          ^
checkRd: (-1) selex.mm.Rd:64: Lost braces
    64 | \href{http://www.ncbi.nlm.nih.gov/pubmed/25151169}{{S}{E}{L}{E}{X}-seq: a method for characterizing the complete repertoire of binding site preferences for transcription factor complexes.}
       |                                                             ^
checkRd: (-1) selex.mm.Rd:64: Lost braces
    64 | \href{http://www.ncbi.nlm.nih.gov/pubmed/25151169}{{S}{E}{L}{E}{X}-seq: a method for characterizing the complete repertoire of binding site preferences for transcription factor complexes.}
       |                                                                ^
checkRd: (-1) selex.mmProb.Rd:39: Lost braces
    39 | \href{http://www.ncbi.nlm.nih.gov/pubmed/22153072}{{C}ofactor binding evokes latent differences in {D}{N}{A} binding specificity between {H}ox proteins.}
       |                                                                                                       ^
checkRd: (-1) selex.mmProb.Rd:39: Lost braces
    39 | \href{http://www.ncbi.nlm.nih.gov/pubmed/22153072}{{C}ofactor binding evokes latent differences in {D}{N}{A} binding specificity between {H}ox proteins.}
       |                                                                                                          ^
checkRd: (-1) selex.mmProb.Rd:43: Lost braces
    43 | \href{http://www.ncbi.nlm.nih.gov/pubmed/25151169}{{S}{E}{L}{E}{X}-seq: a method for characterizing the complete repertoire of binding site preferences for transcription factor complexes.}
       |                                                       ^
checkRd: (-1) selex.mmProb.Rd:43: Lost braces
    43 | \href{http://www.ncbi.nlm.nih.gov/pubmed/25151169}{{S}{E}{L}{E}{X}-seq: a method for characterizing the complete repertoire of binding site preferences for transcription factor complexes.}
       |                                                          ^
checkRd: (-1) selex.mmProb.Rd:43: Lost braces
    43 | \href{http://www.ncbi.nlm.nih.gov/pubmed/25151169}{{S}{E}{L}{E}{X}-seq: a method for characterizing the complete repertoire of binding site preferences for transcription factor complexes.}
       |                                                             ^
checkRd: (-1) selex.mmProb.Rd:43: Lost braces
    43 | \href{http://www.ncbi.nlm.nih.gov/pubmed/25151169}{{S}{E}{L}{E}{X}-seq: a method for characterizing the complete repertoire of binding site preferences for transcription factor complexes.}
       |                                                                ^
checkRd: (-1) selex.run.Rd:34: Lost braces
    34 | \href{http://www.ncbi.nlm.nih.gov/pubmed/22153072}{{C}ofactor binding evokes latent differences in {D}{N}{A} binding specificity between {H}ox proteins.}
       |                                                                                                       ^
checkRd: (-1) selex.run.Rd:34: Lost braces
    34 | \href{http://www.ncbi.nlm.nih.gov/pubmed/22153072}{{C}ofactor binding evokes latent differences in {D}{N}{A} binding specificity between {H}ox proteins.}
       |                                                                                                          ^
checkRd: (-1) selex.run.Rd:38: Lost braces
    38 | \href{http://www.ncbi.nlm.nih.gov/pubmed/25151169}{{S}{E}{L}{E}{X}-seq: a method for characterizing the complete repertoire of binding site preferences for transcription factor complexes.}
       |                                                       ^
checkRd: (-1) selex.run.Rd:38: Lost braces
    38 | \href{http://www.ncbi.nlm.nih.gov/pubmed/25151169}{{S}{E}{L}{E}{X}-seq: a method for characterizing the complete repertoire of binding site preferences for transcription factor complexes.}
       |                                                          ^
checkRd: (-1) selex.run.Rd:38: Lost braces
    38 | \href{http://www.ncbi.nlm.nih.gov/pubmed/25151169}{{S}{E}{L}{E}{X}-seq: a method for characterizing the complete repertoire of binding site preferences for transcription factor complexes.}
       |                                                             ^
checkRd: (-1) selex.run.Rd:38: Lost braces
    38 | \href{http://www.ncbi.nlm.nih.gov/pubmed/25151169}{{S}{E}{L}{E}{X}-seq: a method for characterizing the complete repertoire of binding site preferences for transcription factor complexes.}
       |                                                                ^
* checking Rd metadata ... OK
* checking Rd cross-references ... OK
* checking for missing documentation entries ... OK
* checking for code/documentation mismatches ... OK
* checking Rd \usage sections ... OK
* checking Rd contents ... OK
* checking for unstated dependencies in examples ... OK
* checking line endings in Makefiles ... OK
* checking for GNU extensions in Makefiles ... OK
* checking include directives in Makefiles ... OK
* checking sizes of PDF files under ‘inst/doc’ ... OK
* checking files in ‘vignettes’ ... OK
* checking examples ... OK
Examples with CPU (user + system) or elapsed time > 5s
                  user system elapsed
SELEX           20.358  2.500  10.725
selex.seqfilter  8.765  0.726   3.471
* checking for unstated dependencies in vignettes ... OK
* checking package vignettes ... OK
* checking running R code from vignettes ... SKIPPED
* checking re-building of vignette outputs ... SKIPPED
* checking PDF version of manual ... OK
* DONE
Status: 1 NOTE
See
  ‘/Users/biocbuild/bbs-3.19-bioc/meat/SELEX.Rcheck/00check.log’
for details.
SELEX.Rcheck/00install.out
############################################################################## ############################################################################## ### ### Running command: ### ### /Library/Frameworks/R.framework/Resources/bin/R CMD INSTALL SELEX ### ############################################################################## ############################################################################## * installing to library ‘/Library/Frameworks/R.framework/Versions/4.4-arm64/Resources/library’ * installing *source* package ‘SELEX’ ... ** using staged installation ** R ** inst ** byte-compile and prepare package for lazy loading ** help *** installing help indices ** building package indices ** installing vignettes ** testing if installed package can be loaded from temporary location ** testing if installed package can be loaded from final location ** testing if installed package keeps a record of temporary installation path * DONE (SELEX)
SELEX.Rcheck/SELEX-Ex.timings
| name | user | system | elapsed | |
| SELEX | 20.358 | 2.500 | 10.725 | |
| selex.affinities | 1.300 | 0.055 | 0.480 | |
| selex.config | 0.171 | 0.007 | 0.059 | |
| selex.countSummary | 0.724 | 0.039 | 0.342 | |
| selex.counts | 1.628 | 0.069 | 0.673 | |
| selex.defineSample | 0.189 | 0.011 | 0.068 | |
| selex.exampledata | 0.109 | 0.009 | 0.046 | |
| selex.fastqPSFM | 1.356 | 0.045 | 0.612 | |
| selex.getAttributes | 0.166 | 0.014 | 0.079 | |
| selex.getRound0 | 0.315 | 0.014 | 0.114 | |
| selex.getSeqfilter | 0.126 | 0.005 | 0.045 | |
| selex.infogain | 1.700 | 0.087 | 0.576 | |
| selex.infogainSummary | 0.792 | 0.041 | 0.310 | |
| selex.jvmStatus | 0.137 | 0.006 | 0.046 | |
| selex.kmax | 1.051 | 0.354 | 0.964 | |
| selex.kmerPSFM | 0.424 | 0.070 | 0.265 | |
| selex.loadAnnotation | 0.258 | 0.014 | 0.103 | |
| selex.mm | 0.500 | 0.028 | 0.228 | |
| selex.mmProb | 0.420 | 0.026 | 0.238 | |
| selex.mmSummary | 0.476 | 0.028 | 0.260 | |
| selex.revcomp | 0.814 | 0.040 | 0.423 | |
| selex.run | 1.351 | 0.081 | 0.584 | |
| selex.sample | 0.129 | 0.010 | 0.087 | |
| selex.samplePSFM | 0.404 | 0.018 | 0.230 | |
| selex.sampleSummary | 0.194 | 0.012 | 0.082 | |
| selex.saveAnnotation | 0.116 | 0.010 | 0.045 | |
| selex.seqfilter | 8.765 | 0.726 | 3.471 | |
| selex.setwd | 0.070 | 0.004 | 0.029 | |
| selex.split | 0.340 | 0.021 | 0.155 | |
| selex.summary | 0.862 | 0.058 | 0.524 | |