| Back to Multiple platform build/check report for BioC 3.19: simplified long | 
 | 
This page was generated on 2024-10-18 20:40 -0400 (Fri, 18 Oct 2024).
| Hostname | OS | Arch (*) | R version | Installed pkgs | 
|---|---|---|---|---|
| nebbiolo1 | Linux (Ubuntu 22.04.3 LTS) | x86_64 | 4.4.1 (2024-06-14) -- "Race for Your Life" | 4763 | 
| palomino7 | Windows Server 2022 Datacenter | x64 | 4.4.1 (2024-06-14 ucrt) -- "Race for Your Life" | 4500 | 
| merida1 | macOS 12.7.5 Monterey | x86_64 | 4.4.1 (2024-06-14) -- "Race for Your Life" | 4530 | 
| kjohnson1 | macOS 13.6.6 Ventura | arm64 | 4.4.1 (2024-06-14) -- "Race for Your Life" | 4480 | 
| Click on any hostname to see more info about the system (e.g. compilers) (*) as reported by 'uname -p', except on Windows and Mac OS X | ||||
| Package 1724/2300 | Hostname | OS / Arch | INSTALL | BUILD | CHECK | BUILD BIN | ||||||||
| RedeR 3.0.0  (landing page) Mauro Castro 
 | nebbiolo1 | Linux (Ubuntu 22.04.3 LTS) / x86_64 | OK | OK | OK |  | ||||||||
| palomino7 | Windows Server 2022 Datacenter / x64 | OK | OK | OK | OK |  | ||||||||
| merida1 | macOS 12.7.5 Monterey / x86_64 | OK | OK | OK | OK |  | ||||||||
| kjohnson1 | macOS 13.6.6 Ventura / arm64 | OK | OK | OK | OK |  | ||||||||
| To the developers/maintainers of the RedeR package: - Allow up to 24 hours (and sometimes 48 hours) for your latest push to git@git.bioconductor.org:packages/RedeR.git to reflect on this report. See Troubleshooting Build Report for more information. - Use the following Renviron settings to reproduce errors and warnings. - If 'R CMD check' started to fail recently on the Linux builder(s) over a missing dependency, add the missing dependency to 'Suggests:' in your DESCRIPTION file. See Renviron.bioc for more information. | 
| Package: RedeR | 
| Version: 3.0.0 | 
| Command: E:\biocbuild\bbs-3.19-bioc\R\bin\R.exe CMD check --no-multiarch --install=check:RedeR.install-out.txt --library=E:\biocbuild\bbs-3.19-bioc\R\library --no-vignettes --timings RedeR_3.0.0.tar.gz | 
| StartedAt: 2024-10-17 04:54:49 -0400 (Thu, 17 Oct 2024) | 
| EndedAt: 2024-10-17 04:55:40 -0400 (Thu, 17 Oct 2024) | 
| EllapsedTime: 50.3 seconds | 
| RetCode: 0 | 
| Status: OK | 
| CheckDir: RedeR.Rcheck | 
| Warnings: 0 | 
##############################################################################
##############################################################################
###
### Running command:
###
###   E:\biocbuild\bbs-3.19-bioc\R\bin\R.exe CMD check --no-multiarch --install=check:RedeR.install-out.txt --library=E:\biocbuild\bbs-3.19-bioc\R\library --no-vignettes --timings RedeR_3.0.0.tar.gz
###
##############################################################################
##############################################################################
* using log directory 'E:/biocbuild/bbs-3.19-bioc/meat/RedeR.Rcheck'
* using R version 4.4.1 (2024-06-14 ucrt)
* using platform: x86_64-w64-mingw32
* R was compiled by
    gcc.exe (GCC) 13.2.0
    GNU Fortran (GCC) 13.2.0
* running under: Windows Server 2022 x64 (build 20348)
* using session charset: UTF-8
* using option '--no-vignettes'
* checking for file 'RedeR/DESCRIPTION' ... OK
* checking extension type ... Package
* this is package 'RedeR' version '3.0.0'
* package encoding: UTF-8
* checking package namespace information ... OK
* checking package dependencies ... OK
* checking if this is a source package ... OK
* checking if there is a namespace ... OK
* checking for hidden files and directories ... OK
* checking for portable file names ... OK
* checking whether package 'RedeR' can be installed ... OK
* checking installed package size ... OK
* checking package directory ... OK
* checking 'build' directory ... OK
* checking DESCRIPTION meta-information ... OK
* checking top-level files ... OK
* checking for left-over files ... OK
* checking index information ... OK
* checking package subdirectories ... OK
* checking code files for non-ASCII characters ... OK
* checking R files for syntax errors ... OK
* checking whether the package can be loaded ... OK
* checking whether the package can be loaded with stated dependencies ... OK
* checking whether the package can be unloaded cleanly ... OK
* checking whether the namespace can be loaded with stated dependencies ... OK
* checking whether the namespace can be unloaded cleanly ... OK
* checking whether startup messages can be suppressed ... OK
* checking dependencies in R code ... OK
* checking S3 generic/method consistency ... OK
* checking replacement functions ... OK
* checking foreign function calls ... OK
* checking R code for possible problems ... OK
* checking Rd files ... NOTE
checkRd: (-1) nestNodes-methods.Rd:47: Lost braces in \itemize; meant \describe ?
checkRd: (-1) nestNodes-methods.Rd:48: Lost braces in \itemize; meant \describe ?
checkRd: (-1) nestNodes-methods.Rd:49: Lost braces in \itemize; meant \describe ?
checkRd: (-1) nestNodes-methods.Rd:50: Lost braces in \itemize; meant \describe ?
checkRd: (-1) nestNodes-methods.Rd:51: Lost braces in \itemize; meant \describe ?
checkRd: (-1) nestNodes-methods.Rd:52: Lost braces in \itemize; meant \describe ?
checkRd: (-1) nestNodes-methods.Rd:53-54: Lost braces in \itemize; meant \describe ?
checkRd: (-1) nestNodes-methods.Rd:55: Lost braces in \itemize; meant \describe ?
checkRd: (-1) nestNodes-methods.Rd:56: Lost braces in \itemize; meant \describe ?
checkRd: (-1) nestNodes-methods.Rd:57: Lost braces in \itemize; meant \describe ?
checkRd: (-1) startRedeR.Rd:24: Lost braces in \itemize; meant \describe ?
checkRd: (-1) startRedeR.Rd:25: Lost braces in \itemize; meant \describe ?
checkRd: (-1) startRedeR.Rd:26: Lost braces in \itemize; meant \describe ?
checkRd: (-1) startRedeR.Rd:27: Lost braces in \itemize; meant \describe ?
checkRd: (-1) startRedeR.Rd:28: Lost braces in \itemize; meant \describe ?
checkRd: (-1) startRedeR.Rd:29: Lost braces in \itemize; meant \describe ?
checkRd: (-1) startRedeR.Rd:30: Lost braces in \itemize; meant \describe ?
checkRd: (-1) startRedeR.Rd:31: Lost braces in \itemize; meant \describe ?
checkRd: (-1) startRedeR.Rd:32: Lost braces in \itemize; meant \describe ?
checkRd: (-1) startRedeR.Rd:33: Lost braces in \itemize; meant \describe ?
checkRd: (-1) startRedeR.Rd:34: Lost braces in \itemize; meant \describe ?
checkRd: (-1) startRedeR.Rd:35: Lost braces in \itemize; meant \describe ?
checkRd: (-1) startRedeR.Rd:36: Lost braces in \itemize; meant \describe ?
checkRd: (-1) startRedeR.Rd:37: Lost braces in \itemize; meant \describe ?
checkRd: (-1) startRedeR.Rd:38: Lost braces in \itemize; meant \describe ?
* checking Rd metadata ... OK
* checking Rd cross-references ... OK
* checking for missing documentation entries ... OK
* checking for code/documentation mismatches ... OK
* checking Rd \usage sections ... OK
* checking Rd contents ... OK
* checking for unstated dependencies in examples ... OK
* checking contents of 'data' directory ... OK
* checking data for non-ASCII characters ... OK
* checking data for ASCII and uncompressed saves ... OK
* checking files in 'vignettes' ... OK
* checking examples ... OK
* checking for unstated dependencies in vignettes ... OK
* checking package vignettes ... OK
* checking running R code from vignettes ... SKIPPED
* checking re-building of vignette outputs ... SKIPPED
* checking PDF version of manual ... OK
* DONE
Status: 1 NOTE
See
  'E:/biocbuild/bbs-3.19-bioc/meat/RedeR.Rcheck/00check.log'
for details.
RedeR.Rcheck/00install.out
############################################################################## ############################################################################## ### ### Running command: ### ### E:\biocbuild\bbs-3.19-bioc\R\bin\R.exe CMD INSTALL RedeR ### ############################################################################## ############################################################################## * installing to library 'E:/biocbuild/bbs-3.19-bioc/R/library' * installing *source* package 'RedeR' ... ** using staged installation ** R ** data ** inst ** byte-compile and prepare package for lazy loading ** help *** installing help indices ** building package indices ** installing vignettes ** testing if installed package can be loaded from temporary location ** testing if installed package can be loaded from final location ** testing if installed package keeps a record of temporary installation path * DONE (RedeR)
RedeR.Rcheck/RedeR-Ex.timings
| name | user | system | elapsed | |
| Deprecated | 0.00 | 0.02 | 0.01 | |
| RedPort | 0 | 0 | 0 | |
| RedeR-data1 | 0.03 | 0.01 | 0.04 | |
| RedeR-data2 | 0.03 | 0.00 | 0.04 | |
| addEdges-methods | 0.02 | 0.00 | 0.01 | |
| addGraph-methods | 0.01 | 0.00 | 0.02 | |
| addGraphToRedeR | 0.02 | 0.00 | 0.01 | |
| addLegendToRedeR | 0 | 0 | 0 | |
| addNodes-methods | 0.01 | 0.00 | 0.02 | |
| calld-methods | 0 | 0 | 0 | |
| deleteEdges-methods | 0.02 | 0.00 | 0.01 | |
| deleteNodes-methods | 0.01 | 0.00 | 0.02 | |
| exitRedeR | 0 | 0 | 0 | |
| exitd-methods | 0 | 0 | 0 | |
| getGraph-methods | 0.02 | 0.00 | 0.01 | |
| getGraphFromRedeR | 0.02 | 0.00 | 0.02 | |
| mergeOutEdges-methods | 0.01 | 0.00 | 0.01 | |
| nestNodes-methods | 0.14 | 0.01 | 0.16 | |
| ping-methods | 0.02 | 0.00 | 0.01 | |
| pingRedeR | 0 | 0 | 0 | |
| relax-methods | 0.01 | 0.00 | 0.02 | |
| relaxRedeR | 0.02 | 0.00 | 0.02 | |
| resetRedeR | 0 | 0 | 0 | |
| resetd-methods | 0.01 | 0.00 | 0.01 | |
| selectEdges-methods | 0.02 | 0.00 | 0.02 | |
| selectNodes-methods | 0.02 | 0.00 | 0.01 | |
| startRedeR | 0 | 0 | 0 | |
| subg | 0 | 0 | 0 | |
| transform.attributes | 0.03 | 0.00 | 0.03 | |
| updateLayoutFromRedeR | 0.01 | 0.00 | 0.02 | |
| version-methods | 0 | 0 | 0 | |