| Back to Multiple platform build/check report for BioC 3.19: simplified long | 
 | 
This page was generated on 2024-10-18 20:41 -0400 (Fri, 18 Oct 2024).
| Hostname | OS | Arch (*) | R version | Installed pkgs | 
|---|---|---|---|---|
| nebbiolo1 | Linux (Ubuntu 22.04.3 LTS) | x86_64 | 4.4.1 (2024-06-14) -- "Race for Your Life" | 4763 | 
| palomino7 | Windows Server 2022 Datacenter | x64 | 4.4.1 (2024-06-14 ucrt) -- "Race for Your Life" | 4500 | 
| merida1 | macOS 12.7.5 Monterey | x86_64 | 4.4.1 (2024-06-14) -- "Race for Your Life" | 4530 | 
| kjohnson1 | macOS 13.6.6 Ventura | arm64 | 4.4.1 (2024-06-14) -- "Race for Your Life" | 4480 | 
| Click on any hostname to see more info about the system (e.g. compilers) (*) as reported by 'uname -p', except on Windows and Mac OS X | ||||
| Package 1713/2300 | Hostname | OS / Arch | INSTALL | BUILD | CHECK | BUILD BIN | ||||||||
| ReactomeGSA 1.18.0  (landing page) Johannes Griss 
 | nebbiolo1 | Linux (Ubuntu 22.04.3 LTS) / x86_64 | OK | OK | OK |  | ||||||||
| palomino7 | Windows Server 2022 Datacenter / x64 | OK | OK | OK | OK |  | ||||||||
| merida1 | macOS 12.7.5 Monterey / x86_64 | OK | OK | OK | OK |  | ||||||||
| kjohnson1 | macOS 13.6.6 Ventura / arm64 | OK | OK | OK | OK |  | ||||||||
| To the developers/maintainers of the ReactomeGSA package: - Allow up to 24 hours (and sometimes 48 hours) for your latest push to git@git.bioconductor.org:packages/ReactomeGSA.git to reflect on this report. See Troubleshooting Build Report for more information. - Use the following Renviron settings to reproduce errors and warnings. - If 'R CMD check' started to fail recently on the Linux builder(s) over a missing dependency, add the missing dependency to 'Suggests:' in your DESCRIPTION file. See Renviron.bioc for more information. | 
| Package: ReactomeGSA | 
| Version: 1.18.0 | 
| Command: /Library/Frameworks/R.framework/Resources/bin/R CMD check --install=check:ReactomeGSA.install-out.txt --library=/Library/Frameworks/R.framework/Resources/library --no-vignettes --timings ReactomeGSA_1.18.0.tar.gz | 
| StartedAt: 2024-10-17 11:35:37 -0400 (Thu, 17 Oct 2024) | 
| EndedAt: 2024-10-17 12:02:10 -0400 (Thu, 17 Oct 2024) | 
| EllapsedTime: 1592.8 seconds | 
| RetCode: 0 | 
| Status: OK | 
| CheckDir: ReactomeGSA.Rcheck | 
| Warnings: 0 | 
##############################################################################
##############################################################################
###
### Running command:
###
###   /Library/Frameworks/R.framework/Resources/bin/R CMD check --install=check:ReactomeGSA.install-out.txt --library=/Library/Frameworks/R.framework/Resources/library --no-vignettes --timings ReactomeGSA_1.18.0.tar.gz
###
##############################################################################
##############################################################################
* using log directory ‘/Users/biocbuild/bbs-3.19-bioc/meat/ReactomeGSA.Rcheck’
* using R version 4.4.1 (2024-06-14)
* using platform: x86_64-apple-darwin20
* R was compiled by
    Apple clang version 14.0.0 (clang-1400.0.29.202)
    GNU Fortran (GCC) 12.2.0
* running under: macOS Monterey 12.7.6
* using session charset: UTF-8
* using option ‘--no-vignettes’
* checking for file ‘ReactomeGSA/DESCRIPTION’ ... OK
* checking extension type ... Package
* this is package ‘ReactomeGSA’ version ‘1.18.0’
* package encoding: UTF-8
* checking package namespace information ... OK
* checking package dependencies ... OK
* checking if this is a source package ... OK
* checking if there is a namespace ... OK
* checking for hidden files and directories ... OK
* checking for portable file names ... OK
* checking for sufficient/correct file permissions ... OK
* checking whether package ‘ReactomeGSA’ can be installed ... OK
* checking installed package size ... OK
* checking package directory ... OK
* checking ‘build’ directory ... OK
* checking DESCRIPTION meta-information ... OK
* checking top-level files ... OK
* checking for left-over files ... OK
* checking index information ... OK
* checking package subdirectories ... OK
* checking code files for non-ASCII characters ... OK
* checking R files for syntax errors ... OK
* checking whether the package can be loaded ... OK
* checking whether the package can be loaded with stated dependencies ... OK
* checking whether the package can be unloaded cleanly ... OK
* checking whether the namespace can be loaded with stated dependencies ... OK
* checking whether the namespace can be unloaded cleanly ... OK
* checking whether startup messages can be suppressed ... OK
* checking dependencies in R code ... OK
* checking S3 generic/method consistency ... OK
* checking replacement functions ... OK
* checking foreign function calls ... OK
* checking R code for possible problems ... NOTE
plot_correlations,ReactomeAnalysisResult: no visible binding for global
  variable ‘combined_sig’
plot_correlations,ReactomeAnalysisResult: no visible binding for global
  variable ‘alpha’
plot_gsva_pathway,ReactomeAnalysisResult: no visible binding for global
  variable ‘cluster_id’
plot_gsva_pathway,ReactomeAnalysisResult: no visible binding for global
  variable ‘expr’
plot_gsva_pca,ReactomeAnalysisResult: no visible binding for global
  variable ‘gsva_result’
plot_gsva_pca,ReactomeAnalysisResult: no visible binding for global
  variable ‘PC1’
plot_gsva_pca,ReactomeAnalysisResult: no visible binding for global
  variable ‘PC2’
plot_heatmap,ReactomeAnalysisResult: no visible global function
  definition for ‘desc’
plot_heatmap,ReactomeAnalysisResult: no visible binding for global
  variable ‘n_sig’
plot_heatmap,ReactomeAnalysisResult: no visible binding for global
  variable ‘dataset’
plot_heatmap,ReactomeAnalysisResult: no visible binding for global
  variable ‘Name’
plot_volcano,ReactomeAnalysisResult: no visible binding for global
  variable ‘av_foldchange’
plot_volcano,ReactomeAnalysisResult: no visible binding for global
  variable ‘FDR’
Undefined global functions or variables:
  FDR Name PC1 PC2 alpha av_foldchange cluster_id combined_sig dataset
  desc expr gsva_result n_sig
* checking Rd files ... OK
* checking Rd metadata ... OK
* checking Rd cross-references ... OK
* checking for missing documentation entries ... OK
* checking for code/documentation mismatches ... OK
* checking Rd \usage sections ... OK
* checking Rd contents ... OK
* checking for unstated dependencies in examples ... OK
* checking files in ‘vignettes’ ... OK
* checking examples ... OK
Examples with CPU (user + system) or elapsed time > 5s
                                                  user system elapsed
plot_gsva_pca                                   84.736  1.674 132.931
analyse_sc_clusters-Seurat-method               84.242  2.156 199.485
plot_gsva_heatmap-ReactomeAnalysisResult-method 84.780  1.530 136.024
plot_gsva_heatmap                               84.066  1.716 130.440
plot_gsva_pathway                               83.919  1.757 175.907
analyse_sc_clusters-SingleCellExperiment-method 82.515  1.721 168.793
plot_gsva_pca-ReactomeAnalysisResult-method     82.090  1.556 131.074
plot_gsva_pathway-ReactomeAnalysisResult-method 81.954  1.689 133.801
analyse_sc_clusters                             81.528  1.730 171.362
ReactomeAnalysisRequest                         11.486  0.750  16.508
plot_heatmap-ReactomeAnalysisResult-method       5.124  0.193   6.176
perform_reactome_analysis                        4.921  0.174  20.601
plot_heatmap                                     4.870  0.066   5.868
plot_correlations-ReactomeAnalysisResult-method  4.375  0.161   5.434
pathways-ReactomeAnalysisResult-method           4.103  0.072   5.036
load_public_dataset                              1.751  0.093   5.825
* checking for unstated dependencies in ‘tests’ ... OK
* checking tests ...
  Running ‘testthat.R’
 OK
* checking for unstated dependencies in vignettes ... OK
* checking package vignettes ... OK
* checking running R code from vignettes ... SKIPPED
* checking re-building of vignette outputs ... SKIPPED
* checking PDF version of manual ... OK
* DONE
Status: 1 NOTE
See
  ‘/Users/biocbuild/bbs-3.19-bioc/meat/ReactomeGSA.Rcheck/00check.log’
for details.
ReactomeGSA.Rcheck/00install.out
############################################################################## ############################################################################## ### ### Running command: ### ### /Library/Frameworks/R.framework/Resources/bin/R CMD INSTALL ReactomeGSA ### ############################################################################## ############################################################################## * installing to library ‘/Library/Frameworks/R.framework/Versions/4.4-x86_64/Resources/library’ * installing *source* package ‘ReactomeGSA’ ... ** using staged installation ** R ** inst ** byte-compile and prepare package for lazy loading in method for ‘analyse_sc_clusters’ with signature ‘object="Seurat"’: no definition for class “Seurat” in method for ‘analyse_sc_clusters’ with signature ‘object="SingleCellExperiment"’: no definition for class “SingleCellExperiment” in method for ‘add_dataset’ with signature ‘request="ReactomeAnalysisRequest",expression_values="EList"’: no definition for class “EList” in method for ‘add_dataset’ with signature ‘request="ReactomeAnalysisRequest",expression_values="DGEList"’: no definition for class “DGEList” ** help *** installing help indices ** building package indices ** installing vignettes ** testing if installed package can be loaded from temporary location ** testing if installed package can be loaded from final location ** testing if installed package keeps a record of temporary installation path * DONE (ReactomeGSA)
ReactomeGSA.Rcheck/tests/testthat.Rout
R version 4.4.1 (2024-06-14) -- "Race for Your Life"
Copyright (C) 2024 The R Foundation for Statistical Computing
Platform: x86_64-apple-darwin20
R is free software and comes with ABSOLUTELY NO WARRANTY.
You are welcome to redistribute it under certain conditions.
Type 'license()' or 'licence()' for distribution details.
R is a collaborative project with many contributors.
Type 'contributors()' for more information and
'citation()' on how to cite R or R packages in publications.
Type 'demo()' for some demos, 'help()' for on-line help, or
'help.start()' for an HTML browser interface to help.
Type 'q()' to quit R.
> library(testthat)
> library(ReactomeGSA)
> 
> test_check("ReactomeGSA")
[ FAIL 0 | WARN 0 | SKIP 0 | PASS 17 ]
> 
> proc.time()
   user  system elapsed 
  3.501   0.329   4.626 
ReactomeGSA.Rcheck/ReactomeGSA-Ex.timings
| name | user | system | elapsed | |
| ReactomeAnalysisRequest | 11.486 | 0.750 | 16.508 | |
| ReactomeAnalysisResult-class | 3.839 | 0.043 | 4.533 | |
| add_dataset-ReactomeAnalysisRequest-DGEList-method | 1.540 | 0.060 | 1.878 | |
| add_dataset-ReactomeAnalysisRequest-EList-method | 1.422 | 0.041 | 1.730 | |
| add_dataset-ReactomeAnalysisRequest-ExpressionSet-method | 1.413 | 0.037 | 1.636 | |
| add_dataset-ReactomeAnalysisRequest-data.frame-method | 1.747 | 0.045 | 2.013 | |
| add_dataset-ReactomeAnalysisRequest-matrix-method | 1.372 | 0.047 | 1.657 | |
| add_dataset | 1.352 | 0.037 | 1.544 | |
| analyse_sc_clusters-Seurat-method | 84.242 | 2.156 | 199.485 | |
| analyse_sc_clusters-SingleCellExperiment-method | 82.515 | 1.721 | 168.793 | |
| analyse_sc_clusters | 81.528 | 1.730 | 171.362 | |
| find_public_datasets | 0.186 | 0.018 | 3.384 | |
| get_public_species | 0.047 | 0.005 | 0.422 | |
| get_reactome_data_types | 0.095 | 0.012 | 0.977 | |
| get_reactome_methods | 0.164 | 0.021 | 1.376 | |
| get_result-ReactomeAnalysisResult-method | 0.332 | 0.017 | 0.367 | |
| get_result | 0.324 | 0.017 | 0.394 | |
| load_public_dataset | 1.751 | 0.093 | 5.825 | |
| names-ReactomeAnalysisResult-method | 0.329 | 0.015 | 0.414 | |
| open_reactome-ReactomeAnalysisResult-method | 0.341 | 0.015 | 0.416 | |
| open_reactome | 0.340 | 0.014 | 0.423 | |
| pathways-ReactomeAnalysisResult-method | 4.103 | 0.072 | 5.036 | |
| pathways | 3.949 | 0.047 | 4.789 | |
| perform_reactome_analysis | 4.921 | 0.174 | 20.601 | |
| plot_correlations-ReactomeAnalysisResult-method | 4.375 | 0.161 | 5.434 | |
| plot_correlations | 3.855 | 0.045 | 4.673 | |
| plot_gsva_heatmap-ReactomeAnalysisResult-method | 84.780 | 1.530 | 136.024 | |
| plot_gsva_heatmap | 84.066 | 1.716 | 130.440 | |
| plot_gsva_pathway-ReactomeAnalysisResult-method | 81.954 | 1.689 | 133.801 | |
| plot_gsva_pathway | 83.919 | 1.757 | 175.907 | |
| plot_gsva_pca-ReactomeAnalysisResult-method | 82.090 | 1.556 | 131.074 | |
| plot_gsva_pca | 84.736 | 1.674 | 132.931 | |
| plot_heatmap-ReactomeAnalysisResult-method | 5.124 | 0.193 | 6.176 | |
| plot_heatmap | 4.870 | 0.066 | 5.868 | |
| plot_volcano-ReactomeAnalysisResult-method | 0.367 | 0.017 | 0.470 | |
| plot_volcano | 0.408 | 0.017 | 0.499 | |
| print-ReactomeAnalysisRequest-method | 0.003 | 0.001 | 0.004 | |
| print-ReactomeAnalysisResult-method | 0.352 | 0.017 | 0.428 | |
| reactome_links-ReactomeAnalysisResult-method | 0.349 | 0.016 | 0.429 | |
| reactome_links | 0.372 | 0.024 | 0.468 | |
| result_types-ReactomeAnalysisResult-method | 0.348 | 0.016 | 0.426 | |
| result_types | 0.343 | 0.016 | 0.432 | |
| set_method-ReactomeAnalysisRequest-method | 0.003 | 0.005 | 0.008 | |
| set_method | 0.004 | 0.004 | 0.011 | |
| set_parameters-ReactomeAnalysisRequest-method | 0.004 | 0.001 | 0.005 | |
| set_parameters | 0.004 | 0.001 | 0.004 | |
| show-ReactomeAnalysisRequest-method | 0.003 | 0.002 | 0.007 | |
| show-ReactomeAnalysisResult-method | 0.356 | 0.017 | 0.439 | |