| Back to Multiple platform build/check report for BioC 3.19: simplified long | 
 | 
This page was generated on 2024-10-18 20:38 -0400 (Fri, 18 Oct 2024).
| Hostname | OS | Arch (*) | R version | Installed pkgs | 
|---|---|---|---|---|
| nebbiolo1 | Linux (Ubuntu 22.04.3 LTS) | x86_64 | 4.4.1 (2024-06-14) -- "Race for Your Life" | 4763 | 
| palomino7 | Windows Server 2022 Datacenter | x64 | 4.4.1 (2024-06-14 ucrt) -- "Race for Your Life" | 4500 | 
| merida1 | macOS 12.7.5 Monterey | x86_64 | 4.4.1 (2024-06-14) -- "Race for Your Life" | 4530 | 
| kjohnson1 | macOS 13.6.6 Ventura | arm64 | 4.4.1 (2024-06-14) -- "Race for Your Life" | 4480 | 
| Click on any hostname to see more info about the system (e.g. compilers) (*) as reported by 'uname -p', except on Windows and Mac OS X | ||||
| Package 1836/2300 | Hostname | OS / Arch | INSTALL | BUILD | CHECK | BUILD BIN | ||||||||
| RTNsurvival 1.28.0  (landing page) Clarice Groeneveld 
 | nebbiolo1 | Linux (Ubuntu 22.04.3 LTS) / x86_64 | OK | OK | OK |  | ||||||||
| palomino7 | Windows Server 2022 Datacenter / x64 | OK | OK | OK | OK |  | ||||||||
| merida1 | macOS 12.7.5 Monterey / x86_64 | OK | OK | OK | OK |  | ||||||||
| kjohnson1 | macOS 13.6.6 Ventura / arm64 | OK | OK | OK | OK |  | ||||||||
| To the developers/maintainers of the RTNsurvival package: - Allow up to 24 hours (and sometimes 48 hours) for your latest push to git@git.bioconductor.org:packages/RTNsurvival.git to reflect on this report. See Troubleshooting Build Report for more information. - Use the following Renviron settings to reproduce errors and warnings. - If 'R CMD check' started to fail recently on the Linux builder(s) over a missing dependency, add the missing dependency to 'Suggests:' in your DESCRIPTION file. See Renviron.bioc for more information. | 
| Package: RTNsurvival | 
| Version: 1.28.0 | 
| Command: /home/biocbuild/bbs-3.19-bioc/R/bin/R CMD check --install=check:RTNsurvival.install-out.txt --library=/home/biocbuild/bbs-3.19-bioc/R/site-library --timings RTNsurvival_1.28.0.tar.gz | 
| StartedAt: 2024-10-17 04:36:30 -0400 (Thu, 17 Oct 2024) | 
| EndedAt: 2024-10-17 04:40:24 -0400 (Thu, 17 Oct 2024) | 
| EllapsedTime: 233.5 seconds | 
| RetCode: 0 | 
| Status: OK | 
| CheckDir: RTNsurvival.Rcheck | 
| Warnings: 0 | 
##############################################################################
##############################################################################
###
### Running command:
###
###   /home/biocbuild/bbs-3.19-bioc/R/bin/R CMD check --install=check:RTNsurvival.install-out.txt --library=/home/biocbuild/bbs-3.19-bioc/R/site-library --timings RTNsurvival_1.28.0.tar.gz
###
##############################################################################
##############################################################################
* using log directory ‘/home/biocbuild/bbs-3.19-bioc/meat/RTNsurvival.Rcheck’
* using R version 4.4.1 (2024-06-14)
* using platform: x86_64-pc-linux-gnu
* R was compiled by
    gcc (Ubuntu 11.4.0-1ubuntu1~22.04) 11.4.0
    GNU Fortran (Ubuntu 11.4.0-1ubuntu1~22.04) 11.4.0
* running under: Ubuntu 22.04.5 LTS
* using session charset: UTF-8
* checking for file ‘RTNsurvival/DESCRIPTION’ ... OK
* checking extension type ... Package
* this is package ‘RTNsurvival’ version ‘1.28.0’
* package encoding: UTF-8
* checking package namespace information ... OK
* checking package dependencies ... OK
* checking if this is a source package ... OK
* checking if there is a namespace ... OK
* checking for hidden files and directories ... OK
* checking for portable file names ... OK
* checking for sufficient/correct file permissions ... OK
* checking whether package ‘RTNsurvival’ can be installed ... OK
* checking installed package size ... OK
* checking package directory ... OK
* checking ‘build’ directory ... OK
* checking DESCRIPTION meta-information ... OK
* checking top-level files ... OK
* checking for left-over files ... OK
* checking index information ... OK
* checking package subdirectories ... OK
* checking code files for non-ASCII characters ... OK
* checking R files for syntax errors ... OK
* checking whether the package can be loaded ... OK
* checking whether the package can be loaded with stated dependencies ... OK
* checking whether the package can be unloaded cleanly ... OK
* checking whether the namespace can be loaded with stated dependencies ... OK
* checking whether the namespace can be unloaded cleanly ... OK
* checking loading without being on the library search path ... OK
* checking dependencies in R code ... OK
* checking S3 generic/method consistency ... OK
* checking replacement functions ... OK
* checking foreign function calls ... OK
* checking R code for possible problems ... OK
* checking Rd files ... NOTE
checkRd: (-1) TNS.data.Rd:14: Lost braces
    14 |   \code{survival.data}{ A data.frame with a subset of samples in the Fletcher2013b package.}
       |                       ^
* checking Rd metadata ... OK
* checking Rd cross-references ... OK
* checking for missing documentation entries ... OK
* checking for code/documentation mismatches ... OK
* checking Rd \usage sections ... OK
* checking Rd contents ... OK
* checking for unstated dependencies in examples ... OK
* checking contents of ‘data’ directory ... OK
* checking data for non-ASCII characters ... OK
* checking LazyData ... OK
* checking data for ASCII and uncompressed saves ... OK
* checking files in ‘vignettes’ ... OK
* checking examples ... OK
* checking for unstated dependencies in ‘tests’ ... OK
* checking tests ...
  Running ‘runTests.R’
 OK
* checking for unstated dependencies in vignettes ... OK
* checking package vignettes ... OK
* checking re-building of vignette outputs ... OK
* checking PDF version of manual ... OK
* DONE
Status: 1 NOTE
See
  ‘/home/biocbuild/bbs-3.19-bioc/meat/RTNsurvival.Rcheck/00check.log’
for details.
RTNsurvival.Rcheck/00install.out
############################################################################## ############################################################################## ### ### Running command: ### ### /home/biocbuild/bbs-3.19-bioc/R/bin/R CMD INSTALL RTNsurvival ### ############################################################################## ############################################################################## * installing to library ‘/home/biocbuild/bbs-3.19-bioc/R/site-library’ * installing *source* package ‘RTNsurvival’ ... ** using staged installation ** R ** data *** moving datasets to lazyload DB ** inst ** byte-compile and prepare package for lazy loading ** help *** installing help indices ** building package indices ** installing vignettes ** testing if installed package can be loaded from temporary location ** testing if installed package can be loaded from final location ** testing if installed package keeps a record of temporary installation path * DONE (RTNsurvival)
RTNsurvival.Rcheck/tests/runTests.Rout
R version 4.4.1 (2024-06-14) -- "Race for Your Life"
Copyright (C) 2024 The R Foundation for Statistical Computing
Platform: x86_64-pc-linux-gnu
R is free software and comes with ABSOLUTELY NO WARRANTY.
You are welcome to redistribute it under certain conditions.
Type 'license()' or 'licence()' for distribution details.
R is a collaborative project with many contributors.
Type 'contributors()' for more information and
'citation()' on how to cite R or R packages in publications.
Type 'demo()' for some demos, 'help()' for on-line help, or
'help.start()' for an HTML browser interface to help.
Type 'q()' to quit R.
> BiocGenerics:::testPackage("RTNsurvival")
RUNIT TEST PROTOCOL -- Thu Oct 17 04:40:05 2024 
*********************************************** 
Number of test functions: 1 
Number of errors: 0 
Number of failures: 0 
 
1 Test Suite : 
RTNsurvival RUnit Tests - 1 test function, 0 errors, 0 failures
Number of test functions: 1 
Number of errors: 0 
Number of failures: 0 
> 
> proc.time()
   user  system elapsed 
  9.578   0.618  10.185 
RTNsurvival.Rcheck/RTNsurvival-Ex.timings
| name | user | system | elapsed | |
| TNS.data | 0.002 | 0.000 | 0.002 | |
| hclust_semisupervised | 0.052 | 0.016 | 0.068 | |
| tni2tnsPreprocess-methods | 0.346 | 0.004 | 0.350 | |
| tnsAREA3-methods | 1.099 | 0.024 | 1.123 | |
| tnsCox-methods | 1.408 | 0.044 | 1.453 | |
| tnsCoxInteraction-methods | 1.347 | 0.056 | 1.404 | |
| tnsGSEA2-methods | 0.810 | 0.020 | 0.829 | |
| tnsGet-methods | 0.843 | 0.008 | 0.850 | |
| tnsInteraction-methods | 1.349 | 0.112 | 1.462 | |
| tnsKM-methods | 0.850 | 0.020 | 0.869 | |
| tnsKmInteraction-methods | 0.831 | 0.008 | 0.839 | |
| tnsPlotCovariates-methods | 2.577 | 0.180 | 2.757 | |
| tnsPlotCox-methods | 0.918 | 0.032 | 0.950 | |
| tnsPlotCoxInteraction-methods | 1.364 | 0.064 | 1.428 | |
| tnsPlotGSEA2-methods | 1.436 | 0.020 | 1.456 | |
| tnsPlotKM-methods | 1.446 | 0.060 | 1.506 | |
| tnsPlotKmInteraction-methods | 0.834 | 0.020 | 0.854 | |
| tnsPlotSRE-methods | 0.896 | 0.000 | 0.897 | |
| tnsSRD-methods | 0.863 | 0.024 | 0.887 | |
| tnsSRE-methods | 1.448 | 0.032 | 1.479 | |
| tnsStratification | 0 | 0 | 0 | |