| Back to Multiple platform build/check report for BioC 3.19: simplified long | 
 | 
This page was generated on 2024-10-18 20:40 -0400 (Fri, 18 Oct 2024).
| Hostname | OS | Arch (*) | R version | Installed pkgs | 
|---|---|---|---|---|
| nebbiolo1 | Linux (Ubuntu 22.04.3 LTS) | x86_64 | 4.4.1 (2024-06-14) -- "Race for Your Life" | 4763 | 
| palomino7 | Windows Server 2022 Datacenter | x64 | 4.4.1 (2024-06-14 ucrt) -- "Race for Your Life" | 4500 | 
| merida1 | macOS 12.7.5 Monterey | x86_64 | 4.4.1 (2024-06-14) -- "Race for Your Life" | 4530 | 
| kjohnson1 | macOS 13.6.6 Ventura | arm64 | 4.4.1 (2024-06-14) -- "Race for Your Life" | 4480 | 
| Click on any hostname to see more info about the system (e.g. compilers) (*) as reported by 'uname -p', except on Windows and Mac OS X | ||||
| Package 1775/2300 | Hostname | OS / Arch | INSTALL | BUILD | CHECK | BUILD BIN | ||||||||
| Min-Jeong Baek 
 | nebbiolo1 | Linux (Ubuntu 22.04.3 LTS) / x86_64 | OK | OK | ERROR | |||||||||
| palomino7 | Windows Server 2022 Datacenter / x64 | OK | OK | OK | OK |  | ||||||||
| merida1 | macOS 12.7.5 Monterey / x86_64 | OK | OK | OK | OK |  | ||||||||
| kjohnson1 | macOS 13.6.6 Ventura / arm64 | OK | OK | OK | OK |  | ||||||||
| To the developers/maintainers of the RIPAT package: - Allow up to 24 hours (and sometimes 48 hours) for your latest push to git@git.bioconductor.org:packages/RIPAT.git to reflect on this report. See Troubleshooting Build Report for more information. - Use the following Renviron settings to reproduce errors and warnings. - If 'R CMD check' started to fail recently on the Linux builder(s) over a missing dependency, add the missing dependency to 'Suggests:' in your DESCRIPTION file. See Renviron.bioc for more information. | 
| Package: RIPAT | 
| Version: 1.14.0 | 
| Command: E:\biocbuild\bbs-3.19-bioc\R\bin\R.exe CMD check --no-multiarch --install=check:RIPAT.install-out.txt --library=E:\biocbuild\bbs-3.19-bioc\R\library --no-vignettes --timings RIPAT_1.14.0.tar.gz | 
| StartedAt: 2024-10-17 05:05:30 -0400 (Thu, 17 Oct 2024) | 
| EndedAt: 2024-10-17 05:07:27 -0400 (Thu, 17 Oct 2024) | 
| EllapsedTime: 117.2 seconds | 
| RetCode: 0 | 
| Status: OK | 
| CheckDir: RIPAT.Rcheck | 
| Warnings: 0 | 
##############################################################################
##############################################################################
###
### Running command:
###
###   E:\biocbuild\bbs-3.19-bioc\R\bin\R.exe CMD check --no-multiarch --install=check:RIPAT.install-out.txt --library=E:\biocbuild\bbs-3.19-bioc\R\library --no-vignettes --timings RIPAT_1.14.0.tar.gz
###
##############################################################################
##############################################################################
* using log directory 'E:/biocbuild/bbs-3.19-bioc/meat/RIPAT.Rcheck'
* using R version 4.4.1 (2024-06-14 ucrt)
* using platform: x86_64-w64-mingw32
* R was compiled by
    gcc.exe (GCC) 13.2.0
    GNU Fortran (GCC) 13.2.0
* running under: Windows Server 2022 x64 (build 20348)
* using session charset: UTF-8
* using option '--no-vignettes'
* checking for file 'RIPAT/DESCRIPTION' ... OK
* this is package 'RIPAT' version '1.14.0'
* package encoding: UTF-8
* checking package namespace information ... OK
* checking package dependencies ... OK
* checking if this is a source package ... OK
* checking if there is a namespace ... OK
* checking for hidden files and directories ... OK
* checking for portable file names ... OK
* checking whether package 'RIPAT' can be installed ... OK
* checking installed package size ... OK
* checking package directory ... OK
* checking 'build' directory ... OK
* checking DESCRIPTION meta-information ... OK
* checking top-level files ... OK
* checking for left-over files ... OK
* checking index information ... OK
* checking package subdirectories ... OK
* checking code files for non-ASCII characters ... OK
* checking R files for syntax errors ... OK
* checking whether the package can be loaded ... OK
* checking whether the package can be loaded with stated dependencies ... OK
* checking whether the package can be unloaded cleanly ... OK
* checking whether the namespace can be loaded with stated dependencies ... OK
* checking whether the namespace can be unloaded cleanly ... OK
* checking whether startup messages can be suppressed ... OK
* checking dependencies in R code ... OK
* checking S3 generic/method consistency ... OK
* checking replacement functions ... OK
* checking foreign function calls ... OK
* checking R code for possible problems ... NOTE
annoByCpG: no visible global function definition for 'hist'
annoByCpG: no visible binding for global variable 'Range'
annoByCpG: no visible binding for global variable 'Freq'
annoByCpG: no visible binding for global variable 'Group'
annoByGene: no visible global function definition for 'hist'
annoByGene: no visible binding for global variable 'Range'
annoByGene: no visible binding for global variable 'Freq'
annoByGene: no visible binding for global variable 'Group'
annoByRepeat: no visible global function definition for 'hist'
annoByRepeat: no visible binding for global variable 'all_dist_dup_m'
annoByRepeat: no visible binding for global variable 'Range'
annoByRepeat: no visible binding for global variable 'Freq'
annoByRepeat: no visible binding for global variable 'Group'
annoByVar: no visible global function definition for 'hist'
annoByVar: no visible binding for global variable 'Range'
annoByVar: no visible binding for global variable 'Freq'
annoByVar: no visible binding for global variable 'Group'
makeDocument : <anonymous>: no visible global function definition for
  'hist'
makeDocument: no visible binding for global variable 'group'
makeDocument: no visible binding for global variable 'type'
makeDocument: no visible binding for global variable 'convert_p'
makeDocument: no visible global function definition for 'par'
Undefined global functions or variables:
  Freq Group Range all_dist_dup_m convert_p group hist par type
Consider adding
  importFrom("graphics", "hist", "par")
to your NAMESPACE file.
* checking Rd files ... OK
* checking Rd metadata ... OK
* checking Rd cross-references ... OK
* checking for missing documentation entries ... OK
* checking for code/documentation mismatches ... OK
* checking Rd \usage sections ... OK
* checking Rd contents ... OK
* checking for unstated dependencies in examples ... OK
* checking contents of 'data' directory ... OK
* checking data for non-ASCII characters ... OK
* checking data for ASCII and uncompressed saves ... OK
* checking files in 'vignettes' ... OK
* checking examples ... OK
Examples with CPU (user + system) or elapsed time > 5s
              user system elapsed
drawingKaryo 12.78   0.74   13.57
makeData      6.32   0.35    7.55
makeDocument  3.31   0.66    7.70
makeInputObj  1.05   0.06   15.63
* checking for unstated dependencies in vignettes ... OK
* checking package vignettes ... OK
* checking running R code from vignettes ... SKIPPED
* checking re-building of vignette outputs ... SKIPPED
* checking PDF version of manual ... OK
* DONE
Status: 1 NOTE
See
  'E:/biocbuild/bbs-3.19-bioc/meat/RIPAT.Rcheck/00check.log'
for details.
RIPAT.Rcheck/00install.out
############################################################################## ############################################################################## ### ### Running command: ### ### E:\biocbuild\bbs-3.19-bioc\R\bin\R.exe CMD INSTALL RIPAT ### ############################################################################## ############################################################################## * installing to library 'E:/biocbuild/bbs-3.19-bioc/R/library' * installing *source* package 'RIPAT' ... ** using staged installation ** R ** data ** inst ** byte-compile and prepare package for lazy loading ** help *** installing help indices ** building package indices ** installing vignettes ** testing if installed package can be loaded from temporary location Warning in fun(libname, pkgname) : Package 'RIPAT' is deprecated and will be removed from Bioconductor version 3.20 ** testing if installed package can be loaded from final location Warning in fun(libname, pkgname) : Package 'RIPAT' is deprecated and will be removed from Bioconductor version 3.20 ** testing if installed package keeps a record of temporary installation path * DONE (RIPAT)
RIPAT.Rcheck/RIPAT-Ex.timings
| name | user | system | elapsed | |
| annoByCpG | 3.80 | 0.37 | 4.22 | |
| annoByGene | 1.35 | 0.11 | 1.47 | |
| annoByRepeat | 1.52 | 0.15 | 1.72 | |
| annoByVar | 0.69 | 0.08 | 0.82 | |
| blast_gene | 0.07 | 0.00 | 0.07 | |
| blast_obj | 0 | 0 | 0 | |
| cpg_exam_db | 0.02 | 0.00 | 0.01 | |
| drawingKaryo | 12.78 | 0.74 | 13.57 | |
| gene_exam_db | 0.04 | 0.00 | 0.04 | |
| makeData | 6.32 | 0.35 | 7.55 | |
| makeDocument | 3.31 | 0.66 | 7.70 | |
| makeInputObj | 1.05 | 0.06 | 15.63 | |
| makeInputObj2 | 2.01 | 0.07 | 2.08 | |
| micro_exam_db | 0 | 0 | 0 | |
| repeat_exam_db | 0.00 | 0.01 | 0.01 | |
| tss_exam_db | 0.03 | 0.00 | 0.03 | |
| var_exam_db | 0.06 | 0.00 | 0.07 | |