| Back to Multiple platform build/check report for BioC 3.19: simplified long | 
 | 
This page was generated on 2024-10-18 20:41 -0400 (Fri, 18 Oct 2024).
| Hostname | OS | Arch (*) | R version | Installed pkgs | 
|---|---|---|---|---|
| nebbiolo1 | Linux (Ubuntu 22.04.3 LTS) | x86_64 | 4.4.1 (2024-06-14) -- "Race for Your Life" | 4763 | 
| palomino7 | Windows Server 2022 Datacenter | x64 | 4.4.1 (2024-06-14 ucrt) -- "Race for Your Life" | 4500 | 
| merida1 | macOS 12.7.5 Monterey | x86_64 | 4.4.1 (2024-06-14) -- "Race for Your Life" | 4530 | 
| kjohnson1 | macOS 13.6.6 Ventura | arm64 | 4.4.1 (2024-06-14) -- "Race for Your Life" | 4480 | 
| Click on any hostname to see more info about the system (e.g. compilers) (*) as reported by 'uname -p', except on Windows and Mac OS X | ||||
| Package 1656/2300 | Hostname | OS / Arch | INSTALL | BUILD | CHECK | BUILD BIN | ||||||||
| QuartPAC 1.36.0  (landing page) Gregory Ryslik 
 | nebbiolo1 | Linux (Ubuntu 22.04.3 LTS) / x86_64 | OK | OK | OK |  | ||||||||
| palomino7 | Windows Server 2022 Datacenter / x64 | OK | OK | OK | OK |  | ||||||||
| merida1 | macOS 12.7.5 Monterey / x86_64 | OK | OK | OK | OK |  | ||||||||
| kjohnson1 | macOS 13.6.6 Ventura / arm64 | OK | OK | ERROR | OK | |||||||||
| To the developers/maintainers of the QuartPAC package: - Allow up to 24 hours (and sometimes 48 hours) for your latest push to git@git.bioconductor.org:packages/QuartPAC.git to reflect on this report. See Troubleshooting Build Report for more information. - Use the following Renviron settings to reproduce errors and warnings. - If 'R CMD check' started to fail recently on the Linux builder(s) over a missing dependency, add the missing dependency to 'Suggests:' in your DESCRIPTION file. See Renviron.bioc for more information. | 
| Package: QuartPAC | 
| Version: 1.36.0 | 
| Command: /Library/Frameworks/R.framework/Resources/bin/R CMD check --install=check:QuartPAC.install-out.txt --library=/Library/Frameworks/R.framework/Resources/library --no-vignettes --timings QuartPAC_1.36.0.tar.gz | 
| StartedAt: 2024-10-17 11:22:54 -0400 (Thu, 17 Oct 2024) | 
| EndedAt: 2024-10-17 11:31:01 -0400 (Thu, 17 Oct 2024) | 
| EllapsedTime: 487.4 seconds | 
| RetCode: 0 | 
| Status: OK | 
| CheckDir: QuartPAC.Rcheck | 
| Warnings: 0 | 
##############################################################################
##############################################################################
###
### Running command:
###
###   /Library/Frameworks/R.framework/Resources/bin/R CMD check --install=check:QuartPAC.install-out.txt --library=/Library/Frameworks/R.framework/Resources/library --no-vignettes --timings QuartPAC_1.36.0.tar.gz
###
##############################################################################
##############################################################################
* using log directory ‘/Users/biocbuild/bbs-3.19-bioc/meat/QuartPAC.Rcheck’
* using R version 4.4.1 (2024-06-14)
* using platform: x86_64-apple-darwin20
* R was compiled by
    Apple clang version 14.0.0 (clang-1400.0.29.202)
    GNU Fortran (GCC) 12.2.0
* running under: macOS Monterey 12.7.6
* using session charset: UTF-8
* using option ‘--no-vignettes’
* checking for file ‘QuartPAC/DESCRIPTION’ ... OK
* checking extension type ... Package
* this is package ‘QuartPAC’ version ‘1.36.0’
* checking package namespace information ... OK
* checking package dependencies ... OK
* checking if this is a source package ... OK
* checking if there is a namespace ... OK
* checking for hidden files and directories ... OK
* checking for portable file names ... OK
* checking for sufficient/correct file permissions ... OK
* checking whether package ‘QuartPAC’ can be installed ... OK
* checking installed package size ... OK
* checking package directory ... OK
* checking ‘build’ directory ... OK
* checking DESCRIPTION meta-information ... OK
* checking top-level files ... OK
* checking for left-over files ... OK
* checking index information ... OK
* checking package subdirectories ... OK
* checking code files for non-ASCII characters ... OK
* checking R files for syntax errors ... OK
* checking whether the package can be loaded ... OK
* checking whether the package can be loaded with stated dependencies ... OK
* checking whether the package can be unloaded cleanly ... OK
* checking whether the namespace can be loaded with stated dependencies ... OK
* checking whether the namespace can be unloaded cleanly ... OK
* checking dependencies in R code ... OK
* checking S3 generic/method consistency ... OK
* checking replacement functions ... OK
* checking foreign function calls ... OK
* checking R code for possible problems ... NOTE
constructCanonicalNumbering: no visible global function definition for
  ‘start’
getMutations : <anonymous>: no visible global function definition for
  ‘read.table’
getRangeLocInfo: no visible global function definition for ‘aggregate’
quartCluster: no visible global function definition for
  ‘capture.output’
Undefined global functions or variables:
  aggregate capture.output read.table start
Consider adding
  importFrom("stats", "aggregate", "start")
  importFrom("utils", "capture.output", "read.table")
to your NAMESPACE file.
* checking Rd files ... NOTE
checkRd: (-1) getMutations.Rd:36: Lost braces
    36 | To see examples of mutation matrices, please look in the /emph{extdata} folder of the package.
       |                                                               ^
* checking Rd metadata ... OK
* checking Rd cross-references ... OK
* checking for missing documentation entries ... OK
* checking for code/documentation mismatches ... OK
* checking Rd \usage sections ... OK
* checking Rd contents ... OK
* checking for unstated dependencies in examples ... OK
* checking sizes of PDF files under ‘inst/doc’ ... OK
* checking files in ‘vignettes’ ... OK
* checking examples ... OK
Examples with CPU (user + system) or elapsed time > 5s
                            user system elapsed
QuartPAC-package          76.728  1.034  96.545
quartCluster              23.456  0.254  34.311
makeAlignedSuperStructure 22.749  0.269  30.110
* checking for unstated dependencies in ‘tests’ ... OK
* checking tests ...
  Running ‘runTests.R’
 OK
* checking for unstated dependencies in vignettes ... OK
* checking package vignettes ... OK
* checking running R code from vignettes ... SKIPPED
* checking re-building of vignette outputs ... SKIPPED
* checking PDF version of manual ... OK
* DONE
Status: 2 NOTEs
See
  ‘/Users/biocbuild/bbs-3.19-bioc/meat/QuartPAC.Rcheck/00check.log’
for details.
QuartPAC.Rcheck/00install.out
############################################################################## ############################################################################## ### ### Running command: ### ### /Library/Frameworks/R.framework/Resources/bin/R CMD INSTALL QuartPAC ### ############################################################################## ############################################################################## * installing to library ‘/Library/Frameworks/R.framework/Versions/4.4-x86_64/Resources/library’ * installing *source* package ‘QuartPAC’ ... ** using staged installation ** R ** inst ** byte-compile and prepare package for lazy loading ** help *** installing help indices ** building package indices ** installing vignettes ** testing if installed package can be loaded from temporary location ** testing if installed package can be loaded from final location ** testing if installed package keeps a record of temporary installation path * DONE (QuartPAC)
QuartPAC.Rcheck/tests/runTests.Rout
R version 4.4.1 (2024-06-14) -- "Race for Your Life"
Copyright (C) 2024 The R Foundation for Statistical Computing
Platform: x86_64-apple-darwin20
R is free software and comes with ABSOLUTELY NO WARRANTY.
You are welcome to redistribute it under certain conditions.
Type 'license()' or 'licence()' for distribution details.
R is a collaborative project with many contributors.
Type 'contributors()' for more information and
'citation()' on how to cite R or R packages in publications.
Type 'demo()' for some demos, 'help()' for on-line help, or
'help.start()' for an HTML browser interface to help.
Type 'q()' to quit R.
> BiocGenerics:::testPackage("QuartPAC")
Attaching package: 'BiocGenerics'
The following objects are masked from 'package:stats':
    IQR, mad, sd, var, xtabs
The following objects are masked from 'package:base':
    Filter, Find, Map, Position, Reduce, anyDuplicated, aperm, append,
    as.data.frame, basename, cbind, colnames, dirname, do.call,
    duplicated, eval, evalq, get, grep, grepl, intersect, is.unsorted,
    lapply, mapply, match, mget, order, paste, pmax, pmax.int, pmin,
    pmin.int, rank, rbind, rownames, sapply, setdiff, table, tapply,
    union, unique, unsplit, which.max, which.min
Attaching package: 'S4Vectors'
The following object is masked from 'package:utils':
    findMatches
The following objects are masked from 'package:base':
    I, expand.grid, unname
Attaching package: 'Biostrings'
The following object is masked from 'package:base':
    strsplit
Attaching package: 'pwalign'
The following objects are masked from 'package:Biostrings':
    PairwiseAlignments, PairwiseAlignmentsSingleSubject, aligned,
    alignedPattern, alignedSubject, compareStrings, deletion,
    errorSubstitutionMatrices, indel, insertion, mismatchSummary,
    mismatchTable, nedit, nindel, nucleotideSubstitutionMatrix,
    pairwiseAlignment, pid, qualitySubstitutionMatrices, stringDist,
    unaligned, writePairwiseAlignments
Welcome to Bioconductor
    Vignettes contain introductory material; view with
    'browseVignettes()'. To cite Bioconductor, see
    'citation("Biobase")', and for packages 'citation("pkgname")'.
Attaching package: 'igraph'
The following object is masked from 'package:Biostrings':
    union
The following object is masked from 'package:XVector':
    path
The following object is masked from 'package:IRanges':
    union
The following object is masked from 'package:S4Vectors':
    union
The following objects are masked from 'package:BiocGenerics':
    normalize, path, union
The following objects are masked from 'package:stats':
    decompose, spectrum
The following object is masked from 'package:base':
    union
Attaching package: 'combinat'
The following object is masked from 'package:utils':
    combn
Attaching package: 'data.table'
The following object is masked from 'package:IRanges':
    shift
The following objects are masked from 'package:S4Vectors':
    first, second
Performing SpacePAC calculations
Processing radius # 1 : radius length = 1.00 : Percentage complete 0.00 
Processing radius # 2 : radius length = 2.00 : Percentage complete 0.50 
Performing iPAC Calculations
[1] "Running Remapped"
Performing GraphPAC Calculations
Calculating Remapped Clusters.
RUNIT TEST PROTOCOL -- Thu Oct 17 11:30:47 2024 
*********************************************** 
Number of test functions: 1 
Number of errors: 0 
Number of failures: 0 
 
1 Test Suite : 
QuartPAC RUnit Tests - 1 test function, 0 errors, 0 failures
Number of test functions: 1 
Number of errors: 0 
Number of failures: 0 
> 
> proc.time()
   user  system elapsed 
 70.386   1.660  87.940 
QuartPAC.Rcheck/QuartPAC-Ex.timings
| name | user | system | elapsed | |
| QuartPAC-package | 76.728 | 1.034 | 96.545 | |
| getMutations | 0.134 | 0.055 | 2.141 | |
| makeAlignedSuperStructure | 22.749 | 0.269 | 30.110 | |
| quartCluster | 23.456 | 0.254 | 34.311 | |