| Back to Multiple platform build/check report for BioC 3.19: simplified long |
|
This page was generated on 2024-10-18 20:38 -0400 (Fri, 18 Oct 2024).
| Hostname | OS | Arch (*) | R version | Installed pkgs |
|---|---|---|---|---|
| nebbiolo1 | Linux (Ubuntu 22.04.3 LTS) | x86_64 | 4.4.1 (2024-06-14) -- "Race for Your Life" | 4763 |
| palomino7 | Windows Server 2022 Datacenter | x64 | 4.4.1 (2024-06-14 ucrt) -- "Race for Your Life" | 4500 |
| merida1 | macOS 12.7.5 Monterey | x86_64 | 4.4.1 (2024-06-14) -- "Race for Your Life" | 4530 |
| kjohnson1 | macOS 13.6.6 Ventura | arm64 | 4.4.1 (2024-06-14) -- "Race for Your Life" | 4480 |
| Click on any hostname to see more info about the system (e.g. compilers) (*) as reported by 'uname -p', except on Windows and Mac OS X | ||||
| Package 1623/2300 | Hostname | OS / Arch | INSTALL | BUILD | CHECK | BUILD BIN | ||||||||
| ProteoMM 1.22.0 (landing page) Yuliya V Karpievitch
| nebbiolo1 | Linux (Ubuntu 22.04.3 LTS) / x86_64 | OK | OK | OK | |||||||||
| palomino7 | Windows Server 2022 Datacenter / x64 | OK | OK | OK | OK | |||||||||
| merida1 | macOS 12.7.5 Monterey / x86_64 | OK | OK | OK | OK | |||||||||
| kjohnson1 | macOS 13.6.6 Ventura / arm64 | OK | OK | OK | OK | |||||||||
|
To the developers/maintainers of the ProteoMM package: - Allow up to 24 hours (and sometimes 48 hours) for your latest push to git@git.bioconductor.org:packages/ProteoMM.git to reflect on this report. See Troubleshooting Build Report for more information. - Use the following Renviron settings to reproduce errors and warnings. - If 'R CMD check' started to fail recently on the Linux builder(s) over a missing dependency, add the missing dependency to 'Suggests:' in your DESCRIPTION file. See Renviron.bioc for more information. |
| Package: ProteoMM |
| Version: 1.22.0 |
| Command: /home/biocbuild/bbs-3.19-bioc/R/bin/R CMD check --install=check:ProteoMM.install-out.txt --library=/home/biocbuild/bbs-3.19-bioc/R/site-library --timings ProteoMM_1.22.0.tar.gz |
| StartedAt: 2024-10-17 03:57:33 -0400 (Thu, 17 Oct 2024) |
| EndedAt: 2024-10-17 03:59:15 -0400 (Thu, 17 Oct 2024) |
| EllapsedTime: 101.2 seconds |
| RetCode: 0 |
| Status: OK |
| CheckDir: ProteoMM.Rcheck |
| Warnings: 0 |
##############################################################################
##############################################################################
###
### Running command:
###
### /home/biocbuild/bbs-3.19-bioc/R/bin/R CMD check --install=check:ProteoMM.install-out.txt --library=/home/biocbuild/bbs-3.19-bioc/R/site-library --timings ProteoMM_1.22.0.tar.gz
###
##############################################################################
##############################################################################
* using log directory ‘/home/biocbuild/bbs-3.19-bioc/meat/ProteoMM.Rcheck’
* using R version 4.4.1 (2024-06-14)
* using platform: x86_64-pc-linux-gnu
* R was compiled by
gcc (Ubuntu 11.4.0-1ubuntu1~22.04) 11.4.0
GNU Fortran (Ubuntu 11.4.0-1ubuntu1~22.04) 11.4.0
* running under: Ubuntu 22.04.5 LTS
* using session charset: UTF-8
* checking for file ‘ProteoMM/DESCRIPTION’ ... OK
* this is package ‘ProteoMM’ version ‘1.22.0’
* package encoding: UTF-8
* checking package namespace information ... OK
* checking package dependencies ... OK
* checking if this is a source package ... OK
* checking if there is a namespace ... OK
* checking for hidden files and directories ... OK
* checking for portable file names ... OK
* checking for sufficient/correct file permissions ... OK
* checking whether package ‘ProteoMM’ can be installed ... OK
* checking installed package size ... OK
* checking package directory ... OK
* checking ‘build’ directory ... OK
* checking DESCRIPTION meta-information ... NOTE
License components which are templates and need '+ file LICENSE':
MIT
* checking top-level files ... OK
* checking for left-over files ... OK
* checking index information ... OK
* checking package subdirectories ... OK
* checking code files for non-ASCII characters ... OK
* checking R files for syntax errors ... OK
* checking whether the package can be loaded ... OK
* checking whether the package can be loaded with stated dependencies ... OK
* checking whether the package can be unloaded cleanly ... OK
* checking whether the namespace can be loaded with stated dependencies ... OK
* checking whether the namespace can be unloaded cleanly ... OK
* checking loading without being on the library search path ... OK
* checking dependencies in R code ... OK
* checking S3 generic/method consistency ... OK
* checking replacement functions ... OK
* checking foreign function calls ... OK
* checking R code for possible problems ... OK
* checking Rd files ... OK
* checking Rd metadata ... OK
* checking Rd cross-references ... OK
* checking for missing documentation entries ... OK
* checking for code/documentation mismatches ... OK
* checking Rd \usage sections ... OK
* checking Rd contents ... OK
* checking for unstated dependencies in examples ... OK
* checking contents of ‘data’ directory ... OK
* checking data for non-ASCII characters ... OK
* checking LazyData ... OK
* checking data for ASCII and uncompressed saves ... OK
* checking files in ‘vignettes’ ... OK
* checking examples ... OK
Examples with CPU (user + system) or elapsed time > 5s
user system elapsed
prot_level_multi_part 18.065 0.052 18.118
prot_level_multiMat_PresAbs 6.226 0.056 6.282
subset_proteins 6.140 0.016 6.155
* checking for unstated dependencies in vignettes ... OK
* checking package vignettes ... OK
* checking re-building of vignette outputs ... OK
* checking PDF version of manual ... OK
* DONE
Status: 1 NOTE
See
‘/home/biocbuild/bbs-3.19-bioc/meat/ProteoMM.Rcheck/00check.log’
for details.
ProteoMM.Rcheck/00install.out
############################################################################## ############################################################################## ### ### Running command: ### ### /home/biocbuild/bbs-3.19-bioc/R/bin/R CMD INSTALL ProteoMM ### ############################################################################## ############################################################################## * installing to library ‘/home/biocbuild/bbs-3.19-bioc/R/site-library’ * installing *source* package ‘ProteoMM’ ... ** using staged installation ** R ** data *** moving datasets to lazyload DB ** byte-compile and prepare package for lazy loading ** help *** installing help indices ** building package indices ** installing vignettes ** testing if installed package can be loaded from temporary location ** testing if installed package can be loaded from final location ** testing if installed package keeps a record of temporary installation path * DONE (ProteoMM)
ProteoMM.Rcheck/ProteoMM-Ex.timings
| name | user | system | elapsed | |
| MBimpute | 3.715 | 0.040 | 3.756 | |
| convert_log2 | 0.006 | 0.000 | 0.006 | |
| eig_norm1 | 2.888 | 0.016 | 2.904 | |
| eig_norm2 | 2.848 | 0.024 | 2.872 | |
| eigen_pi | 0.024 | 0.000 | 0.023 | |
| g.test | 0.004 | 0.000 | 0.003 | |
| get_presAbs_prots | 4.864 | 0.012 | 4.877 | |
| makeLMFormula | 0.000 | 0.000 | 0.001 | |
| make_intencities | 0.004 | 0.000 | 0.004 | |
| make_meta | 0.004 | 0.000 | 0.005 | |
| peptideLevel_DE | 3.856 | 0.036 | 3.892 | |
| peptideLevel_PresAbsDE | 4.864 | 0.024 | 4.888 | |
| plot_3_pep_trends_NOfile | 2.601 | 0.004 | 2.605 | |
| plot_volcano | 3.736 | 0.024 | 3.760 | |
| plot_volcano_wLab | 4.023 | 0.004 | 4.027 | |
| prot_level_multiMat_PresAbs | 6.226 | 0.056 | 6.282 | |
| prot_level_multi_part | 18.065 | 0.052 | 18.118 | |
| subset_proteins | 6.140 | 0.016 | 6.155 | |