| Back to Multiple platform build/check report for BioC 3.19: simplified long |
|
This page was generated on 2024-10-18 20:41 -0400 (Fri, 18 Oct 2024).
| Hostname | OS | Arch (*) | R version | Installed pkgs |
|---|---|---|---|---|
| nebbiolo1 | Linux (Ubuntu 22.04.3 LTS) | x86_64 | 4.4.1 (2024-06-14) -- "Race for Your Life" | 4763 |
| palomino7 | Windows Server 2022 Datacenter | x64 | 4.4.1 (2024-06-14 ucrt) -- "Race for Your Life" | 4500 |
| merida1 | macOS 12.7.5 Monterey | x86_64 | 4.4.1 (2024-06-14) -- "Race for Your Life" | 4530 |
| kjohnson1 | macOS 13.6.6 Ventura | arm64 | 4.4.1 (2024-06-14) -- "Race for Your Life" | 4480 |
| Click on any hostname to see more info about the system (e.g. compilers) (*) as reported by 'uname -p', except on Windows and Mac OS X | ||||
| Package 1568/2300 | Hostname | OS / Arch | INSTALL | BUILD | CHECK | BUILD BIN | ||||||||
| Pigengene 1.30.0 (landing page) Habil Zare
| nebbiolo1 | Linux (Ubuntu 22.04.3 LTS) / x86_64 | OK | OK | OK | |||||||||
| palomino7 | Windows Server 2022 Datacenter / x64 | OK | OK | OK | OK | |||||||||
| merida1 | macOS 12.7.5 Monterey / x86_64 | OK | OK | OK | OK | |||||||||
| kjohnson1 | macOS 13.6.6 Ventura / arm64 | OK | OK | OK | OK | |||||||||
|
To the developers/maintainers of the Pigengene package: - Allow up to 24 hours (and sometimes 48 hours) for your latest push to git@git.bioconductor.org:packages/Pigengene.git to reflect on this report. See Troubleshooting Build Report for more information. - Use the following Renviron settings to reproduce errors and warnings. - If 'R CMD check' started to fail recently on the Linux builder(s) over a missing dependency, add the missing dependency to 'Suggests:' in your DESCRIPTION file. See Renviron.bioc for more information. |
| Package: Pigengene |
| Version: 1.30.0 |
| Command: /Library/Frameworks/R.framework/Resources/bin/R CMD check --install=check:Pigengene.install-out.txt --library=/Library/Frameworks/R.framework/Resources/library --no-vignettes --timings Pigengene_1.30.0.tar.gz |
| StartedAt: 2024-10-17 10:52:43 -0400 (Thu, 17 Oct 2024) |
| EndedAt: 2024-10-17 11:14:19 -0400 (Thu, 17 Oct 2024) |
| EllapsedTime: 1296.0 seconds |
| RetCode: 0 |
| Status: OK |
| CheckDir: Pigengene.Rcheck |
| Warnings: 0 |
##############################################################################
##############################################################################
###
### Running command:
###
### /Library/Frameworks/R.framework/Resources/bin/R CMD check --install=check:Pigengene.install-out.txt --library=/Library/Frameworks/R.framework/Resources/library --no-vignettes --timings Pigengene_1.30.0.tar.gz
###
##############################################################################
##############################################################################
* using log directory ‘/Users/biocbuild/bbs-3.19-bioc/meat/Pigengene.Rcheck’
* using R version 4.4.1 (2024-06-14)
* using platform: x86_64-apple-darwin20
* R was compiled by
Apple clang version 14.0.0 (clang-1400.0.29.202)
GNU Fortran (GCC) 12.2.0
* running under: macOS Monterey 12.7.6
* using session charset: UTF-8
* using option ‘--no-vignettes’
* checking for file ‘Pigengene/DESCRIPTION’ ... OK
* checking extension type ... Package
* this is package ‘Pigengene’ version ‘1.30.0’
* checking package namespace information ... OK
* checking package dependencies ... OK
* checking if this is a source package ... OK
* checking if there is a namespace ... OK
* checking for hidden files and directories ... OK
* checking for portable file names ... OK
* checking for sufficient/correct file permissions ... OK
* checking whether package ‘Pigengene’ can be installed ... OK
* checking installed package size ... OK
* checking package directory ... OK
* checking ‘build’ directory ... OK
* checking DESCRIPTION meta-information ... OK
* checking top-level files ... OK
* checking for left-over files ... OK
* checking index information ... OK
* checking package subdirectories ... OK
* checking code files for non-ASCII characters ... OK
* checking R files for syntax errors ... OK
* checking whether the package can be loaded ... OK
* checking whether the package can be loaded with stated dependencies ... OK
* checking whether the package can be unloaded cleanly ... OK
* checking whether the namespace can be loaded with stated dependencies ... OK
* checking whether the namespace can be unloaded cleanly ... OK
* checking dependencies in R code ... NOTE
'library' or 'require' calls in package code:
‘AnnotationDbi’ ‘biomaRt’ ‘energy’ ‘org.Hs.eg.db’ ‘org.Mm.eg.db’
Please use :: or requireNamespace() instead.
See section 'Suggested packages' in the 'Writing R Extensions' manual.
* checking S3 generic/method consistency ... OK
* checking replacement functions ... OK
* checking foreign function calls ... OK
* checking R code for possible problems ... NOTE
Found the following possibly unsafe calls:
File ‘Pigengene/R/bn.calculation.R’:
assignInNamespace("supported.clusters", fixArgs, "bnlearn")
one.step.pigengene: no visible binding for global variable
‘org.Hs.eg.db’
Undefined global functions or variables:
org.Hs.eg.db
* checking Rd files ... NOTE
checkRd: (-1) draw.bn.Rd:47: Lost braces
47 | rename the nodes name. See code{rename.node}.}
| ^
checkRd: (-1) eigengenes33.Rd:21-22: Lost braces
21 | {A 202 by 34 matrix.
| ^
checkRd: (-1) eigengenes33.Rd:25: Lost braces; missing escapes or markup?
25 | {A 164 by 34 matrix for MDS cases with columns similar to aml.}
| ^
checkRd: (-1) eigengenes33.Rd:28: Lost braces; missing escapes or markup?
28 | {A numeric vector of length 9166 labeling members of each module. Named by Entrez ID.}
| ^
checkRd: (-1) pigengene-class.Rd:22-23: Lost braces in \itemize; meant \describe ?
checkRd: (-1) pigengene-class.Rd:24-26: Lost braces in \itemize; meant \describe ?
checkRd: (-1) pigengene-class.Rd:27-34: Lost braces in \itemize; meant \describe ?
checkRd: (-1) pigengene-class.Rd:35-36: Lost braces in \itemize; meant \describe ?
checkRd: (-1) pigengene-class.Rd:37-39: Lost braces in \itemize; meant \describe ?
checkRd: (-1) pigengene-class.Rd:40-42: Lost braces in \itemize; meant \describe ?
checkRd: (-1) pigengene-class.Rd:43-44: Lost braces in \itemize; meant \describe ?
checkRd: (-1) pigengene-class.Rd:45-47: Lost braces in \itemize; meant \describe ?
checkRd: (-1) pigengene-class.Rd:48-50: Lost braces in \itemize; meant \describe ?
checkRd: (-1) pigengene-class.Rd:51-52: Lost braces in \itemize; meant \describe ?
checkRd: (-1) pigengene-class.Rd:53-54: Lost braces in \itemize; meant \describe ?
checkRd: (-1) pigengene-class.Rd:55-58: Lost braces in \itemize; meant \describe ?
checkRd: (-1) pigengene-class.Rd:59-63: Lost braces in \itemize; meant \describe ?
checkRd: (-1) pigengene-class.Rd:68-71: Lost braces in \itemize; meant \describe ?
checkRd: (-1) pigengene-class.Rd:72-74: Lost braces in \itemize; meant \describe ?
* checking Rd metadata ... OK
* checking Rd cross-references ... OK
* checking for missing documentation entries ... OK
* checking for code/documentation mismatches ... OK
* checking Rd \usage sections ... OK
* checking Rd contents ... OK
* checking for unstated dependencies in examples ... OK
* checking contents of ‘data’ directory ... OK
* checking data for non-ASCII characters ... OK
* checking data for ASCII and uncompressed saves ... OK
* checking sizes of PDF files under ‘inst/doc’ ... OK
* checking files in ‘vignettes’ ... OK
* checking examples ... OK
Examples with CPU (user + system) or elapsed time > 5s
user system elapsed
get.enriched.pw 135.541 11.118 177.307
Pigengene-package 100.166 3.480 129.876
one.step.pigengene 100.257 2.699 115.095
module.heatmap 76.724 2.338 87.472
make.decision.tree 20.964 0.579 23.493
compact.tree 20.847 0.597 26.252
learn.bn 18.315 0.465 21.431
make.filter 17.977 0.387 20.387
apply.filter 16.451 0.362 20.357
combine.networks 15.107 0.166 18.556
gene.mapping 13.661 1.444 80.160
determine.modules 14.036 0.133 17.346
wgcna.one.step 13.181 0.104 14.629
pigengene 10.373 0.782 12.797
plot.pigengene 10.610 0.418 12.054
compute.pigengene 10.223 0.469 13.003
project.eigen 9.470 0.396 10.753
* checking for unstated dependencies in vignettes ... OK
* checking package vignettes ... OK
* checking running R code from vignettes ... SKIPPED
* checking re-building of vignette outputs ... SKIPPED
* checking PDF version of manual ... OK
* DONE
Status: 3 NOTEs
See
‘/Users/biocbuild/bbs-3.19-bioc/meat/Pigengene.Rcheck/00check.log’
for details.
Pigengene.Rcheck/00install.out
############################################################################## ############################################################################## ### ### Running command: ### ### /Library/Frameworks/R.framework/Resources/bin/R CMD INSTALL Pigengene ### ############################################################################## ############################################################################## * installing to library ‘/Library/Frameworks/R.framework/Versions/4.4-x86_64/Resources/library’ * installing *source* package ‘Pigengene’ ... ** using staged installation ** R ** data ** inst ** byte-compile and prepare package for lazy loading ** help *** installing help indices ** building package indices ** installing vignettes ** testing if installed package can be loaded from temporary location ** testing if installed package can be loaded from final location ** testing if installed package keeps a record of temporary installation path * DONE (Pigengene)
Pigengene.Rcheck/Pigengene-Ex.timings
| name | user | system | elapsed | |
| Pigengene-package | 100.166 | 3.480 | 129.876 | |
| aml | 0.275 | 0.014 | 0.370 | |
| apply.filter | 16.451 | 0.362 | 20.357 | |
| balance | 0.830 | 0.013 | 1.023 | |
| calculate.beta | 1.003 | 0.057 | 1.282 | |
| check.nas | 0.072 | 0.008 | 0.093 | |
| check.pigengene.input | 0.070 | 0.008 | 0.094 | |
| combine.networks | 15.107 | 0.166 | 18.556 | |
| compact.tree | 20.847 | 0.597 | 26.252 | |
| compute.pigengene | 10.223 | 0.469 | 13.003 | |
| dcor.matrix | 0.242 | 0.022 | 0.329 | |
| determine.modules | 14.036 | 0.133 | 17.346 | |
| draw.bn | 0.000 | 0.000 | 0.001 | |
| eigengenes33 | 0.167 | 0.012 | 0.217 | |
| gene.mapping | 13.661 | 1.444 | 80.160 | |
| get.enriched.pw | 135.541 | 11.118 | 177.307 | |
| get.fitted.leaf | 0.975 | 0.071 | 1.161 | |
| get.genes | 0.832 | 0.054 | 1.013 | |
| get.used.features | 0.837 | 0.056 | 0.989 | |
| learn.bn | 18.315 | 0.465 | 21.431 | |
| make.decision.tree | 20.964 | 0.579 | 23.493 | |
| make.filter | 17.977 | 0.387 | 20.387 | |
| mds | 0.177 | 0.017 | 0.215 | |
| message.if | 0.000 | 0.000 | 0.001 | |
| module.heatmap | 76.724 | 2.338 | 87.472 | |
| one.step.pigengene | 100.257 | 2.699 | 115.095 | |
| pheatmap.type | 0.517 | 0.014 | 0.663 | |
| pigengene | 10.373 | 0.782 | 12.797 | |
| plot.pigengene | 10.610 | 0.418 | 12.054 | |
| preds.at | 1.022 | 0.063 | 1.168 | |
| project.eigen | 9.470 | 0.396 | 10.753 | |
| pvalues.manova | 0.075 | 0.013 | 0.098 | |
| save.if | 0.855 | 0.019 | 0.932 | |
| wgcna.one.step | 13.181 | 0.104 | 14.629 | |