| Back to Multiple platform build/check report for BioC 3.19: simplified long |
|
This page was generated on 2024-05-09 11:41:15 -0400 (Thu, 09 May 2024).
| Hostname | OS | Arch (*) | R version | Installed pkgs |
|---|---|---|---|---|
| nebbiolo1 | Linux (Ubuntu 22.04.3 LTS) | x86_64 | 4.4.0 (2024-04-24) -- "Puppy Cup" | 4748 |
| palomino3 | Windows Server 2022 Datacenter | x64 | 4.4.0 (2024-04-24 ucrt) -- "Puppy Cup" | 4484 |
| lconway | macOS 12.7.1 Monterey | x86_64 | 4.4.0 (2024-04-24) -- "Puppy Cup" | 4514 |
| kunpeng2 | Linux (openEuler 22.03 LTS-SP1) | aarch64 | 4.4.0 beta (2024-04-15 r86425) -- "Puppy Cup" | 4480 |
| Click on any hostname to see more info about the system (e.g. compilers) (*) as reported by 'uname -p', except on Windows and Mac OS X | ||||
| Package 1562/2300 | Hostname | OS / Arch | INSTALL | BUILD | CHECK | BUILD BIN | ||||||||
| PhyloProfile 1.18.0 (landing page) Vinh Tran
| nebbiolo1 | Linux (Ubuntu 22.04.3 LTS) / x86_64 | OK | OK | OK | |||||||||
| palomino3 | Windows Server 2022 Datacenter / x64 | OK | OK | OK | OK | |||||||||
| lconway | macOS 12.7.1 Monterey / x86_64 | OK | OK | OK | OK | |||||||||
| kunpeng2 | Linux (openEuler 22.03 LTS-SP1) / aarch64 | OK | OK | OK | ||||||||||
| kjohnson3 | macOS 13.6.5 Ventura / arm64 | see weekly results here | ||||||||||||
|
To the developers/maintainers of the PhyloProfile package: - Allow up to 24 hours (and sometimes 48 hours) for your latest push to git@git.bioconductor.org:packages/PhyloProfile.git to reflect on this report. See Troubleshooting Build Report for more information. - Use the following Renviron settings to reproduce errors and warnings. - If 'R CMD check' started to fail recently on the Linux builder(s) over a missing dependency, add the missing dependency to 'Suggests:' in your DESCRIPTION file. See Renviron.bioc for more information. - See Martin Grigorov's blog post for how to debug Linux ARM64 related issues on a x86_64 host. |
| Package: PhyloProfile |
| Version: 1.18.0 |
| Command: /home/biocbuild/R/R-beta-2024-04-15_r86425/bin/R CMD check --install=check:PhyloProfile.install-out.txt --library=/home/biocbuild/R/R-beta-2024-04-15_r86425/site-library --no-vignettes --timings PhyloProfile_1.18.0.tar.gz |
| StartedAt: 2024-05-09 10:32:54 -0000 (Thu, 09 May 2024) |
| EndedAt: 2024-05-09 10:35:59 -0000 (Thu, 09 May 2024) |
| EllapsedTime: 184.3 seconds |
| RetCode: 0 |
| Status: OK |
| CheckDir: PhyloProfile.Rcheck |
| Warnings: 0 |
##############################################################################
##############################################################################
###
### Running command:
###
### /home/biocbuild/R/R-beta-2024-04-15_r86425/bin/R CMD check --install=check:PhyloProfile.install-out.txt --library=/home/biocbuild/R/R-beta-2024-04-15_r86425/site-library --no-vignettes --timings PhyloProfile_1.18.0.tar.gz
###
##############################################################################
##############################################################################
* using log directory ‘/home/biocbuild/bbs-3.19-bioc/meat/PhyloProfile.Rcheck’
* using R version 4.4.0 beta (2024-04-15 r86425)
* using platform: aarch64-unknown-linux-gnu
* R was compiled by
gcc (GCC) 10.3.1
GNU Fortran (GCC) 10.3.1
* running under: openEuler 22.03 (LTS-SP1)
* using session charset: UTF-8
* using option ‘--no-vignettes’
* checking for file ‘PhyloProfile/DESCRIPTION’ ... OK
* this is package ‘PhyloProfile’ version ‘1.18.0’
* package encoding: UTF-8
* checking package namespace information ... OK
* checking package dependencies ... OK
* checking if this is a source package ... OK
* checking if there is a namespace ... OK
* checking for hidden files and directories ... OK
* checking for portable file names ... OK
* checking for sufficient/correct file permissions ... OK
* checking whether package ‘PhyloProfile’ can be installed ... OK
* checking installed package size ... OK
* checking package directory ... OK
* checking ‘build’ directory ... OK
* checking DESCRIPTION meta-information ... NOTE
License stub is invalid DCF.
* checking top-level files ... OK
* checking for left-over files ... OK
* checking index information ... OK
* checking package subdirectories ... OK
* checking code files for non-ASCII characters ... OK
* checking R files for syntax errors ... OK
* checking whether the package can be loaded ... OK
* checking whether the package can be loaded with stated dependencies ... OK
* checking whether the package can be unloaded cleanly ... OK
* checking whether the namespace can be loaded with stated dependencies ... OK
* checking whether the namespace can be unloaded cleanly ... OK
* checking loading without being on the library search path ... OK
* checking dependencies in R code ... OK
* checking S3 generic/method consistency ... OK
* checking replacement functions ... OK
* checking foreign function calls ... OK
* checking R code for possible problems ... OK
* checking Rd files ... NOTE
checkRd: (-1) addRankDivisionPlot.Rd:75: Lost braces; missing escapes or markup?
75 | Vinh Tran {tran@bio.uni-frankfurt.de}
| ^
checkRd: (-1) calcPresSpec.Rd:33: Lost braces; missing escapes or markup?
33 | Vinh Tran {tran@bio.uni-frankfurt.de}
| ^
checkRd: (-1) checkInputValidity.Rd:29: Lost braces; missing escapes or markup?
29 | Vinh Tran {tran@bio.uni-frankfurt.de}
| ^
checkRd: (-1) checkNewick.Rd:32: Lost braces; missing escapes or markup?
32 | Vinh Tran {tran@bio.uni-frankfurt.de}
| ^
checkRd: (-1) checkOmaID.Rd:23: Lost braces; missing escapes or markup?
23 | Vinh Tran {tran@bio.uni-frankfurt.de}
| ^
checkRd: (-1) clusterDataDend.Rd:39: Lost braces; missing escapes or markup?
39 | Vinh Tran {tran@bio.uni-frankfurt.de}
| ^
checkRd: (-1) createArchiPlot.Rd:60: Lost braces; missing escapes or markup?
60 | Vinh Tran {tran@bio.uni-frankfurt.de}
| ^
checkRd: (-1) createGeneAgePlot.Rd:33: Lost braces; missing escapes or markup?
33 | Vinh Tran {tran@bio.uni-frankfurt.de}
| ^
checkRd: (-1) createLongMatrix.Rd:32: Lost braces; missing escapes or markup?
32 | Vinh Tran {tran@bio.uni-frankfurt.de}
| ^
checkRd: (-1) createPercentageDistributionData.Rd:35: Lost braces; missing escapes or markup?
35 | Vinh Tran {tran@bio.uni-frankfurt.de}
| ^
checkRd: (-1) createProfileFromOma.Rd:29: Lost braces; missing escapes or markup?
29 | Vinh Tran {tran@bio.uni-frankfurt.de}
| ^
checkRd: (-1) createUnrootedTree.Rd:28: Lost braces; missing escapes or markup?
28 | Vinh Tran {tran@bio.uni-frankfurt.de}
| ^
checkRd: (-1) createVarDistPlot.Rd:56: Lost braces; missing escapes or markup?
56 | Vinh Tran {tran@bio.uni-frankfurt.de}
| ^
checkRd: (-1) createVariableDistributionData.Rd:36: Lost braces; missing escapes or markup?
36 | Vinh Tran {tran@bio.uni-frankfurt.de}
| ^
checkRd: (-1) createVariableDistributionDataSubset.Rd:50: Lost braces; missing escapes or markup?
50 | Vinh Tran {tran@bio.uni-frankfurt.de}
| ^
checkRd: (-1) dataCustomizedPlot.Rd:42: Lost braces; missing escapes or markup?
42 | Vinh Tran {tran@bio.uni-frankfurt.de}
| ^
checkRd: (-1) dataMainPlot.Rd:34: Lost braces; missing escapes or markup?
34 | Vinh Tran {tran@bio.uni-frankfurt.de}
| ^
checkRd: (-1) estimateGeneAge.Rd:64: Lost braces; missing escapes or markup?
64 | Vinh Tran {tran@bio.uni-frankfurt.de}
| ^
checkRd: (-1) fastaParser.Rd:29: Lost braces; missing escapes or markup?
29 | Vinh Tran {tran@bio.uni-frankfurt.de}
| ^
checkRd: (-1) featureDistTaxPlot.Rd:51: Lost braces; missing escapes or markup?
51 | Vinh Tran {tran@bio.uni-frankfurt.de}
| ^
checkRd: (-1) filterProfileData.Rd:110: Lost braces; missing escapes or markup?
110 | Vinh Tran {tran@bio.uni-frankfurt.de}
| ^
checkRd: (-1) filteredProfile.Rd:13: Lost braces in \itemize; \value handles \item{}{} directly
checkRd: (-1) filteredProfile.Rd:14-15: Lost braces in \itemize; \value handles \item{}{} directly
checkRd: (-1) filteredProfile.Rd:16: Lost braces in \itemize; \value handles \item{}{} directly
checkRd: (-1) filteredProfile.Rd:17: Lost braces in \itemize; \value handles \item{}{} directly
checkRd: (-1) filteredProfile.Rd:18: Lost braces in \itemize; \value handles \item{}{} directly
checkRd: (-1) filteredProfile.Rd:19: Lost braces in \itemize; \value handles \item{}{} directly
checkRd: (-1) filteredProfile.Rd:20: Lost braces in \itemize; \value handles \item{}{} directly
checkRd: (-1) filteredProfile.Rd:21: Lost braces in \itemize; \value handles \item{}{} directly
checkRd: (-1) filteredProfile.Rd:22: Lost braces in \itemize; \value handles \item{}{} directly
checkRd: (-1) filteredProfile.Rd:23: Lost braces in \itemize; \value handles \item{}{} directly
checkRd: (-1) filteredProfile.Rd:24-25: Lost braces in \itemize; \value handles \item{}{} directly
checkRd: (-1) filteredProfile.Rd:26: Lost braces in \itemize; \value handles \item{}{} directly
checkRd: (-1) filteredProfile.Rd:27: Lost braces in \itemize; \value handles \item{}{} directly
checkRd: (-1) filteredProfile.Rd:28: Lost braces in \itemize; \value handles \item{}{} directly
checkRd: (-1) filteredProfile.Rd:29: Lost braces in \itemize; \value handles \item{}{} directly
checkRd: (-1) filteredProfile.Rd:30: Lost braces in \itemize; \value handles \item{}{} directly
checkRd: (-1) filteredProfile.Rd:31: Lost braces in \itemize; \value handles \item{}{} directly
checkRd: (-1) filteredProfile.Rd:32: Lost braces in \itemize; \value handles \item{}{} directly
checkRd: (-1) filteredProfile.Rd:33: Lost braces in \itemize; \value handles \item{}{} directly
checkRd: (-1) filteredProfile.Rd:34: Lost braces in \itemize; \value handles \item{}{} directly
checkRd: (-1) finalProcessedProfile.Rd:13: Lost braces in \itemize; \value handles \item{}{} directly
checkRd: (-1) finalProcessedProfile.Rd:14-15: Lost braces in \itemize; \value handles \item{}{} directly
checkRd: (-1) finalProcessedProfile.Rd:16-17: Lost braces in \itemize; \value handles \item{}{} directly
checkRd: (-1) finalProcessedProfile.Rd:18: Lost braces in \itemize; \value handles \item{}{} directly
checkRd: (-1) finalProcessedProfile.Rd:19: Lost braces in \itemize; \value handles \item{}{} directly
checkRd: (-1) finalProcessedProfile.Rd:20: Lost braces in \itemize; \value handles \item{}{} directly
checkRd: (-1) finalProcessedProfile.Rd:21: Lost braces in \itemize; \value handles \item{}{} directly
checkRd: (-1) finalProcessedProfile.Rd:22: Lost braces in \itemize; \value handles \item{}{} directly
checkRd: (-1) finalProcessedProfile.Rd:23: Lost braces in \itemize; \value handles \item{}{} directly
checkRd: (-1) finalProcessedProfile.Rd:24: Lost braces in \itemize; \value handles \item{}{} directly
checkRd: (-1) finalProcessedProfile.Rd:25: Lost braces in \itemize; \value handles \item{}{} directly
checkRd: (-1) fromInputToProfile.Rd:112: Lost braces; missing escapes or markup?
112 | Vinh Tran {tran@bio.uni-frankfurt.de}
| ^
checkRd: (-1) fullProcessedProfile.Rd:13-14: Lost braces in \itemize; \value handles \item{}{} directly
checkRd: (-1) fullProcessedProfile.Rd:15: Lost braces in \itemize; \value handles \item{}{} directly
checkRd: (-1) fullProcessedProfile.Rd:16: Lost braces in \itemize; \value handles \item{}{} directly
checkRd: (-1) fullProcessedProfile.Rd:17: Lost braces in \itemize; \value handles \item{}{} directly
checkRd: (-1) fullProcessedProfile.Rd:18: Lost braces in \itemize; \value handles \item{}{} directly
checkRd: (-1) fullProcessedProfile.Rd:19: Lost braces in \itemize; \value handles \item{}{} directly
checkRd: (-1) fullProcessedProfile.Rd:20: Lost braces in \itemize; \value handles \item{}{} directly
checkRd: (-1) fullProcessedProfile.Rd:21: Lost braces in \itemize; \value handles \item{}{} directly
checkRd: (-1) fullProcessedProfile.Rd:22: Lost braces in \itemize; \value handles \item{}{} directly
checkRd: (-1) fullProcessedProfile.Rd:23: Lost braces in \itemize; \value handles \item{}{} directly
checkRd: (-1) fullProcessedProfile.Rd:24-25: Lost braces in \itemize; \value handles \item{}{} directly
checkRd: (-1) fullProcessedProfile.Rd:26: Lost braces in \itemize; \value handles \item{}{} directly
checkRd: (-1) fullProcessedProfile.Rd:27: Lost braces in \itemize; \value handles \item{}{} directly
checkRd: (-1) fullProcessedProfile.Rd:28: Lost braces in \itemize; \value handles \item{}{} directly
checkRd: (-1) geneAgePlotDf.Rd:32: Lost braces; missing escapes or markup?
32 | Vinh Tran {tran@bio.uni-frankfurt.de}
| ^
checkRd: (-1) generateSinglePlot.Rd:47: Lost braces; missing escapes or markup?
47 | Vinh Tran {tran@bio.uni-frankfurt.de}
| ^
checkRd: (-1) getAllDomainsOma.Rd:29: Lost braces; missing escapes or markup?
29 | Vinh Tran {tran@bio.uni-frankfurt.de}
| ^
checkRd: (-1) getAllFastaOma.Rd:27: Lost braces; missing escapes or markup?
27 | Vinh Tran {tran@bio.uni-frankfurt.de}
| ^
checkRd: (-1) getCoreGene.Rd:72: Lost braces; missing escapes or markup?
72 | Vinh Tran {tran@bio.uni-frankfurt.de}
| ^
checkRd: (-1) getDataForOneOma.Rd:28: Lost braces; missing escapes or markup?
28 | Vinh Tran {tran@bio.uni-frankfurt.de}
| ^
checkRd: (-1) getDendrogram.Rd:34: Lost braces; missing escapes or markup?
34 | Vinh Tran {tran@bio.uni-frankfurt.de}
| ^
checkRd: (-1) getDomainFolder.Rd:29: Lost braces; missing escapes or markup?
29 | Vinh Tran {tran@bio.uni-frankfurt.de}
| ^
checkRd: (-1) getFastaFromFasInput.Rd:29: Lost braces; missing escapes or markup?
29 | Vinh Tran {tran@bio.uni-frankfurt.de}
| ^
checkRd: (-1) getFastaFromFile.Rd:29: Lost braces; missing escapes or markup?
29 | Vinh Tran {tran@bio.uni-frankfurt.de}
| ^
checkRd: (-1) getFastaFromFolder.Rd:43: Lost braces; missing escapes or markup?
43 | Vinh Tran {tran@bio.uni-frankfurt.de}
| ^
checkRd: (-1) getIDsRank.Rd:38: Lost braces; missing escapes or markup?
38 | Vinh Tran {tran@bio.uni-frankfurt.de}
| ^
checkRd: (-1) getInputTaxaID.Rd:26: Lost braces; missing escapes or markup?
26 | Vinh Tran {tran@bio.uni-frankfurt.de}
| ^
checkRd: (-1) getInputTaxaName.Rd:33: Lost braces; missing escapes or markup?
33 | Vinh Tran {tran@bio.uni-frankfurt.de}
| ^
checkRd: (-1) getNameList.Rd:24: Lost braces; missing escapes or markup?
24 | Vinh Tran {tran@bio.uni-frankfurt.de}
| ^
checkRd: (-1) getOmaDataForOneOrtholog.Rd:24: Lost braces; missing escapes or markup?
24 | Vinh Tran {tran@bio.uni-frankfurt.de}
| ^
checkRd: (-1) getOmaDomainFromURL.Rd:25: Lost braces; missing escapes or markup?
25 | Vinh Tran {tran@bio.uni-frankfurt.de}
| ^
checkRd: (-1) getOmaMembers.Rd:28: Lost braces; missing escapes or markup?
28 | Carla Mölbert {carla.moelbert@gmx.de}
| ^
checkRd: (-1) getQualColForVector.Rd:27: Lost braces; missing escapes or markup?
27 | Vinh Tran {tran@bio.uni-frankfurt.de}
| ^
checkRd: (-1) getSelectedFastaOma.Rd:29: Lost braces; missing escapes or markup?
29 | Vinh Tran {tran@bio.uni-frankfurt.de}
| ^
checkRd: (-1) getSelectedTaxonNames.Rd:45: Lost braces; missing escapes or markup?
45 | Vinh Tran {tran@bio.uni-frankfurt.de}
| ^
checkRd: (-1) getTaxHierarchy.Rd:32: Lost braces; missing escapes or markup?
32 | Vinh Tran {tran@bio.uni-frankfurt.de}
| ^
checkRd: (-1) getTaxonomyInfo.Rd:32: Lost braces; missing escapes or markup?
32 | Vinh Tran {tran@bio.uni-frankfurt.de}
| ^
checkRd: (-1) getTaxonomyMatrix.Rd:33: Lost braces; missing escapes or markup?
33 | Vinh Tran {tran@bio.uni-frankfurt.de}
| ^
checkRd: (-1) heatmapPlotting.Rd:69: Lost braces; missing escapes or markup?
69 | Vinh Tran {tran@bio.uni-frankfurt.de}
| ^
checkRd: (-1) highlightProfilePlot.Rd:73: Lost braces; missing escapes or markup?
73 | Vinh Tran {tran@bio.uni-frankfurt.de}
| ^
checkRd: (-1) id2name.Rd:31: Lost braces; missing escapes or markup?
31 | Vinh Tran {tran@bio.uni-frankfurt.de}
| ^
checkRd: (-1) mainLongRaw.Rd:13: Lost braces in \itemize; \value handles \item{}{} directly
checkRd: (-1) mainLongRaw.Rd:14: Lost braces in \itemize; \value handles \item{}{} directly
checkRd: (-1) mainLongRaw.Rd:15: Lost braces in \itemize; \value handles \item{}{} directly
checkRd: (-1) mainLongRaw.Rd:16: Lost braces in \itemize; \value handles \item{}{} directly
checkRd: (-1) mainLongRaw.Rd:17: Lost braces in \itemize; \value handles \item{}{} directly
checkRd: (-1) mainTaxonomyRank.Rd:19: Lost braces; missing escapes or markup?
19 | Vinh Tran {tran@bio.uni-frankfurt.de}
| ^
checkRd: (-1) modifyFeatureName.Rd:32: Lost braces; missing escapes or markup?
32 | Vinh Tran {tran@bio.uni-frankfurt.de}
| ^
checkRd: (-1) pairDomainPlotting.Rd:59: Lost braces; missing escapes or markup?
59 | Vinh Tran {tran@bio.uni-frankfurt.de}
| ^
checkRd: (-1) parseDomainInput.Rd:40: Lost braces; missing escapes or markup?
40 | Vinh Tran {tran@bio.uni-frankfurt.de}
| ^
checkRd: (-1) parseInfoProfile.Rd:48: Lost braces; missing escapes or markup?
48 | Vinh Tran {tran@bio.uni-frankfurt.de}
| ^
checkRd: (-1) ppTaxonomyMatrix.Rd:13: Lost braces in \itemize; \value handles \item{}{} directly
checkRd: (-1) ppTaxonomyMatrix.Rd:14: Lost braces in \itemize; \value handles \item{}{} directly
checkRd: (-1) ppTaxonomyMatrix.Rd:15: Lost braces in \itemize; \value handles \item{}{} directly
checkRd: (-1) ppTaxonomyMatrix.Rd:16: Lost braces in \itemize; \value handles \item{}{} directly
checkRd: (-1) processNcbiTaxonomy.Rd:39: Lost braces; missing escapes or markup?
39 | Vinh Tran {tran@bio.uni-frankfurt.de}
| ^
checkRd: (-1) processOrthoID.Rd:15: Lost braces; missing escapes or markup?
15 | <taxID:orthoID>. New column {orthoFreq} specifies if the ortholog IDs are
| ^
checkRd: (-1) processOrthoID.Rd:29: Lost braces; missing escapes or markup?
29 | Vinh Tran {tran@bio.uni-frankfurt.de}
| ^
checkRd: (-1) profileWithTaxonomy.Rd:13: Lost braces in \itemize; \value handles \item{}{} directly
checkRd: (-1) profileWithTaxonomy.Rd:14: Lost braces in \itemize; \value handles \item{}{} directly
checkRd: (-1) profileWithTaxonomy.Rd:15: Lost braces in \itemize; \value handles \item{}{} directly
checkRd: (-1) profileWithTaxonomy.Rd:16: Lost braces in \itemize; \value handles \item{}{} directly
checkRd: (-1) profileWithTaxonomy.Rd:17: Lost braces in \itemize; \value handles \item{}{} directly
checkRd: (-1) profileWithTaxonomy.Rd:18: Lost braces in \itemize; \value handles \item{}{} directly
checkRd: (-1) profileWithTaxonomy.Rd:19: Lost braces in \itemize; \value handles \item{}{} directly
checkRd: (-1) profileWithTaxonomy.Rd:20: Lost braces in \itemize; \value handles \item{}{} directly
checkRd: (-1) profileWithTaxonomy.Rd:21: Lost braces in \itemize; \value handles \item{}{} directly
checkRd: (-1) profileWithTaxonomy.Rd:22-23: Lost braces in \itemize; \value handles \item{}{} directly
checkRd: (-1) profileWithTaxonomy.Rd:24: Lost braces in \itemize; \value handles \item{}{} directly
checkRd: (-1) profileWithTaxonomy.Rd:25: Lost braces in \itemize; \value handles \item{}{} directly
checkRd: (-1) rankIndexing.Rd:29: Lost braces; missing escapes or markup?
29 | Vinh Tran {tran@bio.uni-frankfurt.de}
| ^
checkRd: (-1) reduceProfile.Rd:33: Lost braces; missing escapes or markup?
33 | Vinh Tran {tran@bio.uni-frankfurt.de}
| ^
checkRd: (-1) singleDomainPlotting.Rd:78: Lost braces; missing escapes or markup?
78 | Vinh Tran {tran@bio.uni-frankfurt.de}
| ^
checkRd: (-1) sortDomains.Rd:41: Lost braces; missing escapes or markup?
41 | Vinh Tran {tran@bio.uni-frankfurt.de}
| ^
checkRd: (-1) sortInputTaxa.Rd:45: Lost braces; missing escapes or markup?
45 | Vinh Tran {tran@bio.uni-frankfurt.de}
| ^
checkRd: (-1) sortTaxaFromTree.Rd:30: Lost braces; missing escapes or markup?
30 | Vinh Tran {tran@bio.uni-frankfurt.de}
| ^
checkRd: (-1) taxonNamesReduced.Rd:13: Lost braces in \itemize; \value handles \item{}{} directly
checkRd: (-1) taxonNamesReduced.Rd:14: Lost braces in \itemize; \value handles \item{}{} directly
checkRd: (-1) taxonNamesReduced.Rd:15: Lost braces in \itemize; \value handles \item{}{} directly
checkRd: (-1) taxonNamesReduced.Rd:16: Lost braces in \itemize; \value handles \item{}{} directly
checkRd: (-1) taxonomyTableCreator.Rd:39: Lost braces; missing escapes or markup?
39 | Vinh Tran {tran@bio.uni-frankfurt.de}
| ^
checkRd: (-1) varDistTaxPlot.Rd:50: Lost braces; missing escapes or markup?
50 | Vinh Tran {tran@bio.uni-frankfurt.de}
| ^
checkRd: (-1) wideToLong.Rd:27: Lost braces; missing escapes or markup?
27 | Vinh Tran {tran@bio.uni-frankfurt.de}
| ^
checkRd: (-1) xmlParser.Rd:27: Lost braces; missing escapes or markup?
27 | Vinh Tran {tran@bio.uni-frankfurt.de}
| ^
* checking Rd metadata ... OK
* checking Rd cross-references ... OK
* checking for missing documentation entries ... OK
* checking for code/documentation mismatches ... OK
* checking Rd \usage sections ... OK
* checking Rd contents ... OK
* checking for unstated dependencies in examples ... OK
* checking contents of ‘data’ directory ... OK
* checking data for non-ASCII characters ... OK
* checking data for ASCII and uncompressed saves ... OK
* checking files in ‘vignettes’ ... OK
* checking examples ... OK
* checking for unstated dependencies in ‘tests’ ... OK
* checking tests ...
Running ‘testthat.R’
OK
* checking for unstated dependencies in vignettes ... OK
* checking package vignettes ... OK
* checking running R code from vignettes ... SKIPPED
* checking re-building of vignette outputs ... SKIPPED
* checking PDF version of manual ... OK
* DONE
Status: 2 NOTEs
See
‘/home/biocbuild/bbs-3.19-bioc/meat/PhyloProfile.Rcheck/00check.log’
for details.
PhyloProfile.Rcheck/00install.out
############################################################################## ############################################################################## ### ### Running command: ### ### /home/biocbuild/R/R-beta-2024-04-15_r86425/bin/R CMD INSTALL PhyloProfile ### ############################################################################## ############################################################################## * installing to library ‘/home/biocbuild/R/R-beta-2024-04-15_r86425/site-library’ * installing *source* package ‘PhyloProfile’ ... ** using staged installation ** R ** data ** inst ** byte-compile and prepare package for lazy loading ** help *** installing help indices ** building package indices ** installing vignettes ** testing if installed package can be loaded from temporary location ** testing if installed package can be loaded from final location ** testing if installed package keeps a record of temporary installation path * DONE (PhyloProfile)
PhyloProfile.Rcheck/tests/testthat.Rout
R version 4.4.0 beta (2024-04-15 r86425) -- "Puppy Cup"
Copyright (C) 2024 The R Foundation for Statistical Computing
Platform: aarch64-unknown-linux-gnu
R is free software and comes with ABSOLUTELY NO WARRANTY.
You are welcome to redistribute it under certain conditions.
Type 'license()' or 'licence()' for distribution details.
R is a collaborative project with many contributors.
Type 'contributors()' for more information and
'citation()' on how to cite R or R packages in publications.
Type 'demo()' for some demos, 'help()' for on-line help, or
'help.start()' for an HTML browser interface to help.
Type 'q()' to quit R.
> library(testthat)
> library(PhyloProfile)
>
> test_check("PhyloProfile")
[ FAIL 0 | WARN 0 | SKIP 0 | PASS 20 ]
>
> proc.time()
user system elapsed
8.153 0.691 8.850
PhyloProfile.Rcheck/PhyloProfile-Ex.timings
| name | user | system | elapsed | |
| addRankDivisionPlot | 1.409 | 0.108 | 1.520 | |
| calcPresSpec | 0.028 | 0.016 | 0.044 | |
| checkInputValidity | 0.003 | 0.008 | 0.012 | |
| checkNewick | 0.004 | 0.000 | 0.003 | |
| checkOmaID | 0 | 0 | 0 | |
| clusterDataDend | 0.025 | 0.004 | 0.028 | |
| compareMedianTaxonGroups | 0.032 | 0.004 | 0.036 | |
| compareTaxonGroups | 0.045 | 0.004 | 0.050 | |
| createArchiPlot | 0.720 | 0.151 | 0.875 | |
| createGeneAgePlot | 0.292 | 0.008 | 0.300 | |
| createLongMatrix | 0.021 | 0.004 | 0.026 | |
| createPercentageDistributionData | 0.094 | 0.000 | 0.096 | |
| createProfileFromOma | 0.000 | 0.000 | 0.001 | |
| createUnrootedTree | 0.018 | 0.000 | 0.018 | |
| createVarDistPlot | 0.171 | 0.011 | 0.183 | |
| createVariableDistributionData | 0.007 | 0.000 | 0.007 | |
| createVariableDistributionDataSubset | 0.008 | 0.000 | 0.008 | |
| dataCustomizedPlot | 0.021 | 0.000 | 0.022 | |
| dataFeatureTaxGroup | 0.013 | 0.004 | 0.017 | |
| dataMainPlot | 0.022 | 0.004 | 0.026 | |
| dataVarDistTaxGroup | 0.006 | 0.000 | 0.006 | |
| estimateGeneAge | 0.117 | 0.000 | 0.119 | |
| fastaParser | 0.047 | 0.008 | 0.056 | |
| featureDistTaxPlot | 0.263 | 0.004 | 0.267 | |
| filterProfileData | 0.084 | 0.004 | 0.089 | |
| fromInputToProfile | 0.093 | 0.003 | 0.099 | |
| geneAgePlotDf | 0.005 | 0.000 | 0.005 | |
| generateSinglePlot | 0.678 | 0.020 | 0.700 | |
| getAllDomainsOma | 0 | 0 | 0 | |
| getAllFastaOma | 0 | 0 | 0 | |
| getCommonAncestor | 0.047 | 0.000 | 0.048 | |
| getCoreGene | 0.066 | 0.000 | 0.066 | |
| getDataClustering | 0.017 | 0.000 | 0.018 | |
| getDataForOneOma | 0 | 0 | 0 | |
| getDendrogram | 0.074 | 0.012 | 0.086 | |
| getDistanceMatrix | 0.017 | 0.000 | 0.017 | |
| getDomainFolder | 0 | 0 | 0 | |
| getFastaFromFasInput | 0.021 | 0.000 | 0.021 | |
| getFastaFromFile | 0.013 | 0.000 | 0.014 | |
| getFastaFromFolder | 0.009 | 0.001 | 0.010 | |
| getIDsRank | 0.034 | 0.000 | 0.035 | |
| getInputTaxaID | 0.002 | 0.000 | 0.003 | |
| getInputTaxaName | 0.001 | 0.011 | 0.013 | |
| getNameList | 0.013 | 0.004 | 0.017 | |
| getOmaDataForOneOrtholog | 0.001 | 0.000 | 0.000 | |
| getOmaDomainFromURL | 0 | 0 | 0 | |
| getOmaMembers | 0 | 0 | 0 | |
| getQualColForVector | 0 | 0 | 0 | |
| getSelectedFastaOma | 0 | 0 | 0 | |
| getSelectedTaxonNames | 0.02 | 0.00 | 0.02 | |
| getTaxHierarchy | 0.02 | 0.00 | 0.02 | |
| getTaxonomyInfo | 0.019 | 0.000 | 0.019 | |
| getTaxonomyMatrix | 0.090 | 0.011 | 0.102 | |
| getTaxonomyRanks | 0.000 | 0.000 | 0.001 | |
| gridArrangeSharedLegend | 0.990 | 0.024 | 1.017 | |
| heatmapPlotting | 0.347 | 0.000 | 0.349 | |
| highlightProfilePlot | 0.403 | 0.008 | 0.413 | |
| id2name | 0.005 | 0.000 | 0.005 | |
| mainTaxonomyRank | 0.000 | 0.000 | 0.001 | |
| modifyFeatureName | 0 | 0 | 0 | |
| pairDomainPlotting | 0 | 0 | 0 | |
| parseDomainInput | 0.014 | 0.000 | 0.014 | |
| parseInfoProfile | 0.055 | 0.004 | 0.058 | |
| processNcbiTaxonomy | 0.113 | 0.015 | 0.190 | |
| processOrthoID | 0.095 | 0.012 | 0.105 | |
| qualitativeColours | 0 | 0 | 0 | |
| rankIndexing | 0 | 0 | 0 | |
| reduceProfile | 0.014 | 0.000 | 0.014 | |
| runPhyloProfile | 0.099 | 0.004 | 0.104 | |
| singleDomainPlotting | 0 | 0 | 0 | |
| sortDomains | 0 | 0 | 0 | |
| sortInputTaxa | 0.034 | 0.003 | 0.036 | |
| sortTaxaFromTree | 0.017 | 0.000 | 0.016 | |
| taxonomyTableCreator | 0.138 | 0.004 | 0.143 | |
| varDistTaxPlot | 1.118 | 0.079 | 1.201 | |
| wideToLong | 0.013 | 0.001 | 0.013 | |
| xmlParser | 0.017 | 0.003 | 0.021 | |