| Back to Multiple platform build/check report for BioC 3.19: simplified long |
|
This page was generated on 2024-10-18 20:41 -0400 (Fri, 18 Oct 2024).
| Hostname | OS | Arch (*) | R version | Installed pkgs |
|---|---|---|---|---|
| nebbiolo1 | Linux (Ubuntu 22.04.3 LTS) | x86_64 | 4.4.1 (2024-06-14) -- "Race for Your Life" | 4763 |
| palomino7 | Windows Server 2022 Datacenter | x64 | 4.4.1 (2024-06-14 ucrt) -- "Race for Your Life" | 4500 |
| merida1 | macOS 12.7.5 Monterey | x86_64 | 4.4.1 (2024-06-14) -- "Race for Your Life" | 4530 |
| kjohnson1 | macOS 13.6.6 Ventura | arm64 | 4.4.1 (2024-06-14) -- "Race for Your Life" | 4480 |
| Click on any hostname to see more info about the system (e.g. compilers) (*) as reported by 'uname -p', except on Windows and Mac OS X | ||||
| Package 1557/2300 | Hostname | OS / Arch | INSTALL | BUILD | CHECK | BUILD BIN | ||||||||
| PhenStat 2.40.0 (landing page) Hamed Haselimashhadi
| nebbiolo1 | Linux (Ubuntu 22.04.3 LTS) / x86_64 | OK | OK | OK | |||||||||
| palomino7 | Windows Server 2022 Datacenter / x64 | OK | OK | OK | OK | |||||||||
| merida1 | macOS 12.7.5 Monterey / x86_64 | OK | OK | OK | OK | |||||||||
| kjohnson1 | macOS 13.6.6 Ventura / arm64 | OK | OK | OK | OK | |||||||||
|
To the developers/maintainers of the PhenStat package: - Allow up to 24 hours (and sometimes 48 hours) for your latest push to git@git.bioconductor.org:packages/PhenStat.git to reflect on this report. See Troubleshooting Build Report for more information. - Use the following Renviron settings to reproduce errors and warnings. - If 'R CMD check' started to fail recently on the Linux builder(s) over a missing dependency, add the missing dependency to 'Suggests:' in your DESCRIPTION file. See Renviron.bioc for more information. |
| Package: PhenStat |
| Version: 2.40.0 |
| Command: /Library/Frameworks/R.framework/Resources/bin/R CMD check --install=check:PhenStat.install-out.txt --library=/Library/Frameworks/R.framework/Resources/library --no-vignettes --timings PhenStat_2.40.0.tar.gz |
| StartedAt: 2024-10-17 10:50:50 -0400 (Thu, 17 Oct 2024) |
| EndedAt: 2024-10-17 10:56:04 -0400 (Thu, 17 Oct 2024) |
| EllapsedTime: 313.8 seconds |
| RetCode: 0 |
| Status: OK |
| CheckDir: PhenStat.Rcheck |
| Warnings: 0 |
##############################################################################
##############################################################################
###
### Running command:
###
### /Library/Frameworks/R.framework/Resources/bin/R CMD check --install=check:PhenStat.install-out.txt --library=/Library/Frameworks/R.framework/Resources/library --no-vignettes --timings PhenStat_2.40.0.tar.gz
###
##############################################################################
##############################################################################
* using log directory ‘/Users/biocbuild/bbs-3.19-bioc/meat/PhenStat.Rcheck’
* using R version 4.4.1 (2024-06-14)
* using platform: x86_64-apple-darwin20
* R was compiled by
Apple clang version 14.0.0 (clang-1400.0.29.202)
GNU Fortran (GCC) 12.2.0
* running under: macOS Monterey 12.7.6
* using session charset: UTF-8
* using option ‘--no-vignettes’
* checking for file ‘PhenStat/DESCRIPTION’ ... OK
* checking extension type ... Package
* this is package ‘PhenStat’ version ‘2.40.0’
* checking package namespace information ... OK
* checking package dependencies ... OK
* checking if this is a source package ... OK
* checking if there is a namespace ... OK
* checking for hidden files and directories ... OK
* checking for portable file names ... OK
* checking for sufficient/correct file permissions ... OK
* checking whether package ‘PhenStat’ can be installed ... OK
* checking installed package size ... OK
* checking package directory ... OK
* checking ‘build’ directory ... OK
* checking DESCRIPTION meta-information ... OK
* checking top-level files ... OK
* checking for left-over files ... OK
* checking index information ... OK
* checking package subdirectories ... OK
* checking code files for non-ASCII characters ... OK
* checking R files for syntax errors ... OK
* checking whether the package can be loaded ... OK
* checking whether the package can be loaded with stated dependencies ... OK
* checking whether the package can be unloaded cleanly ... OK
* checking whether the namespace can be loaded with stated dependencies ... OK
* checking whether the namespace can be unloaded cleanly ... OK
* checking whether startup messages can be suppressed ... OK
* checking dependencies in R code ... NOTE
Namespace in Imports field not imported from: ‘SmoothWin’
All declared Imports should be used.
* checking S3 generic/method consistency ... OK
* checking replacement functions ... OK
* checking foreign function calls ... OK
* checking R code for possible problems ... OK
* checking Rd files ... NOTE
checkRd: (-1) plot.PhenList.Rd:49-53: Lost braces
49 | \item boxplotSexGenotype. See documentations for {
| ^
checkRd: (-1) plot.PhenList.Rd:54-58: Lost braces
54 | \item boxplotSexGenotypeBatchAdjusted. See documentations for {
| ^
checkRd: (-1) plot.PhenList.Rd:59-63: Lost braces
59 | \item boxplotSexGenotypeWeightBatchAdjusted. See documentations for {
| ^
checkRd: (-1) plot.PhenList.Rd:64-68: Lost braces
64 | \item scatterplotSexGenotypeBatch. See documentations for {
| ^
checkRd: (-1) plot.PhenList.Rd:69-73: Lost braces
69 | \item scatterplotGenotypeWeight. See documentations for {
| ^
checkRd: (-1) plot.PhenList.Rd:74-78: Lost braces
74 | \item boxplotSexGenotypeBatch. See documentations for {
| ^
checkRd: (-1) plot.PhenTestResult.Rd:41-45: Lost braces
41 | \item boxplotSexGenotypeResult. See documentations for {
| ^
checkRd: (-1) plot.PhenTestResult.Rd:46-50: Lost braces
46 | \item scatterplotSexGenotypeBatchResult. See documentations for {
| ^
checkRd: (-1) plot.PhenTestResult.Rd:51-55: Lost braces
51 | \item scatterplotGenotypeWeightResult. See documentations for {
| ^
checkRd: (-1) plot.PhenTestResult.Rd:56-60: Lost braces
56 | \item plotResidualPredicted. See documentations for {
| ^
checkRd: (-1) plot.PhenTestResult.Rd:61-65: Lost braces
61 | \item qqplotRandomEffects. See documentations for {
| ^
checkRd: (-1) plot.PhenTestResult.Rd:66-70: Lost braces
66 | \item boxplotResidualBatch. See documentations for {
| ^
checkRd: (-1) plot.PhenTestResult.Rd:71-75: Lost braces
71 | \item qqplotRotatedResiduals. See documentations for {
| ^
checkRd: (-1) plot.PhenTestResult.Rd:76-80: Lost braces
76 | \item qqplotGenotype. See documentations for {
| ^
checkRd: (-1) plot.PhenTestResult.Rd:81-85: Lost braces
81 | \item categoricalBarplot. See documentations for {
| ^
checkRd: (-1) qqplotRotatedResiduals.Rd:18: Lost braces
18 | Houseman, E. A., Ryan, L. M., Coull, B. A. (2004): Cholesky residuals for assessing normal errors in a linear model with correlated outcomes. \emph{Journal of the American Statistical Association} \bold{99}{466}: pg 383-394. Doi 10.1198
| ^
* checking Rd metadata ... OK
* checking Rd cross-references ... OK
* checking for missing documentation entries ... OK
* checking for code/documentation mismatches ... OK
* checking Rd \usage sections ... NOTE
Documented arguments not in \usage in Rd file 'printLROutput.Rd':
‘effectValues’
Functions with \usage entries need to have the appropriate \alias
entries, and all their arguments documented.
The \usage entries must correspond to syntactically valid R code.
See chapter ‘Writing R documentation files’ in the ‘Writing R
Extensions’ manual.
* checking Rd contents ... NOTE
Argument items with no description in Rd file 'plot.PhenList.Rd':
‘\dots’
Argument items with no description in Rd file 'plot.PhenTestResult.Rd':
‘\dots’
* checking for unstated dependencies in examples ... OK
* checking sizes of PDF files under ‘inst/doc’ ... OK
* checking installed files from ‘inst/doc’ ... OK
* checking files in ‘vignettes’ ... OK
* checking examples ... OK
Examples with CPU (user + system) or elapsed time > 5s
user system elapsed
qqplotRotatedResiduals 6.973 0.106 9.476
plot.PhenList 4.460 0.108 6.160
plot.PhenTestResult 4.344 0.118 5.990
testDataset 4.312 0.097 5.235
* checking for unstated dependencies in ‘tests’ ... OK
* checking tests ...
Running ‘runTests.R’
OK
* checking for unstated dependencies in vignettes ... OK
* checking package vignettes ... OK
* checking running R code from vignettes ... SKIPPED
* checking re-building of vignette outputs ... SKIPPED
* checking PDF version of manual ... OK
* DONE
Status: 4 NOTEs
See
‘/Users/biocbuild/bbs-3.19-bioc/meat/PhenStat.Rcheck/00check.log’
for details.
PhenStat.Rcheck/00install.out
############################################################################## ############################################################################## ### ### Running command: ### ### /Library/Frameworks/R.framework/Resources/bin/R CMD INSTALL PhenStat ### ############################################################################## ############################################################################## * installing to library ‘/Library/Frameworks/R.framework/Versions/4.4-x86_64/Resources/library’ * installing *source* package ‘PhenStat’ ... ** using staged installation ** R ** inst ** byte-compile and prepare package for lazy loading ** help *** installing help indices ** building package indices ** installing vignettes ** testing if installed package can be loaded from temporary location ** testing if installed package can be loaded from final location ** testing if installed package keeps a record of temporary installation path * DONE (PhenStat)
PhenStat.Rcheck/tests/runTests.Rout
R version 4.4.1 (2024-06-14) -- "Race for Your Life"
Copyright (C) 2024 The R Foundation for Statistical Computing
Platform: x86_64-apple-darwin20
R is free software and comes with ABSOLUTELY NO WARRANTY.
You are welcome to redistribute it under certain conditions.
Type 'license()' or 'licence()' for distribution details.
R is a collaborative project with many contributors.
Type 'contributors()' for more information and
'citation()' on how to cite R or R packages in publications.
Type 'demo()' for some demos, 'help()' for on-line help, or
'help.start()' for an HTML browser interface to help.
Type 'q()' to quit R.
> BiocGenerics:::testPackage("PhenStat")
>=========================================================================<
This version of PhenStat includes *FEWER* functions than the previous ones
You *still* can use the previous functions by using `:::`. For example :
PhenStat:::boxplotSexGenotype or PhenStat:::FisherExactTest
*** Want to know what is new in this version? run PhenStat:::WhatIsNew()
>=========================================================================<
RUNIT TEST PROTOCOL -- Thu Oct 17 10:55:43 2024
***********************************************
Number of test functions: 0
Number of errors: 0
Number of failures: 0
1 Test Suite :
PhenStat RUnit Tests - 0 test functions, 0 errors, 0 failures
Number of test functions: 0
Number of errors: 0
Number of failures: 0
>
> proc.time()
user system elapsed
6.651 0.499 8.064
PhenStat.Rcheck/PhenStat-Ex.timings
| name | user | system | elapsed | |
| FisherExactTest | 0.343 | 0.041 | 0.627 | |
| JSONOutput | 1.741 | 0.058 | 2.209 | |
| LRDataset | 0.120 | 0.005 | 0.152 | |
| PhenList-class | 0.344 | 0.019 | 0.461 | |
| PhenList | 0.351 | 0.010 | 0.457 | |
| PhenStatReport | 0.078 | 0.003 | 0.107 | |
| PhenTestResult-class | 1.475 | 0.031 | 1.785 | |
| PhenTestResult | 1.161 | 0.013 | 1.309 | |
| RRTest | 0.200 | 0.009 | 0.237 | |
| TFDataset | 0.685 | 0.016 | 0.929 | |
| analysedDataset | 1.397 | 0.026 | 1.693 | |
| analysisResults | 1.359 | 0.022 | 1.740 | |
| boxplotResidualBatch | 1.481 | 0.026 | 1.796 | |
| boxplotSexGenotype | 0.147 | 0.007 | 0.180 | |
| boxplotSexGenotypeBatch | 0.311 | 0.008 | 0.395 | |
| boxplotSexGenotypeBatchAdjusted | 0.136 | 0.007 | 0.167 | |
| boxplotSexGenotypeResult | 2.035 | 0.033 | 2.453 | |
| boxplotSexGenotypeWeightBatchAdjusted | 0.136 | 0.004 | 0.185 | |
| categoricalBarplot | 0.304 | 0.013 | 0.377 | |
| checkDataset | 0.077 | 0.002 | 0.110 | |
| classificationTag | 1.346 | 0.016 | 1.637 | |
| determiningLambda | 1.055 | 0.195 | 1.518 | |
| dim | 0.073 | 0.002 | 0.085 | |
| finalLRModel | 0.987 | 0.020 | 1.206 | |
| finalModel | 1.158 | 0.010 | 1.442 | |
| finalTFModel | 1.231 | 0.044 | 1.864 | |
| htestPhenStat-class | 0.302 | 0.023 | 0.562 | |
| modelFormula | 0.001 | 0.000 | 0.001 | |
| modelFormulaLR | 0.001 | 0.001 | 0.003 | |
| parserOutputSummary | 1.341 | 0.021 | 1.768 | |
| parserOutputSummaryLR | 0.890 | 0.023 | 1.398 | |
| parserOutputTFSummary | 0.249 | 0.006 | 0.413 | |
| performReverseTransformation | 0.000 | 0.000 | 0.001 | |
| performTransformation | 0.001 | 0.001 | 0.002 | |
| plot.PhenList | 4.460 | 0.108 | 6.160 | |
| plot.PhenTestResult | 4.344 | 0.118 | 5.990 | |
| plotResidualPredicted | 1.367 | 0.019 | 1.967 | |
| printLROutput | 0.887 | 0.012 | 1.193 | |
| printTabStyle | 0.002 | 0.001 | 0.003 | |
| qqplotGenotype | 1.382 | 0.017 | 1.870 | |
| qqplotRandomEffects | 1.374 | 0.016 | 1.835 | |
| qqplotRotatedResiduals | 6.973 | 0.106 | 9.476 | |
| recommendMethod | 0.621 | 0.010 | 0.760 | |
| scatterplotGenotypeWeight | 0.280 | 0.010 | 0.325 | |
| scatterplotGenotypeWeightResult | 1.788 | 0.025 | 2.180 | |
| scatterplotSexGenotypeBatch | 0.178 | 0.009 | 0.220 | |
| scatterplotSexGenotypeBatchResult | 1.759 | 0.023 | 2.200 | |
| startLRModel | 1.094 | 0.019 | 1.292 | |
| startModel | 1.112 | 0.012 | 1.307 | |
| startTFModel | 1.100 | 0.018 | 1.315 | |
| summaryOutput | 1.618 | 0.026 | 1.988 | |
| summaryPhenListResult | 1.628 | 0.021 | 1.956 | |
| testDataset | 4.312 | 0.097 | 5.235 | |
| testFinalLRModel | 0.886 | 0.014 | 1.034 | |
| testFinalModel | 1.600 | 0.013 | 1.842 | |
| vectorOutput | 1.625 | 0.027 | 1.830 | |
| vectorOutputMatrices | 0.286 | 0.009 | 0.331 | |