| Back to Multiple platform build/check report for BioC 3.19: simplified long |
|
This page was generated on 2024-05-09 11:41:15 -0400 (Thu, 09 May 2024).
| Hostname | OS | Arch (*) | R version | Installed pkgs |
|---|---|---|---|---|
| nebbiolo1 | Linux (Ubuntu 22.04.3 LTS) | x86_64 | 4.4.0 (2024-04-24) -- "Puppy Cup" | 4748 |
| palomino3 | Windows Server 2022 Datacenter | x64 | 4.4.0 (2024-04-24 ucrt) -- "Puppy Cup" | 4484 |
| lconway | macOS 12.7.1 Monterey | x86_64 | 4.4.0 (2024-04-24) -- "Puppy Cup" | 4514 |
| kunpeng2 | Linux (openEuler 22.03 LTS-SP1) | aarch64 | 4.4.0 beta (2024-04-15 r86425) -- "Puppy Cup" | 4480 |
| Click on any hostname to see more info about the system (e.g. compilers) (*) as reported by 'uname -p', except on Windows and Mac OS X | ||||
| Package 1551/2300 | Hostname | OS / Arch | INSTALL | BUILD | CHECK | BUILD BIN | ||||||||
| PharmacoGx 3.8.0 (landing page) Benjamin Haibe-Kains
| nebbiolo1 | Linux (Ubuntu 22.04.3 LTS) / x86_64 | OK | OK | OK | |||||||||
| palomino3 | Windows Server 2022 Datacenter / x64 | OK | OK | OK | OK | |||||||||
| lconway | macOS 12.7.1 Monterey / x86_64 | OK | OK | OK | OK | |||||||||
| kunpeng2 | Linux (openEuler 22.03 LTS-SP1) / aarch64 | OK | OK | OK | ||||||||||
| kjohnson3 | macOS 13.6.5 Ventura / arm64 | see weekly results here | ||||||||||||
|
To the developers/maintainers of the PharmacoGx package: - Allow up to 24 hours (and sometimes 48 hours) for your latest push to git@git.bioconductor.org:packages/PharmacoGx.git to reflect on this report. See Troubleshooting Build Report for more information. - Use the following Renviron settings to reproduce errors and warnings. - If 'R CMD check' started to fail recently on the Linux builder(s) over a missing dependency, add the missing dependency to 'Suggests:' in your DESCRIPTION file. See Renviron.bioc for more information. - See Martin Grigorov's blog post for how to debug Linux ARM64 related issues on a x86_64 host. |
| Package: PharmacoGx |
| Version: 3.8.0 |
| Command: /home/biocbuild/R/R-beta-2024-04-15_r86425/bin/R CMD check --install=check:PharmacoGx.install-out.txt --library=/home/biocbuild/R/R-beta-2024-04-15_r86425/site-library --no-vignettes --timings PharmacoGx_3.8.0.tar.gz |
| StartedAt: 2024-05-09 10:30:44 -0000 (Thu, 09 May 2024) |
| EndedAt: 2024-05-09 10:38:35 -0000 (Thu, 09 May 2024) |
| EllapsedTime: 470.8 seconds |
| RetCode: 0 |
| Status: OK |
| CheckDir: PharmacoGx.Rcheck |
| Warnings: 0 |
##############################################################################
##############################################################################
###
### Running command:
###
### /home/biocbuild/R/R-beta-2024-04-15_r86425/bin/R CMD check --install=check:PharmacoGx.install-out.txt --library=/home/biocbuild/R/R-beta-2024-04-15_r86425/site-library --no-vignettes --timings PharmacoGx_3.8.0.tar.gz
###
##############################################################################
##############################################################################
* using log directory ‘/home/biocbuild/bbs-3.19-bioc/meat/PharmacoGx.Rcheck’
* using R version 4.4.0 beta (2024-04-15 r86425)
* using platform: aarch64-unknown-linux-gnu
* R was compiled by
gcc (GCC) 10.3.1
GNU Fortran (GCC) 10.3.1
* running under: openEuler 22.03 (LTS-SP1)
* using session charset: UTF-8
* using option ‘--no-vignettes’
* checking for file ‘PharmacoGx/DESCRIPTION’ ... OK
* checking extension type ... Package
* this is package ‘PharmacoGx’ version ‘3.8.0’
* package encoding: UTF-8
* checking package namespace information ... OK
* checking package dependencies ... OK
* checking if this is a source package ... OK
* checking if there is a namespace ... OK
* checking for hidden files and directories ... OK
* checking for portable file names ... OK
* checking for sufficient/correct file permissions ... OK
* checking whether package ‘PharmacoGx’ can be installed ... OK
* used C compiler: ‘gcc (GCC) 10.3.1’
* used C++ compiler: ‘g++ (GCC) 10.3.1’
* checking installed package size ... OK
* checking package directory ... OK
* checking ‘build’ directory ... OK
* checking DESCRIPTION meta-information ... OK
* checking top-level files ... OK
* checking for left-over files ... OK
* checking index information ... OK
* checking package subdirectories ... OK
* checking code files for non-ASCII characters ... OK
* checking R files for syntax errors ... OK
* checking whether the package can be loaded ... OK
* checking whether the package can be loaded with stated dependencies ... OK
* checking whether the package can be unloaded cleanly ... OK
* checking whether the namespace can be loaded with stated dependencies ... OK
* checking whether the namespace can be unloaded cleanly ... OK
* checking loading without being on the library search path ... OK
* checking whether startup messages can be suppressed ... OK
* checking dependencies in R code ... NOTE
Namespace in Imports field not imported from: ‘BiocGenerics’
All declared Imports should be used.
There are ::: calls to the package's namespace in its code. A package
almost never needs to use ::: for its own objects:
‘.Hill’ ‘.summarizeSensitivityNumbers’ ‘partialCorQUICKSTOP’
* checking S3 generic/method consistency ... OK
* checking replacement functions ... OK
* checking foreign function calls ... OK
* checking R code for possible problems ... NOTE
.computeZIPdelta: no visible binding for global variable
‘EC50_proj_1_to_2’
.computeZIPdelta: no visible binding for global variable
‘EC50_proj_2_to_1’
.computeZIPdelta: no visible binding for global variable
‘HS_proj_1_to_2’
.computeZIPdelta: no visible binding for global variable
‘HS_proj_2_to_1’
.computeZIPdelta: no visible binding for global variable
‘E_inf_proj_2_to_1’
.computeZIPdelta: no visible binding for global variable
‘E_inf_proj_1_to_2’
.computeZIPdelta: no visible binding for global variable ‘Rsqr_1_to_2’
.computeZIPdelta: no visible binding for global variable ‘Rsqr_2_to_1’
.plotProjHill: no visible binding for global variable ‘treatment1id’
.plotProjHill: no visible binding for global variable ‘treatment2id’
.plotProjHill: no visible binding for global variable ‘treatment2dose’
.plotProjHill: no visible binding for global variable
‘EC50_proj_2_to_1’
.plotProjHill: no visible binding for global variable ‘HS_proj_2_to_1’
.plotProjHill: no visible binding for global variable ‘EC50_2’
.plotProjHill: no visible binding for global variable ‘E_inf_2’
.plotProjHill: no visible binding for global variable
‘E_inf_proj_2_to_1’
.plotProjHill: no visible binding for global variable ‘HS_2’
.plotProjHill: no visible binding for global variable ‘treatment1dose’
.plotProjHill: no visible binding for global variable ‘combo_viability’
.plotProjHill: no visible binding for global variable ‘x’
.plotProjHill: no visible binding for global variable
‘EC50_proj_1_to_2’
.plotProjHill: no visible binding for global variable ‘HS_proj_1_to_2’
.plotProjHill: no visible binding for global variable ‘EC50_1’
.plotProjHill: no visible binding for global variable ‘HS_1’
.plotProjHill: no visible binding for global variable ‘E_inf_1’
.plotProjHill: no visible binding for global variable
‘E_inf_proj_1_to_2’
PharmacoSet2: no visible global function definition for
‘MultiAssayExperiment’
fitTwowayZIP: no visible binding for global variable ‘treatment1dose’
fitTwowayZIP: no visible binding for global variable ‘combo_viability’
fitTwowayZIP: no visible binding for global variable ‘treatment2dose’
fitTwowayZIP: no visible binding for global variable ‘EC50_2’
fitTwowayZIP: no visible binding for global variable ‘HS_2’
fitTwowayZIP: no visible binding for global variable ‘E_inf_2’
fitTwowayZIP: no visible binding for global variable ‘EC50_1’
fitTwowayZIP: no visible binding for global variable ‘HS_1’
fitTwowayZIP: no visible binding for global variable ‘E_inf_1’
mergePSets: no visible global function definition for
‘checkPSetStructure’
computeZIPdelta,TreatmentResponseExperiment: no visible binding for
global variable ‘ZIP’
computeZIPdelta,TreatmentResponseExperiment: no visible binding for
global variable ‘EC50_proj_1_to_2’
computeZIPdelta,TreatmentResponseExperiment: no visible binding for
global variable ‘EC50_proj_2_to_1’
computeZIPdelta,TreatmentResponseExperiment: no visible binding for
global variable ‘EC50_1’
computeZIPdelta,TreatmentResponseExperiment: no visible binding for
global variable ‘EC50_2’
computeZIPdelta,TreatmentResponseExperiment: no visible binding for
global variable ‘HS_proj_1_to_2’
computeZIPdelta,TreatmentResponseExperiment: no visible binding for
global variable ‘HS_proj_2_to_1’
computeZIPdelta,TreatmentResponseExperiment: no visible binding for
global variable ‘HS_1’
computeZIPdelta,TreatmentResponseExperiment: no visible binding for
global variable ‘HS_2’
computeZIPdelta,TreatmentResponseExperiment: no visible binding for
global variable ‘E_inf_1’
computeZIPdelta,TreatmentResponseExperiment: no visible binding for
global variable ‘E_inf_2’
computeZIPdelta,TreatmentResponseExperiment: no visible binding for
global variable ‘E_inf_proj_2_to_1’
computeZIPdelta,TreatmentResponseExperiment: no visible binding for
global variable ‘E_inf_proj_1_to_2’
computeZIPdelta,TreatmentResponseExperiment: no visible binding for
global variable ‘treatment1dose’
computeZIPdelta,TreatmentResponseExperiment: no visible binding for
global variable ‘treatment2dose’
computeZIPdelta,TreatmentResponseExperiment: no visible binding for
global variable ‘Rsqr_1_to_2’
computeZIPdelta,TreatmentResponseExperiment: no visible binding for
global variable ‘Rsqr_2_to_1’
Undefined global functions or variables:
EC50_1 EC50_2 EC50_proj_1_to_2 EC50_proj_2_to_1 E_inf_1 E_inf_2
E_inf_proj_1_to_2 E_inf_proj_2_to_1 HS_1 HS_2 HS_proj_1_to_2
HS_proj_2_to_1 MultiAssayExperiment Rsqr_1_to_2 Rsqr_2_to_1 ZIP
checkPSetStructure combo_viability treatment1dose treatment1id
treatment2dose treatment2id x
* checking Rd files ... OK
* checking Rd metadata ... OK
* checking Rd cross-references ... OK
* checking for missing documentation entries ... OK
* checking for code/documentation mismatches ... OK
* checking Rd \usage sections ... OK
* checking Rd contents ... OK
* checking for unstated dependencies in examples ... OK
* checking contents of ‘data’ directory ... OK
* checking data for non-ASCII characters ... NOTE
Note: found 2251 marked UTF-8 strings
* checking data for ASCII and uncompressed saves ... OK
* checking line endings in C/C++/Fortran sources/headers ... OK
* checking compiled code ... NOTE
Note: information on .o files is not available
* checking files in ‘vignettes’ ... OK
* checking examples ... OK
* checking for unstated dependencies in ‘tests’ ... OK
* checking tests ...
Running ‘testthat.R’
OK
* checking for unstated dependencies in vignettes ... OK
* checking package vignettes ... OK
* checking running R code from vignettes ... SKIPPED
* checking re-building of vignette outputs ... SKIPPED
* checking PDF version of manual ... OK
* DONE
Status: 4 NOTEs
See
‘/home/biocbuild/bbs-3.19-bioc/meat/PharmacoGx.Rcheck/00check.log’
for details.
PharmacoGx.Rcheck/00install.out
############################################################################## ############################################################################## ### ### Running command: ### ### /home/biocbuild/R/R-beta-2024-04-15_r86425/bin/R CMD INSTALL PharmacoGx ### ############################################################################## ############################################################################## * installing to library ‘/home/biocbuild/R/R-beta-2024-04-15_r86425/site-library’ * installing *source* package ‘PharmacoGx’ ... ** using staged installation ** libs using C compiler: ‘gcc (GCC) 10.3.1’ using C++ compiler: ‘g++ (GCC) 10.3.1’ g++ -std=gnu++17 -I"/home/biocbuild/R/R-beta-2024-04-15_r86425/include" -DNDEBUG -I'/home/biocbuild/R/R-beta-2024-04-15_r86425/site-library/Rcpp/include' -I/usr/local/include -fPIC -g -O2 -Wall -c RcppExports.cpp -o RcppExports.o gcc -I"/home/biocbuild/R/R-beta-2024-04-15_r86425/include" -DNDEBUG -I'/home/biocbuild/R/R-beta-2024-04-15_r86425/site-library/Rcpp/include' -I/usr/local/include -fPIC -g -O2 -Wall -c metaPermC.c -o metaPermC.o g++ -std=gnu++17 -I"/home/biocbuild/R/R-beta-2024-04-15_r86425/include" -DNDEBUG -I'/home/biocbuild/R/R-beta-2024-04-15_r86425/site-library/Rcpp/include' -I/usr/local/include -fPIC -g -O2 -Wall -c rCPP_bridge.cpp -o rCPP_bridge.o g++ -std=gnu++17 -shared -L/home/biocbuild/R/R-beta-2024-04-15_r86425/lib -L/usr/local/lib -o PharmacoGx.so RcppExports.o metaPermC.o rCPP_bridge.o -L/home/biocbuild/R/R-beta-2024-04-15_r86425/lib -lR installing to /home/biocbuild/R/R-beta-2024-04-15_r86425/site-library/00LOCK-PharmacoGx/00new/PharmacoGx/libs ** R ** data ** inst ** byte-compile and prepare package for lazy loading ** help *** installing help indices ** building package indices ** installing vignettes ** testing if installed package can be loaded from temporary location ** checking absolute paths in shared objects and dynamic libraries ** testing if installed package can be loaded from final location ** testing if installed package keeps a record of temporary installation path * DONE (PharmacoGx)
PharmacoGx.Rcheck/tests/testthat.Rout
R version 4.4.0 beta (2024-04-15 r86425) -- "Puppy Cup"
Copyright (C) 2024 The R Foundation for Statistical Computing
Platform: aarch64-unknown-linux-gnu
R is free software and comes with ABSOLUTELY NO WARRANTY.
You are welcome to redistribute it under certain conditions.
Type 'license()' or 'licence()' for distribution details.
R is a collaborative project with many contributors.
Type 'contributors()' for more information and
'citation()' on how to cite R or R packages in publications.
Type 'demo()' for some demos, 'help()' for on-line help, or
'help.start()' for an HTML browser interface to help.
Type 'q()' to quit R.
> Sys.unsetenv("R_TESTS")
>
> library(testthat)
> library(PharmacoGx)
Loading required package: CoreGx
Loading required package: BiocGenerics
Attaching package: 'BiocGenerics'
The following objects are masked from 'package:stats':
IQR, mad, sd, var, xtabs
The following objects are masked from 'package:base':
Filter, Find, Map, Position, Reduce, anyDuplicated, aperm, append,
as.data.frame, basename, cbind, colnames, dirname, do.call,
duplicated, eval, evalq, get, grep, grepl, intersect, is.unsorted,
lapply, mapply, match, mget, order, paste, pmax, pmax.int, pmin,
pmin.int, rank, rbind, rownames, sapply, setdiff, table, tapply,
union, unique, unsplit, which.max, which.min
Loading required package: SummarizedExperiment
Loading required package: MatrixGenerics
Loading required package: matrixStats
Attaching package: 'MatrixGenerics'
The following objects are masked from 'package:matrixStats':
colAlls, colAnyNAs, colAnys, colAvgsPerRowSet, colCollapse,
colCounts, colCummaxs, colCummins, colCumprods, colCumsums,
colDiffs, colIQRDiffs, colIQRs, colLogSumExps, colMadDiffs,
colMads, colMaxs, colMeans2, colMedians, colMins, colOrderStats,
colProds, colQuantiles, colRanges, colRanks, colSdDiffs, colSds,
colSums2, colTabulates, colVarDiffs, colVars, colWeightedMads,
colWeightedMeans, colWeightedMedians, colWeightedSds,
colWeightedVars, rowAlls, rowAnyNAs, rowAnys, rowAvgsPerColSet,
rowCollapse, rowCounts, rowCummaxs, rowCummins, rowCumprods,
rowCumsums, rowDiffs, rowIQRDiffs, rowIQRs, rowLogSumExps,
rowMadDiffs, rowMads, rowMaxs, rowMeans2, rowMedians, rowMins,
rowOrderStats, rowProds, rowQuantiles, rowRanges, rowRanks,
rowSdDiffs, rowSds, rowSums2, rowTabulates, rowVarDiffs, rowVars,
rowWeightedMads, rowWeightedMeans, rowWeightedMedians,
rowWeightedSds, rowWeightedVars
Loading required package: GenomicRanges
Loading required package: stats4
Loading required package: S4Vectors
Attaching package: 'S4Vectors'
The following object is masked from 'package:utils':
findMatches
The following objects are masked from 'package:base':
I, expand.grid, unname
Loading required package: IRanges
Loading required package: GenomeInfoDb
Loading required package: Biobase
Welcome to Bioconductor
Vignettes contain introductory material; view with
'browseVignettes()'. To cite Bioconductor, see
'citation("Biobase")', and for packages 'citation("pkgname")'.
Attaching package: 'Biobase'
The following object is masked from 'package:MatrixGenerics':
rowMedians
The following objects are masked from 'package:matrixStats':
anyMissing, rowMedians
Attaching package: 'PharmacoGx'
The following objects are masked from 'package:CoreGx':
.parseToRoxygen, amcc, connectivityScore, cosinePerm, gwc, mcc
>
> test_check("PharmacoGx")
|
| | 0%
|
|======================================================================| 100%
|
| | 0%
|
|======================================================================| 100%
[1] 1 1 -1
[1] 0
[1] 0
[,1] [,2] [,3]
lower_bounds 0 0 0
upper_bounds 1 1 -1
|
| | 0%
|
|======================================================================| 100%
|
| | 0%
|
|======================================================================| 100%
|
| | 0%
|
|======================================================================| 100%
|
| | 0%
|
|======================================================================| 100%
|
| | 0%
|
|======================================================================| 100%
|
| | 0%
|
|======================================================================| 100%
|
| | 0%
|
|======================================================================| 100%
[ FAIL 0 | WARN 3 | SKIP 1 | PASS 129 ]
══ Skipped tests (1) ═══════════════════════════════════════════════════════════
• empty test (1): 'test_PharmacoSet_utils.R:28:1'
[ FAIL 0 | WARN 3 | SKIP 1 | PASS 129 ]
>
> proc.time()
user system elapsed
97.201 2.008 99.571
PharmacoGx.Rcheck/PharmacoGx-Ex.timings
| name | user | system | elapsed | |
| PharmacoSet-accessors | 3.862 | 0.527 | 4.399 | |
| PharmacoSet-utils | 1.760 | 0.044 | 1.807 | |
| PharmacoSet | 0.002 | 0.000 | 0.002 | |
| PharmacoSet2 | 2.059 | 0.036 | 2.099 | |
| PharmacoSig | 0.032 | 0.008 | 0.121 | |
| amcc | 0.001 | 0.000 | 0.000 | |
| availablePSets | 0.000 | 0.000 | 0.001 | |
| callingWaterfall | 0 | 0 | 0 | |
| checkPsetStructure | 1.227 | 0.000 | 1.227 | |
| computeABC | 1.075 | 0.080 | 1.157 | |
| computeAUC | 0.526 | 0.008 | 0.535 | |
| computeAmax | 0.550 | 0.012 | 0.563 | |
| computeBliss | 0 | 0 | 0 | |
| computeHSA | 0 | 0 | 0 | |
| computeICn | 1.079 | 0.008 | 1.088 | |
| computeLoewe | 0.001 | 0.000 | 0.000 | |
| computeSlope | 0.001 | 0.000 | 0.001 | |
| computeZIP | 0.001 | 0.000 | 0.001 | |
| computeZIPdelta-TreatmentResponseExperiment-method | 0.000 | 0.000 | 0.001 | |
| computeZIPdelta | 0 | 0 | 0 | |
| connectivityScore | 3.645 | 0.243 | 3.997 | |
| cosinePerm | 0.098 | 0.089 | 0.108 | |
| dot-computeZIPdelta | 0 | 0 | 0 | |
| downloadPSet | 0 | 0 | 0 | |
| downloadPertSig | 0.001 | 0.000 | 0.000 | |
| drugDoseResponseCurve | 0 | 0 | 0 | |
| drugPerturbationSig | 2.641 | 0.264 | 2.807 | |
| drugSensitivitySig-PharmacoSet-method | 1.427 | 0.084 | 1.512 | |
| effectToDose | 0 | 0 | 0 | |
| filterNoisyCurves | 1.585 | 0.072 | 1.661 | |
| fitTwowayZIP | 0.000 | 0.001 | 0.000 | |
| geneDrugSensitivity | 0.000 | 0.000 | 0.001 | |
| geneDrugSensitivityPBCorr | 0 | 0 | 0 | |
| geneDrugSensitivityPCorr | 0 | 0 | 0 | |
| gwc | 1.171 | 0.052 | 1.287 | |
| hillCurve | 0.001 | 0.000 | 0.001 | |
| intersectPSet | 1.492 | 0.111 | 1.498 | |
| loeweCI | 0 | 0 | 0 | |
| logLogisticRegression | 0.554 | 0.100 | 0.655 | |
| mcc | 0.009 | 0.032 | 2.677 | |
| plot.PharmacoSig | 4.238 | 0.726 | 2.262 | |
| show-PharmacoSet-method | 1.220 | 0.004 | 1.226 | |
| show-PharmacoSig-method | 1.439 | 0.115 | 1.555 | |
| showSigAnnot-PharmacoSig-method | 1.465 | 0.084 | 1.550 | |
| sub-PharmacoSet-ANY-ANY-ANY-method | 1.269 | 0.040 | 1.312 | |
| subsetTo-PharmacoSet-method | 1.280 | 0.036 | 1.317 | |
| summarizeMolecularProfiles-PharmacoSet-method | 0.142 | 0.012 | 0.154 | |
| summarizeSensitivityProfiles-PharmacoSet-method | 0.068 | 0.000 | 0.069 | |
| updateObject-PharmacoSet-method | 0.120 | 0.004 | 0.124 | |