| Back to Multiple platform build/check report for BioC 3.19: simplified long |
|
This page was generated on 2024-10-18 20:38 -0400 (Fri, 18 Oct 2024).
| Hostname | OS | Arch (*) | R version | Installed pkgs |
|---|---|---|---|---|
| nebbiolo1 | Linux (Ubuntu 22.04.3 LTS) | x86_64 | 4.4.1 (2024-06-14) -- "Race for Your Life" | 4763 |
| palomino7 | Windows Server 2022 Datacenter | x64 | 4.4.1 (2024-06-14 ucrt) -- "Race for Your Life" | 4500 |
| merida1 | macOS 12.7.5 Monterey | x86_64 | 4.4.1 (2024-06-14) -- "Race for Your Life" | 4530 |
| kjohnson1 | macOS 13.6.6 Ventura | arm64 | 4.4.1 (2024-06-14) -- "Race for Your Life" | 4480 |
| Click on any hostname to see more info about the system (e.g. compilers) (*) as reported by 'uname -p', except on Windows and Mac OS X | ||||
| Package 1541/2300 | Hostname | OS / Arch | INSTALL | BUILD | CHECK | BUILD BIN | ||||||||
| PepsNMR 1.22.0 (landing page) Manon Martin
| nebbiolo1 | Linux (Ubuntu 22.04.3 LTS) / x86_64 | OK | OK | OK | |||||||||
| palomino7 | Windows Server 2022 Datacenter / x64 | OK | OK | OK | OK | |||||||||
| merida1 | macOS 12.7.5 Monterey / x86_64 | OK | OK | OK | OK | |||||||||
| kjohnson1 | macOS 13.6.6 Ventura / arm64 | OK | OK | OK | OK | |||||||||
|
To the developers/maintainers of the PepsNMR package: - Allow up to 24 hours (and sometimes 48 hours) for your latest push to git@git.bioconductor.org:packages/PepsNMR.git to reflect on this report. See Troubleshooting Build Report for more information. - Use the following Renviron settings to reproduce errors and warnings. - If 'R CMD check' started to fail recently on the Linux builder(s) over a missing dependency, add the missing dependency to 'Suggests:' in your DESCRIPTION file. See Renviron.bioc for more information. |
| Package: PepsNMR |
| Version: 1.22.0 |
| Command: /home/biocbuild/bbs-3.19-bioc/R/bin/R CMD check --install=check:PepsNMR.install-out.txt --library=/home/biocbuild/bbs-3.19-bioc/R/site-library --timings PepsNMR_1.22.0.tar.gz |
| StartedAt: 2024-10-17 03:41:47 -0400 (Thu, 17 Oct 2024) |
| EndedAt: 2024-10-17 03:53:10 -0400 (Thu, 17 Oct 2024) |
| EllapsedTime: 682.6 seconds |
| RetCode: 0 |
| Status: OK |
| CheckDir: PepsNMR.Rcheck |
| Warnings: 0 |
##############################################################################
##############################################################################
###
### Running command:
###
### /home/biocbuild/bbs-3.19-bioc/R/bin/R CMD check --install=check:PepsNMR.install-out.txt --library=/home/biocbuild/bbs-3.19-bioc/R/site-library --timings PepsNMR_1.22.0.tar.gz
###
##############################################################################
##############################################################################
* using log directory ‘/home/biocbuild/bbs-3.19-bioc/meat/PepsNMR.Rcheck’
* using R version 4.4.1 (2024-06-14)
* using platform: x86_64-pc-linux-gnu
* R was compiled by
gcc (Ubuntu 11.4.0-1ubuntu1~22.04) 11.4.0
GNU Fortran (Ubuntu 11.4.0-1ubuntu1~22.04) 11.4.0
* running under: Ubuntu 22.04.5 LTS
* using session charset: UTF-8
* checking for file ‘PepsNMR/DESCRIPTION’ ... OK
* checking extension type ... Package
* this is package ‘PepsNMR’ version ‘1.22.0’
* package encoding: UTF-8
* checking package namespace information ... OK
* checking package dependencies ... OK
* checking if this is a source package ... OK
* checking if there is a namespace ... OK
* checking for hidden files and directories ... OK
* checking for portable file names ... OK
* checking for sufficient/correct file permissions ... OK
* checking whether package ‘PepsNMR’ can be installed ... OK
* checking installed package size ... OK
* checking package directory ... OK
* checking ‘build’ directory ... OK
* checking DESCRIPTION meta-information ... OK
* checking top-level files ... OK
* checking for left-over files ... OK
* checking index information ... OK
* checking package subdirectories ... OK
* checking code files for non-ASCII characters ... OK
* checking R files for syntax errors ... OK
* checking whether the package can be loaded ... OK
* checking whether the package can be loaded with stated dependencies ... OK
* checking whether the package can be unloaded cleanly ... OK
* checking whether the namespace can be loaded with stated dependencies ... OK
* checking whether the namespace can be unloaded cleanly ... OK
* checking loading without being on the library search path ... OK
* checking dependencies in R code ... OK
* checking S3 generic/method consistency ... OK
* checking replacement functions ... OK
* checking foreign function calls ... OK
* checking R code for possible problems ... OK
* checking Rd files ... NOTE
checkRd: (-1) Normalization.Rd:47: Escaped LaTeX specials: \&
* checking Rd metadata ... OK
* checking Rd cross-references ... OK
* checking for missing documentation entries ... OK
* checking for code/documentation mismatches ... OK
* checking Rd \usage sections ... OK
* checking Rd contents ... OK
* checking for unstated dependencies in examples ... OK
* checking files in ‘vignettes’ ... OK
* checking examples ... OK
Examples with CPU (user + system) or elapsed time > 5s
user system elapsed
PEPSNMR-package 199.824 3.323 203.188
PreprocessingChain 195.542 1.084 196.626
Warping 8.769 0.048 8.816
* checking for unstated dependencies in vignettes ... OK
* checking package vignettes ... OK
* checking re-building of vignette outputs ... OK
* checking PDF version of manual ... OK
* DONE
Status: 1 NOTE
See
‘/home/biocbuild/bbs-3.19-bioc/meat/PepsNMR.Rcheck/00check.log’
for details.
PepsNMR.Rcheck/00install.out
############################################################################## ############################################################################## ### ### Running command: ### ### /home/biocbuild/bbs-3.19-bioc/R/bin/R CMD INSTALL PepsNMR ### ############################################################################## ############################################################################## * installing to library ‘/home/biocbuild/bbs-3.19-bioc/R/site-library’ * installing *source* package ‘PepsNMR’ ... ** using staged installation ** R ** inst ** byte-compile and prepare package for lazy loading ** help *** installing help indices ** building package indices ** installing vignettes ** testing if installed package can be loaded from temporary location ** testing if installed package can be loaded from final location ** testing if installed package keeps a record of temporary installation path * DONE (PepsNMR)
PepsNMR.Rcheck/PepsNMR-Ex.timings
| name | user | system | elapsed | |
| Apodization | 0.456 | 0.080 | 0.541 | |
| BaselineCorrection | 0.439 | 0.020 | 0.460 | |
| Bucketing | 0.041 | 0.000 | 0.041 | |
| Draw | 0.820 | 0.048 | 0.868 | |
| DrawPCA | 0.630 | 0.024 | 0.654 | |
| DrawSignal | 0.411 | 0.016 | 0.427 | |
| FirstOrderPhaseCorrection | 0.032 | 0.000 | 0.032 | |
| FourierTransform | 0.018 | 0.011 | 0.029 | |
| GroupDelayCorrection | 0.036 | 0.008 | 0.044 | |
| InternalReferencing | 0.021 | 0.000 | 0.021 | |
| NegativeValuesZeroing | 0.01 | 0.00 | 0.01 | |
| Normalization | 0.007 | 0.000 | 0.007 | |
| PEPSNMR-package | 199.824 | 3.323 | 203.188 | |
| PreprocessingChain | 195.542 | 1.084 | 196.626 | |
| ReadFids | 0.195 | 0.012 | 0.207 | |
| RegionRemoval | 0.007 | 0.000 | 0.007 | |
| SolventSuppression | 0.094 | 0.004 | 0.098 | |
| Warping | 8.769 | 0.048 | 8.816 | |
| WindowSelection | 0.021 | 0.000 | 0.021 | |
| ZeroFilling | 0.060 | 0.004 | 0.064 | |
| ZeroOrderPhaseCorrection | 0.058 | 0.000 | 0.058 | |
| ZoneAggregation | 0.207 | 0.020 | 0.230 | |