| Back to Multiple platform build/check report for BioC 3.19: simplified long |
|
This page was generated on 2024-06-28 17:42 -0400 (Fri, 28 Jun 2024).
| Hostname | OS | Arch (*) | R version | Installed pkgs |
|---|---|---|---|---|
| nebbiolo1 | Linux (Ubuntu 22.04.3 LTS) | x86_64 | 4.4.0 (2024-04-24) -- "Puppy Cup" | 4760 |
| palomino3 | Windows Server 2022 Datacenter | x64 | 4.4.0 (2024-04-24 ucrt) -- "Puppy Cup" | 4494 |
| merida1 | macOS 12.7.4 Monterey | x86_64 | 4.4.0 (2024-04-24) -- "Puppy Cup" | 4508 |
| kjohnson1 | macOS 13.6.6 Ventura | arm64 | 4.4.0 (2024-04-24) -- "Puppy Cup" | 4466 |
| palomino7 | Windows Server 2022 Datacenter | x64 | 4.4.1 (2024-06-14 ucrt) -- "Race for Your Life" | 4362 |
| Click on any hostname to see more info about the system (e.g. compilers) (*) as reported by 'uname -p', except on Windows and Mac OS X | ||||
| Package 1401/2300 | Hostname | OS / Arch | INSTALL | BUILD | CHECK | BUILD BIN | ||||||||
| NanoMethViz 3.0.2 (landing page) Shian Su
| nebbiolo1 | Linux (Ubuntu 22.04.3 LTS) / x86_64 | OK | OK | OK | |||||||||
| palomino3 | Windows Server 2022 Datacenter / x64 | OK | OK | OK | OK | |||||||||
| merida1 | macOS 12.7.4 Monterey / x86_64 | OK | OK | OK | OK | |||||||||
| kjohnson1 | macOS 13.6.6 Ventura / arm64 | OK | OK | OK | OK | |||||||||
| palomino7 | Windows Server 2022 Datacenter / x64 | OK | OK | OK | OK | |||||||||
|
To the developers/maintainers of the NanoMethViz package: - Allow up to 24 hours (and sometimes 48 hours) for your latest push to git@git.bioconductor.org:packages/NanoMethViz.git to reflect on this report. See Troubleshooting Build Report for more information. - Use the following Renviron settings to reproduce errors and warnings. - If 'R CMD check' started to fail recently on the Linux builder(s) over a missing dependency, add the missing dependency to 'Suggests:' in your DESCRIPTION file. See Renviron.bioc for more information. |
| Package: NanoMethViz |
| Version: 3.0.2 |
| Command: F:\biocbuild\bbs-3.19-bioc\R\bin\R.exe CMD check --no-multiarch --install=check:NanoMethViz.install-out.txt --library=F:\biocbuild\bbs-3.19-bioc\R\library --no-vignettes --timings NanoMethViz_3.0.2.tar.gz |
| StartedAt: 2024-06-27 04:07:26 -0400 (Thu, 27 Jun 2024) |
| EndedAt: 2024-06-27 04:19:43 -0400 (Thu, 27 Jun 2024) |
| EllapsedTime: 736.5 seconds |
| RetCode: 0 |
| Status: OK |
| CheckDir: NanoMethViz.Rcheck |
| Warnings: 0 |
##############################################################################
##############################################################################
###
### Running command:
###
### F:\biocbuild\bbs-3.19-bioc\R\bin\R.exe CMD check --no-multiarch --install=check:NanoMethViz.install-out.txt --library=F:\biocbuild\bbs-3.19-bioc\R\library --no-vignettes --timings NanoMethViz_3.0.2.tar.gz
###
##############################################################################
##############################################################################
* using log directory 'F:/biocbuild/bbs-3.19-bioc/meat/NanoMethViz.Rcheck'
* using R version 4.4.0 (2024-04-24 ucrt)
* using platform: x86_64-w64-mingw32
* R was compiled by
gcc.exe (GCC) 13.2.0
GNU Fortran (GCC) 13.2.0
* running under: Windows Server 2022 x64 (build 20348)
* using session charset: UTF-8
* using option '--no-vignettes'
* checking for file 'NanoMethViz/DESCRIPTION' ... OK
* checking extension type ... Package
* this is package 'NanoMethViz' version '3.0.2'
* package encoding: UTF-8
* checking package namespace information ... OK
* checking package dependencies ... OK
* checking if this is a source package ... OK
* checking if there is a namespace ... OK
* checking for hidden files and directories ... OK
* checking for portable file names ... OK
* checking whether package 'NanoMethViz' can be installed ... OK
* used C++ compiler: 'G__~1.EXE (GCC) 13.2.0'
* checking C++ specification ... OK
Not all R platforms support C++20
* checking installed package size ... NOTE
installed size is 6.2Mb
sub-directories of 1Mb or more:
libs 1.2Mb
* checking package directory ... OK
* checking 'build' directory ... OK
* checking DESCRIPTION meta-information ... OK
* checking top-level files ... OK
* checking for left-over files ... OK
* checking index information ... OK
* checking package subdirectories ... OK
* checking code files for non-ASCII characters ... OK
* checking R files for syntax errors ... OK
* checking whether the package can be loaded ... OK
* checking whether the package can be loaded with stated dependencies ... OK
* checking whether the package can be unloaded cleanly ... OK
* checking whether the namespace can be loaded with stated dependencies ... OK
* checking whether the namespace can be unloaded cleanly ... OK
* checking whether startup messages can be suppressed ... OK
* checking dependencies in R code ... OK
* checking S3 generic/method consistency ... OK
* checking replacement functions ... OK
* checking foreign function calls ... OK
* checking R code for possible problems ... NOTE
read_methy_lines: no visible global function definition for
'read.delim'
Undefined global functions or variables:
read.delim
Consider adding
importFrom("utils", "read.delim")
to your NAMESPACE file.
* checking Rd files ... OK
* checking Rd metadata ... OK
* checking Rd cross-references ... OK
* checking for missing documentation entries ... OK
* checking for code/documentation mismatches ... OK
* checking Rd \usage sections ... OK
* checking Rd contents ... OK
* checking for unstated dependencies in examples ... OK
* checking line endings in C/C++/Fortran sources/headers ... OK
* checking line endings in Makefiles ... OK
* checking compilation flags in Makevars ... OK
* checking for GNU extensions in Makefiles ... OK
* checking for portable use of $(BLAS_LIBS) and $(LAPACK_LIBS) ... OK
* checking use of PKG_*FLAGS in Makefiles ... OK
* checking compiled code ... NOTE
Note: information on .o files for x64 is not available
File 'F:/biocbuild/bbs-3.19-bioc/R/library/NanoMethViz/libs/x64/NanoMethViz.dll':
Found '_exit', possibly from '_exit' (C)
Found 'abort', possibly from 'abort' (C), 'runtime' (Fortran)
Found 'exit', possibly from 'exit' (C), 'stop' (Fortran)
Compiled code should not call entry points which might terminate R nor
write to stdout/stderr instead of to the console, nor use Fortran I/O
nor system RNGs nor [v]sprintf. The detected symbols are linked into
the code but might come from libraries and not actually be called.
See 'Writing portable packages' in the 'Writing R Extensions' manual.
* checking files in 'vignettes' ... OK
* checking examples ... OK
Examples with CPU (user + system) or elapsed time > 5s
user system elapsed
get_exons 46.23 3.39 65.69
get_exons_homo_sapiens 15.45 1.25 16.70
get_exons_mus_musculus 14.50 0.84 15.34
plot_gene 12.88 0.89 13.70
plot_gene_heatmap 10.17 0.36 10.51
NanoMethResult-class 7.08 2.12 9.42
plot_grange 8.81 0.31 9.10
plot_region 8.56 0.29 8.83
plot_grange_heatmap 7.72 0.13 7.84
plot_region_heatmap 7.40 0.22 7.60
plot_agg_regions 6.99 0.17 7.16
cluster_regions 5.52 0.13 5.64
* checking for unstated dependencies in 'tests' ... OK
* checking tests ...
Running 'testthat.R'
OK
* checking for unstated dependencies in vignettes ... OK
* checking package vignettes ... OK
* checking running R code from vignettes ... SKIPPED
* checking re-building of vignette outputs ... SKIPPED
* checking PDF version of manual ... OK
* DONE
Status: 3 NOTEs
See
'F:/biocbuild/bbs-3.19-bioc/meat/NanoMethViz.Rcheck/00check.log'
for details.
NanoMethViz.Rcheck/00install.out
##############################################################################
##############################################################################
###
### Running command:
###
### F:\biocbuild\bbs-3.19-bioc\R\bin\R.exe CMD INSTALL NanoMethViz
###
##############################################################################
##############################################################################
* installing to library 'F:/biocbuild/bbs-3.19-bioc/R/library'
* installing *source* package 'NanoMethViz' ...
** using staged installation
** libs
using C++ compiler: 'G__~1.EXE (GCC) 13.2.0'
using C++20
g++ -std=gnu++20 -I"F:/biocbuild/bbs-3.19-bioc/R/include" -DNDEBUG -I'F:/biocbuild/bbs-3.19-bioc/R/library/Rcpp/include' -I"C:/rtools44/x86_64-w64-mingw32.static.posix/include" -O2 -Wall -mfpmath=sse -msse2 -mstackrealign -c RcppExports.cpp -o RcppExports.o
g++ -std=gnu++20 -I"F:/biocbuild/bbs-3.19-bioc/R/include" -DNDEBUG -I'F:/biocbuild/bbs-3.19-bioc/R/library/Rcpp/include' -I"C:/rtools44/x86_64-w64-mingw32.static.posix/include" -O2 -Wall -mfpmath=sse -msse2 -mstackrealign -c convert_methy_to_dss.cpp -o convert_methy_to_dss.o
g++ -std=gnu++20 -I"F:/biocbuild/bbs-3.19-bioc/R/include" -DNDEBUG -I'F:/biocbuild/bbs-3.19-bioc/R/library/Rcpp/include' -I"C:/rtools44/x86_64-w64-mingw32.static.posix/include" -O2 -Wall -mfpmath=sse -msse2 -mstackrealign -c count_cg.cpp -o count_cg.o
g++ -std=gnu++20 -I"F:/biocbuild/bbs-3.19-bioc/R/include" -DNDEBUG -I'F:/biocbuild/bbs-3.19-bioc/R/library/Rcpp/include' -I"C:/rtools44/x86_64-w64-mingw32.static.posix/include" -O2 -Wall -mfpmath=sse -msse2 -mstackrealign -c modbam.cpp -o modbam.o
modbam.cpp: In function 'GenomicModPos parse_bam(const std::string&, const std::string&, const std::string&, const std::string&, const std::string&, int)':
modbam.cpp:394:44: warning: comparison of integer expressions of different signedness: 'int' and 'std::basic_string_view<char>::size_type' {aka 'long long unsigned int'} [-Wsign-compare]
394 | while ( mod_string_end < mm_tok.size() && std::isalnum(mm_tok[mod_string_end]) ) {
| ~~~~~~~~~~~~~~~^~~~~~~~~~~~~~~
modbam.cpp:400:40: warning: comparison of integer expressions of different signedness: 'int' and 'std::basic_string_view<char>::size_type' {aka 'long long unsigned int'} [-Wsign-compare]
400 | if (mod_string_end == mm_tok.size() || mm_tok[mod_string_end] == '.') {
| ~~~~~~~~~~~~~~~^~~~~~~~~~~~~~~~
modbam.cpp:437:21: warning: 'target_base' may be used uninitialized [-Wmaybe-uninitialized]
437 | if (seq.at(seq_ind) == target_base) {
| ^~
modbam.cpp:368:14: note: 'target_base' was declared here
368 | char target_base;
| ^~~~~~~~~~~
modbam.cpp:425:17: warning: 'parse_mode' may be used uninitialized [-Wmaybe-uninitialized]
425 | if (parse_mode == ParseMode::skip_low_prob) {
| ^~
modbam.cpp:371:19: note: 'parse_mode' was declared here
371 | ParseMode parse_mode;
| ^~~~~~~~~~
In file included from C:/rtools44/x86_64-w64-mingw32.static.posix/lib/gcc/x86_64-w64-mingw32.static.posix/13.2.0/include/c++/bits/stl_iterator.h:85,
from C:/rtools44/x86_64-w64-mingw32.static.posix/lib/gcc/x86_64-w64-mingw32.static.posix/13.2.0/include/c++/bits/stl_algobase.h:67,
from C:/rtools44/x86_64-w64-mingw32.static.posix/lib/gcc/x86_64-w64-mingw32.static.posix/13.2.0/include/c++/algorithm:60,
from modbam.cpp:1:
In function 'constexpr decltype (::new(void*(0)) _Tp) std::construct_at(_Tp*, _Args&& ...) [with _Tp = char; _Args = {const char&}]',
inlined from 'static constexpr void std::allocator_traits<std::allocator<_CharT> >::construct(allocator_type&, _Up*, _Args&& ...) [with _Up = char; _Args = {const char&}; _Tp = char]' at C:/rtools44/x86_64-w64-mingw32.static.posix/lib/gcc/x86_64-w64-mingw32.static.posix/13.2.0/include/c++/bits/alloc_traits.h:539:21,
inlined from 'constexpr void std::vector<_Tp, _Alloc>::_M_realloc_insert(iterator, _Args&& ...) [with _Args = {const char&}; _Tp = char; _Alloc = std::allocator<char>]' at C:/rtools44/x86_64-w64-mingw32.static.posix/lib/gcc/x86_64-w64-mingw32.static.posix/13.2.0/include/c++/bits/vector.tcc:468:28,
inlined from 'constexpr void std::vector<_Tp, _Alloc>::push_back(const value_type&) [with _Tp = char; _Alloc = std::allocator<char>]' at C:/rtools44/x86_64-w64-mingw32.static.posix/lib/gcc/x86_64-w64-mingw32.static.posix/13.2.0/include/c++/bits/stl_vector.h:1289:21,
inlined from 'GenomicModPos parse_bam(const std::string&, const std::string&, const std::string&, const std::string&, const std::string&, int)' at modbam.cpp:430:46:
C:/rtools44/x86_64-w64-mingw32.static.posix/lib/gcc/x86_64-w64-mingw32.static.posix/13.2.0/include/c++/bits/stl_construct.h:97:14: warning: 'current_base' may be used uninitialized [-Wmaybe-uninitialized]
97 | { return ::new((void*)__location) _Tp(std::forward<_Args>(__args)...); }
| ^~~~~~~~~~~~~~~~~~~~~~~~~~~~~~~~~~~~~~~~~~~~~~~~~~~~~~~~~~~~
modbam.cpp: In function 'GenomicModPos parse_bam(const std::string&, const std::string&, const std::string&, const std::string&, const std::string&, int)':
modbam.cpp:367:14: note: 'current_base' was declared here
367 | char current_base;
| ^~~~~~~~~~~~
g++ -std=gnu++20 -I"F:/biocbuild/bbs-3.19-bioc/R/include" -DNDEBUG -I'F:/biocbuild/bbs-3.19-bioc/R/library/Rcpp/include' -I"C:/rtools44/x86_64-w64-mingw32.static.posix/include" -O2 -Wall -mfpmath=sse -msse2 -mstackrealign -c utils.cpp -o utils.o
g++ -shared -s -static-libgcc -o NanoMethViz.dll tmp.def RcppExports.o convert_methy_to_dss.o count_cg.o modbam.o utils.o -lz -LC:/rtools44/x86_64-w64-mingw32.static.posix/lib/x64 -LC:/rtools44/x86_64-w64-mingw32.static.posix/lib -LF:/biocbuild/bbs-3.19-bioc/R/bin/x64 -lR
installing to F:/biocbuild/bbs-3.19-bioc/R/library/00LOCK-NanoMethViz/00new/NanoMethViz/libs/x64
** R
** inst
** byte-compile and prepare package for lazy loading
** help
*** installing help indices
** building package indices
** installing vignettes
** testing if installed package can be loaded from temporary location
** testing if installed package can be loaded from final location
** testing if installed package keeps a record of temporary installation path
* DONE (NanoMethViz)
NanoMethViz.Rcheck/tests/testthat.Rout
R version 4.4.0 (2024-04-24 ucrt) -- "Puppy Cup"
Copyright (C) 2024 The R Foundation for Statistical Computing
Platform: x86_64-w64-mingw32/x64
R is free software and comes with ABSOLUTELY NO WARRANTY.
You are welcome to redistribute it under certain conditions.
Type 'license()' or 'licence()' for distribution details.
R is a collaborative project with many contributors.
Type 'contributors()' for more information and
'citation()' on how to cite R or R packages in publications.
Type 'demo()' for some demos, 'help()' for on-line help, or
'help.start()' for an HTML browser interface to help.
Type 'q()' to quit R.
> library(testthat)
> library(NanoMethViz)
Loading required package: ggplot2
>
> test_check("NanoMethViz")
Starting 2 test processes
[ FAIL 0 | WARN 0 | SKIP 0 | PASS 580 ]
>
> proc.time()
user system elapsed
16.45 1.23 147.73
NanoMethViz.Rcheck/NanoMethViz-Ex.timings
| name | user | system | elapsed | |
| NanoMethResult-class | 7.08 | 2.12 | 9.42 | |
| bsseq_to_edger | 0.94 | 0.02 | 1.20 | |
| bsseq_to_log_methy_ratio | 1.62 | 0.06 | 1.78 | |
| cluster_regions | 5.52 | 0.13 | 5.64 | |
| create_tabix_file | 0.88 | 0.35 | 1.38 | |
| exons_to_genes | 0.32 | 0.00 | 0.33 | |
| filter_methy | 3.03 | 0.18 | 3.33 | |
| get_example_exons_mus_musculus | 0.29 | 0.04 | 0.32 | |
| get_exons | 46.23 | 3.39 | 65.69 | |
| get_exons_homo_sapiens | 15.45 | 1.25 | 16.70 | |
| get_exons_mus_musculus | 14.50 | 0.84 | 15.34 | |
| load_example_modbamresult | 0.39 | 0.03 | 0.43 | |
| load_example_nanomethresult | 0.41 | 0.00 | 0.40 | |
| methy | 0 | 0 | 0 | |
| methy_col_names | 0 | 0 | 0 | |
| methy_to_bsseq | 1.58 | 0.21 | 1.78 | |
| methy_to_edger | 1.56 | 0.11 | 1.69 | |
| modbam_to_tabix | 2.81 | 1.08 | 3.14 | |
| plot_agg_genes | 2.64 | 0.17 | 2.81 | |
| plot_agg_regions | 6.99 | 0.17 | 7.16 | |
| plot_gene | 12.88 | 0.89 | 13.70 | |
| plot_gene_heatmap | 10.17 | 0.36 | 10.51 | |
| plot_grange | 8.81 | 0.31 | 9.10 | |
| plot_grange_heatmap | 7.72 | 0.13 | 7.84 | |
| plot_mds | 2.27 | 0.10 | 2.37 | |
| plot_pca | 2.08 | 0.14 | 2.28 | |
| plot_region | 8.56 | 0.29 | 8.83 | |
| plot_region_heatmap | 7.40 | 0.22 | 7.60 | |
| plot_violin | 2.91 | 0.06 | 2.97 | |
| query_methy | 0.45 | 0.02 | 0.47 | |
| region_methy_stats | 1.27 | 0.07 | 1.34 | |