| Back to Multiple platform build/check report for BioC 3.19: simplified long |
|
This page was generated on 2024-05-09 11:41:09 -0400 (Thu, 09 May 2024).
| Hostname | OS | Arch (*) | R version | Installed pkgs |
|---|---|---|---|---|
| nebbiolo1 | Linux (Ubuntu 22.04.3 LTS) | x86_64 | 4.4.0 (2024-04-24) -- "Puppy Cup" | 4748 |
| palomino3 | Windows Server 2022 Datacenter | x64 | 4.4.0 (2024-04-24 ucrt) -- "Puppy Cup" | 4484 |
| lconway | macOS 12.7.1 Monterey | x86_64 | 4.4.0 (2024-04-24) -- "Puppy Cup" | 4514 |
| kunpeng2 | Linux (openEuler 22.03 LTS-SP1) | aarch64 | 4.4.0 beta (2024-04-15 r86425) -- "Puppy Cup" | 4480 |
| Click on any hostname to see more info about the system (e.g. compilers) (*) as reported by 'uname -p', except on Windows and Mac OS X | ||||
| Package 1371/2300 | Hostname | OS / Arch | INSTALL | BUILD | CHECK | BUILD BIN | ||||||||
| Mulcom 1.54.0 (landing page) Claudio Isella
| nebbiolo1 | Linux (Ubuntu 22.04.3 LTS) / x86_64 | OK | OK | WARNINGS | |||||||||
| palomino3 | Windows Server 2022 Datacenter / x64 | OK | OK | WARNINGS | OK | |||||||||
| lconway | macOS 12.7.1 Monterey / x86_64 | OK | OK | WARNINGS | OK | |||||||||
| kunpeng2 | Linux (openEuler 22.03 LTS-SP1) / aarch64 | OK | OK | WARNINGS | ||||||||||
| kjohnson3 | macOS 13.6.5 Ventura / arm64 | see weekly results here | ||||||||||||
|
To the developers/maintainers of the Mulcom package: - Allow up to 24 hours (and sometimes 48 hours) for your latest push to git@git.bioconductor.org:packages/Mulcom.git to reflect on this report. See Troubleshooting Build Report for more information. - Use the following Renviron settings to reproduce errors and warnings. - If 'R CMD check' started to fail recently on the Linux builder(s) over a missing dependency, add the missing dependency to 'Suggests:' in your DESCRIPTION file. See Renviron.bioc for more information. - See Martin Grigorov's blog post for how to debug Linux ARM64 related issues on a x86_64 host. |
| Package: Mulcom |
| Version: 1.54.0 |
| Command: /home/biocbuild/R/R-beta-2024-04-15_r86425/bin/R CMD check --install=check:Mulcom.install-out.txt --library=/home/biocbuild/R/R-beta-2024-04-15_r86425/site-library --no-vignettes --timings Mulcom_1.54.0.tar.gz |
| StartedAt: 2024-05-09 09:51:48 -0000 (Thu, 09 May 2024) |
| EndedAt: 2024-05-09 09:52:59 -0000 (Thu, 09 May 2024) |
| EllapsedTime: 71.1 seconds |
| RetCode: 0 |
| Status: WARNINGS |
| CheckDir: Mulcom.Rcheck |
| Warnings: 1 |
##############################################################################
##############################################################################
###
### Running command:
###
### /home/biocbuild/R/R-beta-2024-04-15_r86425/bin/R CMD check --install=check:Mulcom.install-out.txt --library=/home/biocbuild/R/R-beta-2024-04-15_r86425/site-library --no-vignettes --timings Mulcom_1.54.0.tar.gz
###
##############################################################################
##############################################################################
* using log directory ‘/home/biocbuild/bbs-3.19-bioc/meat/Mulcom.Rcheck’
* using R version 4.4.0 beta (2024-04-15 r86425)
* using platform: aarch64-unknown-linux-gnu
* R was compiled by
gcc (GCC) 10.3.1
GNU Fortran (GCC) 10.3.1
* running under: openEuler 22.03 (LTS-SP1)
* using session charset: UTF-8
* using option ‘--no-vignettes’
* checking for file ‘Mulcom/DESCRIPTION’ ... OK
* checking extension type ... Package
* this is package ‘Mulcom’ version ‘1.54.0’
* checking package namespace information ... OK
* checking package dependencies ... OK
* checking if this is a source package ... OK
* checking if there is a namespace ... OK
* checking for hidden files and directories ... OK
* checking for portable file names ... OK
* checking for sufficient/correct file permissions ... OK
* checking whether package ‘Mulcom’ can be installed ... OK
* used C++ compiler: ‘g++ (GCC) 10.3.1’
* checking installed package size ... OK
* checking package directory ... OK
* checking DESCRIPTION meta-information ... OK
* checking top-level files ... OK
* checking for left-over files ... OK
* checking index information ... OK
* checking package subdirectories ... OK
* checking code files for non-ASCII characters ... OK
* checking R files for syntax errors ... OK
* checking whether the package can be loaded ... OK
* checking whether the package can be loaded with stated dependencies ... OK
* checking whether the package can be unloaded cleanly ... OK
* checking whether the namespace can be loaded with stated dependencies ... OK
* checking whether the namespace can be unloaded cleanly ... OK
* checking loading without being on the library search path ... OK
* checking whether startup messages can be suppressed ... OK
* checking dependencies in R code ... OK
* checking S3 generic/method consistency ... OK
* checking replacement functions ... OK
* checking foreign function calls ... OK
* checking R code for possible problems ... OK
* checking Rd files ... OK
* checking Rd metadata ... OK
* checking Rd cross-references ... OK
* checking for missing documentation entries ... OK
* checking for code/documentation mismatches ... OK
* checking Rd \usage sections ... OK
* checking Rd contents ... OK
* checking for unstated dependencies in examples ... OK
* checking contents of ‘data’ directory ... OK
* checking data for non-ASCII characters ... OK
* checking data for ASCII and uncompressed saves ... OK
* checking line endings in C/C++/Fortran sources/headers ... OK
* checking compiled code ... NOTE
Note: information on .o files is not available
* checking files in ‘vignettes’ ... WARNING
Files in the 'vignettes' directory but no files in 'inst/doc':
‘Mulcom.Rmd’
Package has no Sweave vignette sources and no VignetteBuilder field.
* checking examples ... OK
Examples with CPU (user + system) or elapsed time > 5s
user system elapsed
mulInt 8.721 0.016 8.755
mulOpt 7.586 0.004 7.604
* checking package vignettes ... NOTE
Package has ‘vignettes’ subdirectory but apparently no vignettes.
Perhaps the ‘VignetteBuilder’ information is missing from the
DESCRIPTION file?
* checking PDF version of manual ... OK
* DONE
Status: 1 WARNING, 2 NOTEs
See
‘/home/biocbuild/bbs-3.19-bioc/meat/Mulcom.Rcheck/00check.log’
for details.
Mulcom.Rcheck/00install.out
##############################################################################
##############################################################################
###
### Running command:
###
### /home/biocbuild/R/R-beta-2024-04-15_r86425/bin/R CMD INSTALL Mulcom
###
##############################################################################
##############################################################################
* installing to library ‘/home/biocbuild/R/R-beta-2024-04-15_r86425/site-library’
* installing *source* package ‘Mulcom’ ...
** using staged installation
** libs
using C++ compiler: ‘g++ (GCC) 10.3.1’
g++ -std=gnu++17 -I"/home/biocbuild/R/R-beta-2024-04-15_r86425/include" -DNDEBUG -I/usr/local/include -fPIC -g -O2 -Wall -c mulLibs.cc -o mulLibs.o
mulLibs.cc: In function ‘void Single_SimulationC(double*, double*, double*, double*, double*, double*, int*, int*, int*, int*, int*)’:
mulLibs.cc:708:17: warning: statement has no effect [-Wunused-value]
708 | current_cluster ;
| ^~~~~~~~~~~~~~~
mulLibs.cc: In function ‘void Complete_SimulationC(double*, int*, double*, double*, int*, int*, int*, int*, int*)’:
mulLibs.cc:1022:38: warning: comparison of integer expressions of different signedness: ‘int’ and ‘std::vector<double>::size_type’ {aka ‘long unsigned int’} [-Wsign-compare]
1022 | for ( int i = 0 ; i < sss2.size() ; i++ ) {
| ~~^~~~~~~~~~~~~
mulLibs.cc:1023:46: warning: comparison of integer expressions of different signedness: ‘int’ and ‘std::vector<double>::size_type’ {aka ‘long unsigned int’} [-Wsign-compare]
1023 | for ( int j = 0 ; j < harmonic_means.size() ; j++ ) {
| ~~^~~~~~~~~~~~~~~~~~~~~~~
g++ -std=gnu++17 -shared -L/home/biocbuild/R/R-beta-2024-04-15_r86425/lib -L/usr/local/lib -o Mulcom.so mulLibs.o -L/home/biocbuild/R/R-beta-2024-04-15_r86425/lib -lR
installing to /home/biocbuild/R/R-beta-2024-04-15_r86425/site-library/00LOCK-Mulcom/00new/Mulcom/libs
** R
** data
** inst
** byte-compile and prepare package for lazy loading
** help
*** installing help indices
** building package indices
** installing vignettes
** testing if installed package can be loaded from temporary location
** checking absolute paths in shared objects and dynamic libraries
** testing if installed package can be loaded from final location
** testing if installed package keeps a record of temporary installation path
* DONE (Mulcom)
Mulcom.Rcheck/Mulcom-Ex.timings
| name | user | system | elapsed | |
| MULCOM-class | 0.239 | 0.004 | 0.243 | |
| MULCOM_P | 0.211 | 0.008 | 0.219 | |
| mulCAND | 0.738 | 0.004 | 0.744 | |
| mulCalc | 0.227 | 0.000 | 0.227 | |
| mulDELTA | 0.186 | 0.004 | 0.191 | |
| mulDiff | 0.751 | 0.008 | 0.761 | |
| mulFSG | 0.833 | 0.008 | 0.842 | |
| mulIndex | 0.18 | 0.00 | 0.18 | |
| mulInt | 8.721 | 0.016 | 8.755 | |
| mulOpt | 7.586 | 0.004 | 7.604 | |
| mulOptPars | 0.635 | 0.004 | 0.640 | |
| mulOptPlot | 1.759 | 0.008 | 1.771 | |
| mulParOpt | 1.672 | 0.004 | 1.680 | |
| mulPerm | 0.625 | 0.004 | 0.630 | |
| mulPermC | 0.164 | 0.008 | 0.173 | |
| mulScores | 0.221 | 0.000 | 0.222 | |