| Back to Multiple platform build/check report for BioC 3.19: simplified long |
|
This page was generated on 2024-10-18 20:41 -0400 (Fri, 18 Oct 2024).
| Hostname | OS | Arch (*) | R version | Installed pkgs |
|---|---|---|---|---|
| nebbiolo1 | Linux (Ubuntu 22.04.3 LTS) | x86_64 | 4.4.1 (2024-06-14) -- "Race for Your Life" | 4763 |
| palomino7 | Windows Server 2022 Datacenter | x64 | 4.4.1 (2024-06-14 ucrt) -- "Race for Your Life" | 4500 |
| merida1 | macOS 12.7.5 Monterey | x86_64 | 4.4.1 (2024-06-14) -- "Race for Your Life" | 4530 |
| kjohnson1 | macOS 13.6.6 Ventura | arm64 | 4.4.1 (2024-06-14) -- "Race for Your Life" | 4480 |
| Click on any hostname to see more info about the system (e.g. compilers) (*) as reported by 'uname -p', except on Windows and Mac OS X | ||||
| Package 1333/2300 | Hostname | OS / Arch | INSTALL | BUILD | CHECK | BUILD BIN | ||||||||
| MouseFM 1.14.6 (landing page) Matthias Munz
| nebbiolo1 | Linux (Ubuntu 22.04.3 LTS) / x86_64 | OK | OK | OK | |||||||||
| palomino7 | Windows Server 2022 Datacenter / x64 | OK | OK | OK | OK | |||||||||
| merida1 | macOS 12.7.5 Monterey / x86_64 | OK | OK | OK | OK | |||||||||
| kjohnson1 | macOS 13.6.6 Ventura / arm64 | OK | OK | OK | OK | |||||||||
|
To the developers/maintainers of the MouseFM package: - Allow up to 24 hours (and sometimes 48 hours) for your latest push to git@git.bioconductor.org:packages/MouseFM.git to reflect on this report. See Troubleshooting Build Report for more information. - Use the following Renviron settings to reproduce errors and warnings. - If 'R CMD check' started to fail recently on the Linux builder(s) over a missing dependency, add the missing dependency to 'Suggests:' in your DESCRIPTION file. See Renviron.bioc for more information. |
| Package: MouseFM |
| Version: 1.14.6 |
| Command: /Library/Frameworks/R.framework/Resources/bin/R CMD check --install=check:MouseFM.install-out.txt --library=/Library/Frameworks/R.framework/Resources/library --no-vignettes --timings MouseFM_1.14.6.tar.gz |
| StartedAt: 2024-10-17 09:23:37 -0400 (Thu, 17 Oct 2024) |
| EndedAt: 2024-10-17 09:36:25 -0400 (Thu, 17 Oct 2024) |
| EllapsedTime: 768.3 seconds |
| RetCode: 0 |
| Status: OK |
| CheckDir: MouseFM.Rcheck |
| Warnings: 0 |
##############################################################################
##############################################################################
###
### Running command:
###
### /Library/Frameworks/R.framework/Resources/bin/R CMD check --install=check:MouseFM.install-out.txt --library=/Library/Frameworks/R.framework/Resources/library --no-vignettes --timings MouseFM_1.14.6.tar.gz
###
##############################################################################
##############################################################################
* using log directory ‘/Users/biocbuild/bbs-3.19-bioc/meat/MouseFM.Rcheck’
* using R version 4.4.1 (2024-06-14)
* using platform: x86_64-apple-darwin20
* R was compiled by
Apple clang version 14.0.0 (clang-1400.0.29.202)
GNU Fortran (GCC) 12.2.0
* running under: macOS Monterey 12.7.6
* using session charset: UTF-8
* using option ‘--no-vignettes’
* checking for file ‘MouseFM/DESCRIPTION’ ... OK
* checking extension type ... Package
* this is package ‘MouseFM’ version ‘1.14.6’
* package encoding: UTF-8
* checking package namespace information ... OK
* checking package dependencies ... OK
* checking if this is a source package ... OK
* checking if there is a namespace ... OK
* checking for hidden files and directories ... OK
* checking for portable file names ... OK
* checking for sufficient/correct file permissions ... OK
* checking whether package ‘MouseFM’ can be installed ... OK
* checking installed package size ... OK
* checking package directory ... OK
* checking ‘build’ directory ... OK
* checking DESCRIPTION meta-information ... OK
* checking top-level files ... OK
* checking for left-over files ... OK
* checking index information ... OK
* checking package subdirectories ... OK
* checking code files for non-ASCII characters ... OK
* checking R files for syntax errors ... OK
* checking whether the package can be loaded ... OK
* checking whether the package can be loaded with stated dependencies ... OK
* checking whether the package can be unloaded cleanly ... OK
* checking whether the namespace can be loaded with stated dependencies ... OK
* checking whether the namespace can be unloaded cleanly ... OK
* checking whether startup messages can be suppressed ... OK
* checking dependencies in R code ... OK
* checking S3 generic/method consistency ... OK
* checking replacement functions ... OK
* checking foreign function calls ... OK
* checking R code for possible problems ... NOTE
File ‘MouseFM/R/zzz.R’:
.onLoad calls:
packageStartupMessage("\n ---------\n For example usage please run: vignette('MouseFM')\n \n Support me: http://matthiasmunz.de/support_me\n\n Citation appreciated:\n Munz M, Khodaygani M, Aherrahrou Z, Busch H, Wohlers I (2021) In silico candidate variant and gene identification using inbred mouse strains. PeerJ. doi:10.7717/peerj.11017\n \n Github Repo: https://github.com/matmu/MouseFM\n MouseFM Backend: https://github.com/matmu/MouseFM-Backend\n ---------", domain = NULL, appendLF = TRUE)
See section ‘Good practice’ in '?.onAttach'.
* checking Rd files ... OK
* checking Rd metadata ... OK
* checking Rd cross-references ... OK
* checking for missing documentation entries ... OK
* checking for code/documentation mismatches ... OK
* checking Rd \usage sections ... OK
* checking Rd contents ... OK
* checking for unstated dependencies in examples ... OK
* checking files in ‘vignettes’ ... OK
* checking examples ... OK
Examples with CPU (user + system) or elapsed time > 5s
user system elapsed
vis_reduction_factors 72.680 1.126 106.599
get_top 24.375 0.439 33.845
prio 24.081 0.320 35.130
fetch 3.677 0.162 7.321
annotate_mouse_genes 3.348 0.128 7.004
annotate_consequences 0.652 0.015 7.518
GRanges2df 0.374 0.014 7.221
* checking for unstated dependencies in ‘tests’ ... OK
* checking tests ...
Running ‘testthat.R’
OK
* checking for unstated dependencies in vignettes ... OK
* checking package vignettes ... OK
* checking running R code from vignettes ... SKIPPED
* checking re-building of vignette outputs ... SKIPPED
* checking PDF version of manual ... OK
* DONE
Status: 1 NOTE
See
‘/Users/biocbuild/bbs-3.19-bioc/meat/MouseFM.Rcheck/00check.log’
for details.
MouseFM.Rcheck/00install.out
############################################################################## ############################################################################## ### ### Running command: ### ### /Library/Frameworks/R.framework/Resources/bin/R CMD INSTALL MouseFM ### ############################################################################## ############################################################################## * installing to library ‘/Library/Frameworks/R.framework/Versions/4.4-x86_64/Resources/library’ * installing *source* package ‘MouseFM’ ... ** using staged installation ** R ** inst ** byte-compile and prepare package for lazy loading ** help *** installing help indices ** building package indices ** installing vignettes ** testing if installed package can be loaded from temporary location ** testing if installed package can be loaded from final location ** testing if installed package keeps a record of temporary installation path * DONE (MouseFM)
MouseFM.Rcheck/tests/testthat.Rout
R version 4.4.1 (2024-06-14) -- "Race for Your Life"
Copyright (C) 2024 The R Foundation for Statistical Computing
Platform: x86_64-apple-darwin20
R is free software and comes with ABSOLUTELY NO WARRANTY.
You are welcome to redistribute it under certain conditions.
Type 'license()' or 'licence()' for distribution details.
R is a collaborative project with many contributors.
Type 'contributors()' for more information and
'citation()' on how to cite R or R packages in publications.
Type 'demo()' for some demos, 'help()' for on-line help, or
'help.start()' for an HTML browser interface to help.
Type 'q()' to quit R.
> library(testthat)
> library(MouseFM)
---------
For example usage please run: vignette('MouseFM')
Support me: http://matthiasmunz.de/support_me
Citation appreciated:
Munz M, Khodaygani M, Aherrahrou Z, Busch H, Wohlers I (2021) In silico candidate variant and gene identification using inbred mouse strains. PeerJ. doi:10.7717/peerj.11017
Github Repo: https://github.com/matmu/MouseFM
MouseFM Backend: https://github.com/matmu/MouseFM-Backend
---------
>
> test_check("MouseFM")
[ FAIL 0 | WARN 0 | SKIP 0 | PASS 9 ]
>
> proc.time()
user system elapsed
141.367 2.692 217.735
MouseFM.Rcheck/MouseFM-Ex.timings
| name | user | system | elapsed | |
| GRanges2df | 0.374 | 0.014 | 7.221 | |
| annotate_consequences | 0.652 | 0.015 | 7.518 | |
| annotate_mouse_genes | 3.348 | 0.128 | 7.004 | |
| avail_chromosomes | 0.006 | 0.001 | 0.012 | |
| avail_consequences | 0.004 | 0.001 | 0.007 | |
| avail_strains | 0.003 | 0.002 | 0.008 | |
| df2GRanges | 0.154 | 0.009 | 0.731 | |
| fetch | 3.677 | 0.162 | 7.321 | |
| finemap | 0.108 | 0.005 | 0.648 | |
| getURL | 0.001 | 0.001 | 0.000 | |
| get_top | 24.375 | 0.439 | 33.845 | |
| prio | 24.081 | 0.320 | 35.130 | |
| ref_genome | 0.000 | 0.000 | 0.001 | |
| setURL | 0.000 | 0.001 | 0.001 | |
| vis_reduction_factors | 72.680 | 1.126 | 106.599 | |