| Back to Multiple platform build/check report for BioC 3.19: simplified long | 
 | 
This page was generated on 2024-06-11 14:44 -0400 (Tue, 11 Jun 2024).
| Hostname | OS | Arch (*) | R version | Installed pkgs | 
|---|---|---|---|---|
| nebbiolo1 | Linux (Ubuntu 22.04.3 LTS) | x86_64 | 4.4.0 (2024-04-24) -- "Puppy Cup" | 4757 | 
| palomino3 | Windows Server 2022 Datacenter | x64 | 4.4.0 (2024-04-24 ucrt) -- "Puppy Cup" | 4491 | 
| lconway | macOS 12.7.1 Monterey | x86_64 | 4.4.0 (2024-04-24) -- "Puppy Cup" | 4522 | 
| kjohnson3 | macOS 13.6.5 Ventura | arm64 | 4.4.0 (2024-04-24) -- "Puppy Cup" | 4468 | 
| Click on any hostname to see more info about the system (e.g. compilers) (*) as reported by 'uname -p', except on Windows and Mac OS X | ||||
| Package 1309/2300 | Hostname | OS / Arch | INSTALL | BUILD | CHECK | BUILD BIN | ||||||||
| Liesa Salzer 
 | nebbiolo1 | Linux (Ubuntu 22.04.3 LTS) / x86_64 | OK | OK | ERROR | |||||||||
| palomino3 | Windows Server 2022 Datacenter / x64 | OK | OK | ERROR | OK | |||||||||
| lconway | macOS 12.7.1 Monterey / x86_64 | OK | OK | ERROR | OK | |||||||||
| kjohnson3 | macOS 13.6.5 Ventura / arm64 | OK | OK | ERROR | OK | |||||||||
| To the developers/maintainers of the MobilityTransformR package: - Allow up to 24 hours (and sometimes 48 hours) for your latest push to git@git.bioconductor.org:packages/MobilityTransformR.git to reflect on this report. See Troubleshooting Build Report for more information. - Use the following Renviron settings to reproduce errors and warnings. - If 'R CMD check' started to fail recently on the Linux builder(s) over a missing dependency, add the missing dependency to 'Suggests:' in your DESCRIPTION file. See Renviron.bioc for more information. | 
| Package: MobilityTransformR | 
| Version: 1.8.0 | 
| Command: /Library/Frameworks/R.framework/Resources/bin/R CMD check --install=check:MobilityTransformR.install-out.txt --library=/Library/Frameworks/R.framework/Resources/library --no-vignettes --timings MobilityTransformR_1.8.0.tar.gz | 
| StartedAt: 2024-06-10 22:33:14 -0400 (Mon, 10 Jun 2024) | 
| EndedAt: 2024-06-10 22:45:09 -0400 (Mon, 10 Jun 2024) | 
| EllapsedTime: 715.7 seconds | 
| RetCode: 1 | 
| Status: ERROR | 
| CheckDir: MobilityTransformR.Rcheck | 
| Warnings: NA | 
##############################################################################
##############################################################################
###
### Running command:
###
###   /Library/Frameworks/R.framework/Resources/bin/R CMD check --install=check:MobilityTransformR.install-out.txt --library=/Library/Frameworks/R.framework/Resources/library --no-vignettes --timings MobilityTransformR_1.8.0.tar.gz
###
##############################################################################
##############################################################################
* using log directory ‘/Users/biocbuild/bbs-3.19-bioc/meat/MobilityTransformR.Rcheck’
* using R version 4.4.0 (2024-04-24)
* using platform: aarch64-apple-darwin20
* R was compiled by
    Apple clang version 14.0.0 (clang-1400.0.29.202)
    GNU Fortran (GCC) 12.2.0
* running under: macOS Ventura 13.6.5
* using session charset: UTF-8
* using option ‘--no-vignettes’
* checking for file ‘MobilityTransformR/DESCRIPTION’ ... OK
* this is package ‘MobilityTransformR’ version ‘1.8.0’
* package encoding: UTF-8
* checking package namespace information ... OK
* checking package dependencies ... OK
* checking if this is a source package ... OK
* checking if there is a namespace ... OK
* checking for hidden files and directories ... OK
* checking for portable file names ... OK
* checking for sufficient/correct file permissions ... OK
* checking whether package ‘MobilityTransformR’ can be installed ... OK
* checking installed package size ... OK
* checking package directory ... OK
* checking ‘build’ directory ... OK
* checking DESCRIPTION meta-information ... OK
* checking top-level files ... OK
* checking for left-over files ... OK
* checking index information ... OK
* checking package subdirectories ... OK
* checking code files for non-ASCII characters ... OK
* checking R files for syntax errors ... OK
* checking whether the package can be loaded ... OK
* checking whether the package can be loaded with stated dependencies ... OK
* checking whether the package can be unloaded cleanly ... OK
* checking whether the namespace can be loaded with stated dependencies ... OK
* checking whether the namespace can be unloaded cleanly ... OK
* checking whether startup messages can be suppressed ... OK
* checking dependencies in R code ... OK
* checking S3 generic/method consistency ... OK
* checking replacement functions ... OK
* checking foreign function calls ... OK
* checking R code for possible problems ... OK
* checking Rd files ... OK
* checking Rd metadata ... OK
* checking Rd cross-references ... OK
* checking for missing documentation entries ... OK
* checking for code/documentation mismatches ... OK
* checking Rd \usage sections ... OK
* checking Rd contents ... OK
* checking for unstated dependencies in examples ... OK
* checking files in ‘vignettes’ ... OK
* checking examples ... OK
Examples with CPU (user + system) or elapsed time > 5s
                      user system elapsed
dot-transformSpectra 6.427  0.224   9.328
getMtime             3.552  0.874   6.142
* checking for unstated dependencies in ‘tests’ ... OK
* checking tests ...
  Running ‘testthat.R’
 ERROR
Running the tests in ‘tests/testthat.R’ failed.
Last 13 lines of output:
   10. │   └─rlang::eval_bare(quo_get_expr(.quo), quo_get_env(.quo))
   11. └─MobilityTransformR::getMtime(...)
   12.   ├─base::as.data.frame(...)
   13.   ├─xcms::chromPeaks(...)
   14.   └─xcms::chromPeaks(...)
   15.     └─xcms (local) .local(object, ...)
   16.       └─xcms:::.index_chrom_peaks(...)
  
  [ FAIL 2 | WARN 0 | SKIP 0 | PASS 66 ]
  Error: Test failures
  In addition: Warning message:
  In fun(libname, pkgname) :
    Package 'MobilityTransformR' is deprecated and will be removed from
    Bioconductor version 3.20
  Execution halted
* checking for unstated dependencies in vignettes ... OK
* checking package vignettes ... OK
* checking running R code from vignettes ... SKIPPED
* checking re-building of vignette outputs ... SKIPPED
* checking PDF version of manual ... OK
* DONE
Status: 1 ERROR
See
  ‘/Users/biocbuild/bbs-3.19-bioc/meat/MobilityTransformR.Rcheck/00check.log’
for details.
MobilityTransformR.Rcheck/00install.out
############################################################################## ############################################################################## ### ### Running command: ### ### /Library/Frameworks/R.framework/Resources/bin/R CMD INSTALL MobilityTransformR ### ############################################################################## ############################################################################## * installing to library ‘/Library/Frameworks/R.framework/Versions/4.4-arm64/Resources/library’ * installing *source* package ‘MobilityTransformR’ ... ** using staged installation ** R ** byte-compile and prepare package for lazy loading ** help *** installing help indices ** building package indices ** installing vignettes ** testing if installed package can be loaded from temporary location Warning in fun(libname, pkgname) : Package 'MobilityTransformR' is deprecated and will be removed from Bioconductor version 3.20 ** testing if installed package can be loaded from final location Warning in fun(libname, pkgname) : Package 'MobilityTransformR' is deprecated and will be removed from Bioconductor version 3.20 ** testing if installed package keeps a record of temporary installation path * DONE (MobilityTransformR)
MobilityTransformR.Rcheck/tests/testthat.Rout.fail
R version 4.4.0 (2024-04-24) -- "Puppy Cup"
Copyright (C) 2024 The R Foundation for Statistical Computing
Platform: aarch64-apple-darwin20
R is free software and comes with ABSOLUTELY NO WARRANTY.
You are welcome to redistribute it under certain conditions.
Type 'license()' or 'licence()' for distribution details.
R is a collaborative project with many contributors.
Type 'contributors()' for more information and
'citation()' on how to cite R or R packages in publications.
Type 'demo()' for some demos, 'help()' for on-line help, or
'help.start()' for an HTML browser interface to help.
Type 'q()' to quit R.
> library("testthat")
> 
> test_check("MobilityTransformR")
Loading required package: MobilityTransformR
Loading required package: MSnbase
Loading required package: BiocGenerics
Attaching package: 'BiocGenerics'
The following objects are masked from 'package:stats':
    IQR, mad, sd, var, xtabs
The following objects are masked from 'package:base':
    Filter, Find, Map, Position, Reduce, anyDuplicated, aperm, append,
    as.data.frame, basename, cbind, colnames, dirname, do.call,
    duplicated, eval, evalq, get, grep, grepl, intersect, is.unsorted,
    lapply, mapply, match, mget, order, paste, pmax, pmax.int, pmin,
    pmin.int, rank, rbind, rownames, sapply, setdiff, table, tapply,
    union, unique, unsplit, which.max, which.min
Loading required package: Biobase
Welcome to Bioconductor
    Vignettes contain introductory material; view with
    'browseVignettes()'. To cite Bioconductor, see
    'citation("Biobase")', and for packages 'citation("pkgname")'.
Loading required package: mzR
Loading required package: Rcpp
Loading required package: S4Vectors
Loading required package: stats4
Attaching package: 'S4Vectors'
The following object is masked from 'package:utils':
    findMatches
The following objects are masked from 'package:base':
    I, expand.grid, unname
Loading required package: ProtGenerics
Attaching package: 'ProtGenerics'
The following object is masked from 'package:stats':
    smooth
This is MSnbase version 2.30.1 
  Visit https://lgatto.github.io/MSnbase/ to get started.
 Consider switching to the 'R for Mass Spectrometry'
 packages - see https://RforMassSpectrometry.org for details.
Attaching package: 'MSnbase'
The following object is masked from 'package:base':
    trimws
[ FAIL 2 | WARN 0 | SKIP 0 | PASS 66 ]
══ Failed tests ════════════════════════════════════════════════════════════════
── Failure ('test_getMt.R:46:5'): Getting migration time works ─────────────────
`getMtime(raw_data, mz = c(150.001, 150.002), mt = mt_paracetamol)` threw an error with unexpected message.
Expected match: "0 peaks have been found in file 1, align input parameters"
Actual message: "invalid 'times' argument"
Backtrace:
     ▆
  1. ├─testthat::expect_warning(...) at test_getMt.R:46:5
  2. │ └─testthat:::quasi_capture(...)
  3. │   ├─testthat (local) .capture(...)
  4. │   │ └─base::withCallingHandlers(...)
  5. │   └─rlang::eval_bare(quo_get_expr(.quo), quo_get_env(.quo))
  6. ├─testthat::expect_error(...)
  7. │ └─testthat:::quasi_capture(...)
  8. │   ├─testthat (local) .capture(...)
  9. │   │ └─base::withCallingHandlers(...)
 10. │   └─rlang::eval_bare(quo_get_expr(.quo), quo_get_env(.quo))
 11. └─MobilityTransformR::getMtime(...)
 12.   ├─base::as.data.frame(...)
 13.   ├─xcms::chromPeaks(...)
 14.   └─xcms::chromPeaks(...)
 15.     └─xcms (local) .local(object, ...)
 16.       └─xcms:::.index_chrom_peaks(...)
── Failure ('test_getMt.R:89:5'): Getting migration time with CentWaveParam works ──
`getMtime(raw_data, mz = c(150.001, 150.002), mt = mt_paracetamol)` threw an error with unexpected message.
Expected match: "0 peaks have been found in file 1, align input parameters"
Actual message: "invalid 'times' argument"
Backtrace:
     ▆
  1. ├─testthat::expect_warning(...) at test_getMt.R:89:5
  2. │ └─testthat:::quasi_capture(...)
  3. │   ├─testthat (local) .capture(...)
  4. │   │ └─base::withCallingHandlers(...)
  5. │   └─rlang::eval_bare(quo_get_expr(.quo), quo_get_env(.quo))
  6. ├─testthat::expect_error(...)
  7. │ └─testthat:::quasi_capture(...)
  8. │   ├─testthat (local) .capture(...)
  9. │   │ └─base::withCallingHandlers(...)
 10. │   └─rlang::eval_bare(quo_get_expr(.quo), quo_get_env(.quo))
 11. └─MobilityTransformR::getMtime(...)
 12.   ├─base::as.data.frame(...)
 13.   ├─xcms::chromPeaks(...)
 14.   └─xcms::chromPeaks(...)
 15.     └─xcms (local) .local(object, ...)
 16.       └─xcms:::.index_chrom_peaks(...)
[ FAIL 2 | WARN 0 | SKIP 0 | PASS 66 ]
Error: Test failures
In addition: Warning message:
In fun(libname, pkgname) :
  Package 'MobilityTransformR' is deprecated and will be removed from
  Bioconductor version 3.20
Execution halted
MobilityTransformR.Rcheck/MobilityTransformR-Ex.timings
| name | user | system | elapsed | |
| MobilityTransformR | 0.002 | 0.001 | 0.005 | |
| dot-transformNumeric | 0.001 | 0.000 | 0.001 | |
| dot-transformOnDiskMSnExp | 1.771 | 0.027 | 2.515 | |
| dot-transformSpectra | 6.427 | 0.224 | 9.328 | |
| getMtime | 3.552 | 0.874 | 6.142 | |
| mobilityTransform | 0.001 | 0.000 | 0.002 | |