| Back to Multiple platform build/check report for BioC 3.19: simplified long | 
 | 
This page was generated on 2024-10-18 20:39 -0400 (Fri, 18 Oct 2024).
| Hostname | OS | Arch (*) | R version | Installed pkgs | 
|---|---|---|---|---|
| nebbiolo1 | Linux (Ubuntu 22.04.3 LTS) | x86_64 | 4.4.1 (2024-06-14) -- "Race for Your Life" | 4763 | 
| palomino7 | Windows Server 2022 Datacenter | x64 | 4.4.1 (2024-06-14 ucrt) -- "Race for Your Life" | 4500 | 
| merida1 | macOS 12.7.5 Monterey | x86_64 | 4.4.1 (2024-06-14) -- "Race for Your Life" | 4530 | 
| kjohnson1 | macOS 13.6.6 Ventura | arm64 | 4.4.1 (2024-06-14) -- "Race for Your Life" | 4480 | 
| Click on any hostname to see more info about the system (e.g. compilers) (*) as reported by 'uname -p', except on Windows and Mac OS X | ||||
| Package 1266/2300 | Hostname | OS / Arch | INSTALL | BUILD | CHECK | BUILD BIN | ||||||||
| MicrobiotaProcess 1.16.1  (landing page) Shuangbin Xu 
 | nebbiolo1 | Linux (Ubuntu 22.04.3 LTS) / x86_64 | OK | OK | OK |  | ||||||||
| palomino7 | Windows Server 2022 Datacenter / x64 | OK | OK | OK | OK |  | ||||||||
| merida1 | macOS 12.7.5 Monterey / x86_64 | OK | OK | OK | OK |  | ||||||||
| kjohnson1 | macOS 13.6.6 Ventura / arm64 | OK | OK | OK | OK |  | ||||||||
| To the developers/maintainers of the MicrobiotaProcess package: - Allow up to 24 hours (and sometimes 48 hours) for your latest push to git@git.bioconductor.org:packages/MicrobiotaProcess.git to reflect on this report. See Troubleshooting Build Report for more information. - Use the following Renviron settings to reproduce errors and warnings. - If 'R CMD check' started to fail recently on the Linux builder(s) over a missing dependency, add the missing dependency to 'Suggests:' in your DESCRIPTION file. See Renviron.bioc for more information. | 
| Package: MicrobiotaProcess | 
| Version: 1.16.1 | 
| Command: E:\biocbuild\bbs-3.19-bioc\R\bin\R.exe CMD check --no-multiarch --install=check:MicrobiotaProcess.install-out.txt --library=E:\biocbuild\bbs-3.19-bioc\R\library --no-vignettes --timings MicrobiotaProcess_1.16.1.tar.gz | 
| StartedAt: 2024-10-17 03:20:21 -0400 (Thu, 17 Oct 2024) | 
| EndedAt: 2024-10-17 03:27:49 -0400 (Thu, 17 Oct 2024) | 
| EllapsedTime: 447.6 seconds | 
| RetCode: 0 | 
| Status: OK | 
| CheckDir: MicrobiotaProcess.Rcheck | 
| Warnings: 0 | 
##############################################################################
##############################################################################
###
### Running command:
###
###   E:\biocbuild\bbs-3.19-bioc\R\bin\R.exe CMD check --no-multiarch --install=check:MicrobiotaProcess.install-out.txt --library=E:\biocbuild\bbs-3.19-bioc\R\library --no-vignettes --timings MicrobiotaProcess_1.16.1.tar.gz
###
##############################################################################
##############################################################################
* using log directory 'E:/biocbuild/bbs-3.19-bioc/meat/MicrobiotaProcess.Rcheck'
* using R version 4.4.1 (2024-06-14 ucrt)
* using platform: x86_64-w64-mingw32
* R was compiled by
    gcc.exe (GCC) 13.2.0
    GNU Fortran (GCC) 13.2.0
* running under: Windows Server 2022 x64 (build 20348)
* using session charset: UTF-8
* using option '--no-vignettes'
* checking for file 'MicrobiotaProcess/DESCRIPTION' ... OK
* checking extension type ... Package
* this is package 'MicrobiotaProcess' version '1.16.1'
* package encoding: UTF-8
* checking package namespace information ... OK
* checking package dependencies ... OK
* checking if this is a source package ... OK
* checking if there is a namespace ... OK
* checking for hidden files and directories ... OK
* checking for portable file names ... OK
* checking whether package 'MicrobiotaProcess' can be installed ... OK
* checking installed package size ... NOTE
  installed size is  5.8Mb
  sub-directories of 1Mb or more:
    R         2.6Mb
    figures   1.9Mb
* checking package directory ... OK
* checking 'build' directory ... OK
* checking DESCRIPTION meta-information ... OK
* checking top-level files ... OK
* checking for left-over files ... OK
* checking index information ... OK
* checking package subdirectories ... OK
* checking code files for non-ASCII characters ... OK
* checking R files for syntax errors ... OK
* checking whether the package can be loaded ... OK
* checking whether the package can be loaded with stated dependencies ... OK
* checking whether the package can be unloaded cleanly ... OK
* checking whether the namespace can be loaded with stated dependencies ... OK
* checking whether the namespace can be unloaded cleanly ... OK
* checking whether startup messages can be suppressed ... OK
* checking dependencies in R code ... OK
* checking S3 generic/method consistency ... OK
* checking replacement functions ... OK
* checking foreign function calls ... OK
* checking R code for possible problems ... OK
* checking Rd files ... OK
* checking Rd metadata ... OK
* checking Rd cross-references ... OK
* checking for missing documentation entries ... OK
* checking for code/documentation mismatches ... OK
* checking Rd \usage sections ... OK
* checking Rd contents ... OK
* checking for unstated dependencies in examples ... OK
* checking contents of 'data' directory ... OK
* checking data for non-ASCII characters ... OK
* checking data for ASCII and uncompressed saves ... OK
* checking files in 'vignettes' ... OK
* checking examples ... OK
Examples with CPU (user + system) or elapsed time > 5s
                              user system elapsed
mp_cal_abundance-methods     13.36   0.13   13.78
mp_cal_rarecurve-methods      8.41   0.22    8.63
mp_plot_diff_boxplot-methods  6.97   0.10    7.06
mp_diff_analysis-methods      5.44   0.09    5.54
ImportQiime2                  5.11   0.09    5.39
* checking for unstated dependencies in 'tests' ... OK
* checking tests ...
  Running 'testthat.R'
 OK
* checking for unstated dependencies in vignettes ... OK
* checking package vignettes ... OK
* checking running R code from vignettes ... SKIPPED
* checking re-building of vignette outputs ... SKIPPED
* checking PDF version of manual ... OK
* DONE
Status: 1 NOTE
See
  'E:/biocbuild/bbs-3.19-bioc/meat/MicrobiotaProcess.Rcheck/00check.log'
for details.
MicrobiotaProcess.Rcheck/00install.out
############################################################################## ############################################################################## ### ### Running command: ### ### E:\biocbuild\bbs-3.19-bioc\R\bin\R.exe CMD INSTALL MicrobiotaProcess ### ############################################################################## ############################################################################## * installing to library 'E:/biocbuild/bbs-3.19-bioc/R/library' * installing *source* package 'MicrobiotaProcess' ... ** using staged installation ** R ** data ** inst ** byte-compile and prepare package for lazy loading in method for 'taxonomy<-' with signature 'x="MPSE",value="taxonomyTable"': no definition for class "taxonomyTable" Creating a generic function for 'rownames<-' from package 'base' in package 'MicrobiotaProcess' in method for 'get_alltaxadf' with signature '"phyloseq"': no definition for class "phyloseq" in method for 'get_taxadf' with signature '"phyloseq"': no definition for class "phyloseq" in method for 'get_alphaindex' with signature '"phyloseq"': no definition for class "phyloseq" in method for 'get_NRI_NTI' with signature '"phyloseq"': no definition for class "phyloseq" in method for 'get_rarecurve' with signature '"phyloseq"': no definition for class "phyloseq" in method for 'get_upset' with signature '"phyloseq"': no definition for class "phyloseq" in method for 'get_vennlist' with signature '"phyloseq"': no definition for class "phyloseq" in method for 'drop_taxa' with signature '"phyloseq"': no definition for class "phyloseq" ** help *** installing help indices ** building package indices ** installing vignettes ** testing if installed package can be loaded from temporary location ** testing if installed package can be loaded from final location ** testing if installed package keeps a record of temporary installation path * DONE (MicrobiotaProcess)
MicrobiotaProcess.Rcheck/tests/testthat.Rout
R version 4.4.1 (2024-06-14 ucrt) -- "Race for Your Life"
Copyright (C) 2024 The R Foundation for Statistical Computing
Platform: x86_64-w64-mingw32/x64
R is free software and comes with ABSOLUTELY NO WARRANTY.
You are welcome to redistribute it under certain conditions.
Type 'license()' or 'licence()' for distribution details.
R is a collaborative project with many contributors.
Type 'contributors()' for more information and
'citation()' on how to cite R or R packages in publications.
Type 'demo()' for some demos, 'help()' for on-line help, or
'help.start()' for an HTML browser interface to help.
Type 'q()' to quit R.
> library("testthat")
> library("MicrobiotaProcess")
MicrobiotaProcess v1.16.1 For help:
https://github.com/YuLab-SMU/MicrobiotaProcess/issues
If you use MicrobiotaProcess in published research, please cite the
paper:
Shuangbin Xu, Li Zhan, Wenli Tang, Qianwen Wang, Zehan Dai, Lang Zhou,
Tingze Feng, Meijun Chen, Tianzhi Wu, Erqiang Hu, Guangchuang Yu.
MicrobiotaProcess: A comprehensive R package for deep mining
microbiome. The Innovation. 2023, 4(2):100388. doi:
10.1016/j.xinn.2023.100388
Export the citation to BibTex by citation('MicrobiotaProcess')
This message can be suppressed by:
suppressPackageStartupMessages(library(MicrobiotaProcess))
Attaching package: 'MicrobiotaProcess'
The following object is masked from 'package:stats':
    filter
> test_check("MicrobiotaProcess")
[ FAIL 0 | WARN 9 | SKIP 0 | PASS 13 ]
[ FAIL 0 | WARN 9 | SKIP 0 | PASS 13 ]
> 
> proc.time()
   user  system elapsed 
  17.45    0.92   18.40 
MicrobiotaProcess.Rcheck/MicrobiotaProcess-Ex.timings
| name | user | system | elapsed | |
| ImportDada2 | 1.51 | 0.10 | 1.66 | |
| ImportQiime2 | 5.11 | 0.09 | 5.39 | |
| MPSE | 0.09 | 0.00 | 0.09 | |
| as.treedata | 0 | 0 | 0 | |
| build_tree | 0 | 0 | 0 | |
| convert_to_treedata | 0 | 0 | 0 | |
| data-hmp_aerobiosis_small | 0.02 | 0.00 | 0.02 | |
| data-kostic2012crc | 0.03 | 0.02 | 0.05 | |
| data-test_otu_data | 0 | 0 | 0 | |
| diff_analysis | 0 | 0 | 0 | |
| dr_extract | 0 | 0 | 0 | |
| drop_taxa | 0 | 0 | 0 | |
| generalizedFC | 0.01 | 0.00 | 0.01 | |
| get_alltaxadf | 0 | 0 | 0 | |
| get_alphaindex | 0 | 0 | 0 | |
| get_clust | 0 | 0 | 0 | |
| get_coord | 0 | 0 | 0 | |
| get_count | 0 | 0 | 0 | |
| get_dist | 0 | 0 | 0 | |
| get_mean_median | 0 | 0 | 0 | |
| get_pca | 0 | 0 | 0 | |
| get_pcoa | 0 | 0 | 0 | |
| get_pvalue | 0.10 | 0.01 | 0.14 | |
| get_rarecurve | 0 | 0 | 0 | |
| get_sampledflist | 0 | 0 | 0 | |
| get_taxadf | 0 | 0 | 0 | |
| get_upset | 0 | 0 | 0 | |
| get_varct | 0.00 | 0.00 | 0.02 | |
| get_vennlist | 0 | 0 | 0 | |
| ggbartax | 0 | 0 | 0 | |
| ggbox | 0 | 0 | 0 | |
| ggclust | 0 | 0 | 0 | |
| ggdiffbox | 0 | 0 | 0 | |
| ggdiffclade | 0 | 0 | 0 | |
| ggdifftaxbar | 0 | 0 | 0 | |
| ggeffectsize | 0 | 0 | 0 | |
| ggordpoint | 0 | 0 | 0 | |
| ggrarecurve | 0 | 0 | 0 | |
| mp_adonis-methods | 0.12 | 0.00 | 0.13 | |
| mp_aggregate-methods | 0 | 0 | 0 | |
| mp_aggregate_clade-methods | 0 | 0 | 0 | |
| mp_anosim-methods | 1.86 | 0.08 | 1.94 | |
| mp_balance_clade-methods | 0 | 0 | 0 | |
| mp_cal_abundance-methods | 13.36 | 0.13 | 13.78 | |
| mp_cal_alpha-methods | 1.66 | 0.07 | 1.77 | |
| mp_cal_cca-methods | 1.26 | 0.05 | 1.45 | |
| mp_cal_clust-methods | 0.55 | 0.02 | 0.56 | |
| mp_cal_dist-methods | 2.94 | 0.09 | 3.03 | |
| mp_cal_divergence-methods | 0 | 0 | 0 | |
| mp_cal_nmds-methods | 1.32 | 0.03 | 1.36 | |
| mp_cal_pca-methods | 1.99 | 0.06 | 2.05 | |
| mp_cal_pcoa-methods | 0.62 | 0.02 | 0.64 | |
| mp_cal_pd_metric-methods | 0 | 0 | 0 | |
| mp_cal_rarecurve-methods | 8.41 | 0.22 | 8.63 | |
| mp_cal_rda-methods | 0.97 | 0.00 | 0.98 | |
| mp_cal_upset-methods | 1.61 | 0.04 | 1.74 | |
| mp_cal_venn-methods | 0.69 | 0.02 | 0.81 | |
| mp_decostand-methods | 0.67 | 0.00 | 0.67 | |
| mp_diff_analysis-methods | 5.44 | 0.09 | 5.54 | |
| mp_diff_clade-methods | 0 | 0 | 0 | |
| mp_dmn-methods | 0 | 0 | 0 | |
| mp_dmngroup-methods | 0 | 0 | 0 | |
| mp_envfit-methods | 3.31 | 0.11 | 3.42 | |
| mp_filter_taxa-methods | 1.55 | 0.07 | 1.61 | |
| mp_import_metaphlan | 3.20 | 0.01 | 3.25 | |
| mp_mantel-methods | 0.36 | 0.00 | 0.36 | |
| mp_mrpp-methods | 0.24 | 0.00 | 0.24 | |
| mp_plot_abundance-methods | 0 | 0 | 0 | |
| mp_plot_alpha-methods | 0 | 0 | 0 | |
| mp_plot_diff_boxplot-methods | 6.97 | 0.10 | 7.06 | |
| mp_plot_diff_cladogram | 0 | 0 | 0 | |
| mp_plot_diff_manhattan-methods | 4.43 | 0.07 | 4.53 | |
| mp_plot_dist-methods | 0 | 0 | 0 | |
| mp_plot_ord-methods | 0 | 0 | 0 | |
| mp_plot_rarecurve-methods | 0 | 0 | 0 | |
| mp_plot_upset-methods | 0 | 0 | 0 | |
| mp_plot_venn-methods | 0 | 0 | 0 | |
| mp_rrarefy-methods | 0.46 | 0.02 | 0.47 | |
| mp_select_as_tip-methods | 0.01 | 0.00 | 0.02 | |
| mp_stat_taxa-methods | 1.08 | 0.06 | 1.15 | |
| multi_compare | 0.02 | 0.00 | 0.02 | |
| read_qza | 0 | 0 | 0 | |
| show-methods | 0 | 0 | 0 | |
| split_data | 0.00 | 0.00 | 0.01 | |
| split_str_to_list | 0 | 0 | 0 | |
| theme_taxbar | 0 | 0 | 0 | |